BEGIN:VCALENDAR
VERSION:2.0
PRODID:-//VMCC Dorset Section - ECPv6.15.20//NONSGML v1.0//EN
CALSCALE:GREGORIAN
METHOD:PUBLISH
X-ORIGINAL-URL:https://dorsetvmcc.co.uk
X-WR-CALDESC:Events for VMCC Dorset Section
REFRESH-INTERVAL;VALUE=DURATION:PT1H
X-Robots-Tag:noindex
X-PUBLISHED-TTL:PT1H
BEGIN:VTIMEZONE
TZID:Europe/London
BEGIN:DAYLIGHT
TZOFFSETFROM:+0000
TZOFFSETTO:+0100
TZNAME:BST
DTSTART:20170326T010000
END:DAYLIGHT
BEGIN:STANDARD
TZOFFSETFROM:+0100
TZOFFSETTO:+0000
TZNAME:GMT
DTSTART:20171029T010000
END:STANDARD
BEGIN:DAYLIGHT
TZOFFSETFROM:+0000
TZOFFSETTO:+0100
TZNAME:BST
DTSTART:20180325T010000
END:DAYLIGHT
BEGIN:STANDARD
TZOFFSETFROM:+0100
TZOFFSETTO:+0000
TZNAME:GMT
DTSTART:20181028T010000
END:STANDARD
BEGIN:DAYLIGHT
TZOFFSETFROM:+0000
TZOFFSETTO:+0100
TZNAME:BST
DTSTART:20190331T010000
END:DAYLIGHT
BEGIN:STANDARD
TZOFFSETFROM:+0100
TZOFFSETTO:+0000
TZNAME:GMT
DTSTART:20191027T010000
END:STANDARD
END:VTIMEZONE
BEGIN:VEVENT
DTSTART;TZID=Europe/London:20181216T123000
DTEND;TZID=Europe/London:20181216T123000
DTSTAMP:20260423T174717
CREATED:20171018T193823Z
LAST-MODIFIED:20181017T192236Z
UID:1071-1544963400-1544963400@dorsetvmcc.co.uk
SUMMARY:Christmas Lunch
DESCRIPTION:Our Christmas Lunch takes place at Henstridge Golf and Leisure on Sunday 16th December 2018 12:30 for 13:00. If you would like to come\, please note the following. \n1. There is a maximum of 40 places\, so please book as soon as possible to avoid disappointment. \n2. Click on the image to the left to see the full menu\, or download the PDF version here. Note\, there is a 2 course or 3 course option with different prices.  Choose from the menu! \n3. To reserve one or more places\, please contact our Treasurer\, John Adams\, on 01963 251890 or at  jjads44@gmail.com.  When contacting John\, please let him know your menu choices. \n4. You must pay John by Sunday 18th November at the latest; the Club Quiz Night on the 14th November would be the best time. Cash or cheque payable to “VMCC Dorset Section” please.
URL:https://dorsetvmcc.co.uk/event/christmas-lunch/
LOCATION:Henstridge Golf and Leisure\, Henstridge Golf and Leisure\, Marsh Lane\, Henstridge\, BA8 0TG\, United Kingdom
CATEGORIES:Club Night
END:VEVENT
END:VCALENDAR