BEGIN:VCALENDAR
VERSION:2.0
PRODID:-//VMCC Dorset Section - ECPv6.15.20//NONSGML v1.0//EN
CALSCALE:GREGORIAN
METHOD:PUBLISH
X-WR-CALNAME:VMCC Dorset Section
X-ORIGINAL-URL:https://dorsetvmcc.co.uk
X-WR-CALDESC:Events for VMCC Dorset Section
REFRESH-INTERVAL;VALUE=DURATION:PT1H
X-Robots-Tag:noindex
X-PUBLISHED-TTL:PT1H
BEGIN:VTIMEZONE
TZID:Europe/London
BEGIN:DAYLIGHT
TZOFFSETFROM:+0000
TZOFFSETTO:+0100
TZNAME:BST
DTSTART:20180325T010000
END:DAYLIGHT
BEGIN:STANDARD
TZOFFSETFROM:+0100
TZOFFSETTO:+0000
TZNAME:GMT
DTSTART:20181028T010000
END:STANDARD
BEGIN:DAYLIGHT
TZOFFSETFROM:+0000
TZOFFSETTO:+0100
TZNAME:BST
DTSTART:20190331T010000
END:DAYLIGHT
BEGIN:STANDARD
TZOFFSETFROM:+0100
TZOFFSETTO:+0000
TZNAME:GMT
DTSTART:20191027T010000
END:STANDARD
BEGIN:DAYLIGHT
TZOFFSETFROM:+0000
TZOFFSETTO:+0100
TZNAME:BST
DTSTART:20200329T010000
END:DAYLIGHT
BEGIN:STANDARD
TZOFFSETFROM:+0100
TZOFFSETTO:+0000
TZNAME:GMT
DTSTART:20201025T010000
END:STANDARD
END:VTIMEZONE
BEGIN:VEVENT
DTSTART;TZID=Europe/London:20190206T120000
DTEND;TZID=Europe/London:20190206T130000
DTSTAMP:20260423T174441
CREATED:20171130T112835Z
LAST-MODIFIED:20181018T200631Z
UID:3223-1549454400-1549458000@dorsetvmcc.co.uk
SUMMARY:Lunch Meet
DESCRIPTION:
URL:https://dorsetvmcc.co.uk/event/lunch-meet-9-13-2/
LOCATION:Henstridge Golf and Leisure\, Henstridge Golf and Leisure\, Marsh Lane\, Henstridge\, BA8 0TG\, United Kingdom
CATEGORIES:Meet
ORGANIZER;CN="Paul Miles":MAILTO:pauledwinmiles@me.com
END:VEVENT
END:VCALENDAR