BEGIN:VCALENDAR
VERSION:2.0
PRODID:-//VMCC Dorset Section - ECPv6.15.20//NONSGML v1.0//EN
CALSCALE:GREGORIAN
METHOD:PUBLISH
X-ORIGINAL-URL:https://dorsetvmcc.co.uk
X-WR-CALDESC:Events for VMCC Dorset Section
REFRESH-INTERVAL;VALUE=DURATION:PT1H
X-Robots-Tag:noindex
X-PUBLISHED-TTL:PT1H
BEGIN:VTIMEZONE
TZID:Europe/London
BEGIN:DAYLIGHT
TZOFFSETFROM:+0000
TZOFFSETTO:+0100
TZNAME:BST
DTSTART:20250330T010000
END:DAYLIGHT
BEGIN:STANDARD
TZOFFSETFROM:+0100
TZOFFSETTO:+0000
TZNAME:GMT
DTSTART:20251026T010000
END:STANDARD
BEGIN:DAYLIGHT
TZOFFSETFROM:+0000
TZOFFSETTO:+0100
TZNAME:BST
DTSTART:20260329T010000
END:DAYLIGHT
BEGIN:STANDARD
TZOFFSETFROM:+0100
TZOFFSETTO:+0000
TZNAME:GMT
DTSTART:20261025T010000
END:STANDARD
BEGIN:DAYLIGHT
TZOFFSETFROM:+0000
TZOFFSETTO:+0100
TZNAME:BST
DTSTART:20270328T010000
END:DAYLIGHT
BEGIN:STANDARD
TZOFFSETFROM:+0100
TZOFFSETTO:+0000
TZNAME:GMT
DTSTART:20271031T010000
END:STANDARD
END:VTIMEZONE
BEGIN:VEVENT
DTSTART;TZID=Europe/London:20260412T110000
DTEND;TZID=Europe/London:20260412T170000
DTSTAMP:20260419T200134
CREATED:20251118T123725Z
LAST-MODIFIED:20260324T122924Z
UID:17370-1775991600-1776013200@dorsetvmcc.co.uk
SUMMARY:Blandford Run
DESCRIPTION:Phil has waded through loads of red tape and has eventually managed to organise our Blandford Run from where it has traditionally started from – The Corn Exchange. Instructions from Phil below. \nTea and coffee will be available in the Corn Exchange from 10am\, parking needs to be inside the barriers (posts) or you may get a ticket \nEnclosed is the route sheet\, the route is very interesting and on very minor roads\, there are a lot of pot holes etc \nI have booked the Fox Pub at Ansty for Sunday lunch\, l have told them around 15 for lunch so l could do with a note putting out to let people know that they need to let me know if they are stopping for lunch as l need to get back to them as Sunday is busy for the pub\, l will also have a sheet for this when signing on\, l think lunch is £18 for pork and £21 for beef \n                                                             Phil \nBLANDFORD RUN 12TH APRIL 2026
URL:https://dorsetvmcc.co.uk/event/blandford-run-7/
LOCATION:Corn Exchange\, Blandford Forum\,  DT11 7AG\, United Kingdom
CATEGORIES:Run
ORGANIZER;CN="Phil Allen":MAILTO:allenphill@hotmail.com
END:VEVENT
END:VCALENDAR