BEGIN:VCALENDAR
VERSION:2.0
PRODID:-//VMCC Dorset Section - ECPv6.15.20//NONSGML v1.0//EN
CALSCALE:GREGORIAN
METHOD:PUBLISH
X-ORIGINAL-URL:https://dorsetvmcc.co.uk
X-WR-CALDESC:Events for VMCC Dorset Section
REFRESH-INTERVAL;VALUE=DURATION:PT1H
X-Robots-Tag:noindex
X-PUBLISHED-TTL:PT1H
BEGIN:VTIMEZONE
TZID:Europe/London
BEGIN:DAYLIGHT
TZOFFSETFROM:+0000
TZOFFSETTO:+0100
TZNAME:BST
DTSTART:20250330T010000
END:DAYLIGHT
BEGIN:STANDARD
TZOFFSETFROM:+0100
TZOFFSETTO:+0000
TZNAME:GMT
DTSTART:20251026T010000
END:STANDARD
BEGIN:DAYLIGHT
TZOFFSETFROM:+0000
TZOFFSETTO:+0100
TZNAME:BST
DTSTART:20260329T010000
END:DAYLIGHT
BEGIN:STANDARD
TZOFFSETFROM:+0100
TZOFFSETTO:+0000
TZNAME:GMT
DTSTART:20261025T010000
END:STANDARD
BEGIN:DAYLIGHT
TZOFFSETFROM:+0000
TZOFFSETTO:+0100
TZNAME:BST
DTSTART:20270328T010000
END:DAYLIGHT
BEGIN:STANDARD
TZOFFSETFROM:+0100
TZOFFSETTO:+0000
TZNAME:GMT
DTSTART:20271031T010000
END:STANDARD
END:VTIMEZONE
BEGIN:VEVENT
DTSTART;TZID=Europe/London:20260524T103000
DTEND;TZID=Europe/London:20260524T170000
DTSTAMP:20260419T213441
CREATED:20251107T224628Z
LAST-MODIFIED:20260107T083420Z
UID:17203-1779618600-1779642000@dorsetvmcc.co.uk
SUMMARY:GIANTS 2026
DESCRIPTION:The GIANTS Run is back!  The VMCC Dorset Section’s runv for girder fork bikes. First held in 2019\, GIANTS 2026 will be better than ever but with a limit of 100 entries\, make your booking as soon as possible because those places will go quickly.  If you haven’t taken part in our GIANTS Run before\, here’s what you missed in 2019\,  2021\, 2022\, 2023\, 2024 and 2025. \n\nShort route (approx. 35 miles)\, Long route (approx. 65 miles)\nSaturday late afternoon short run\, evening meal and overnight camping\nSunday morning breakfast available\nSunday main run and lunch\nAnd much more!   All the details can be found in this information sheet\, please make sure you read it.\n\nPlease: If you make a mistake in your booking\, do not make a second booking!  Instead\, email us at events@dorsetvmcc.co.uk \nBook Your Place!\n 
URL:https://dorsetvmcc.co.uk/event/giants-2026/
LOCATION:Spire Hill Farm\, Spire Hill Farm/Thornhill\, Sturminster Newton\, DT10 2SG\, United Kingdom
CATEGORIES:Run
ATTACH;FMTTYPE=image/jpeg:https://dorsetvmcc.co.uk/wp/wp-content/uploads/2025/05/VMCC-Dorset-Section-GIANTS-Run-2025-Paul-Skinner-7-scaled-e1764186009564.jpg
ORGANIZER;CN="Paul Miles":MAILTO:pauledwinmiles@me.com
END:VEVENT
END:VCALENDAR