BEGIN:VCALENDAR
VERSION:2.0
PRODID:-//VMCC Dorset Section - ECPv6.15.20//NONSGML v1.0//EN
CALSCALE:GREGORIAN
METHOD:PUBLISH
X-WR-CALNAME:VMCC Dorset Section
X-ORIGINAL-URL:https://dorsetvmcc.co.uk
X-WR-CALDESC:Events for VMCC Dorset Section
REFRESH-INTERVAL;VALUE=DURATION:PT1H
X-Robots-Tag:noindex
X-PUBLISHED-TTL:PT1H
BEGIN:VTIMEZONE
TZID:Europe/London
BEGIN:DAYLIGHT
TZOFFSETFROM:+0000
TZOFFSETTO:+0100
TZNAME:BST
DTSTART:20250330T010000
END:DAYLIGHT
BEGIN:STANDARD
TZOFFSETFROM:+0100
TZOFFSETTO:+0000
TZNAME:GMT
DTSTART:20251026T010000
END:STANDARD
BEGIN:DAYLIGHT
TZOFFSETFROM:+0000
TZOFFSETTO:+0100
TZNAME:BST
DTSTART:20260329T010000
END:DAYLIGHT
BEGIN:STANDARD
TZOFFSETFROM:+0100
TZOFFSETTO:+0000
TZNAME:GMT
DTSTART:20261025T010000
END:STANDARD
BEGIN:DAYLIGHT
TZOFFSETFROM:+0000
TZOFFSETTO:+0100
TZNAME:BST
DTSTART:20270328T010000
END:DAYLIGHT
BEGIN:STANDARD
TZOFFSETFROM:+0100
TZOFFSETTO:+0000
TZNAME:GMT
DTSTART:20271031T010000
END:STANDARD
END:VTIMEZONE
BEGIN:VEVENT
DTSTART;TZID=Europe/London:20260705T110000
DTEND;TZID=Europe/London:20260705T170000
DTSTAMP:20260419T231101
CREATED:20251118T125414Z
LAST-MODIFIED:20260418T060339Z
UID:17388-1783249200-1783270800@dorsetvmcc.co.uk
SUMMARY:Shaston Circle Run
DESCRIPTION:A new run and a new organiser\, many thanks to Mike Stovold for stepping in to cover for Ryan. Shows he’s an educated sort of guy\, apparently Shaston is what Thomas Hardy called Shaftesbury. \nWe will start from a new location The Writers Block Cafe\, Clayesmore School\, Iwerne Minster\, DT11 8LL at 11.00. \nThe run will be about 50 miles with an optional stop after 40 miles at The Old Brewery\, Gillingham\, SP8 4NW and finish at The Talbot Inn\, Iwerne Minster\, DT11 8QN. You will need to book if you wish to have lunch at the pub\, more details to follow.
URL:https://dorsetvmcc.co.uk/event/young-ryans-express-4/
LOCATION:The Writer Block Café\, Clayesmore School\, Iwerne Minister\, DT11 8LL\, United Kingdom
CATEGORIES:Run
ORGANIZER;CN="Mike Stovold":MAILTO:mikestovold@hotmail.co.uk
END:VEVENT
END:VCALENDAR