BEGIN:VCALENDAR
VERSION:2.0
PRODID:-//VMCC Dorset Section - ECPv6.15.20//NONSGML v1.0//EN
CALSCALE:GREGORIAN
METHOD:PUBLISH
X-WR-CALNAME:VMCC Dorset Section
X-ORIGINAL-URL:https://dorsetvmcc.co.uk
X-WR-CALDESC:Events for VMCC Dorset Section
REFRESH-INTERVAL;VALUE=DURATION:PT1H
X-Robots-Tag:noindex
X-PUBLISHED-TTL:PT1H
BEGIN:VTIMEZONE
TZID:Europe/London
BEGIN:DAYLIGHT
TZOFFSETFROM:+0000
TZOFFSETTO:+0100
TZNAME:BST
DTSTART:20250330T010000
END:DAYLIGHT
BEGIN:STANDARD
TZOFFSETFROM:+0100
TZOFFSETTO:+0000
TZNAME:GMT
DTSTART:20251026T010000
END:STANDARD
BEGIN:DAYLIGHT
TZOFFSETFROM:+0000
TZOFFSETTO:+0100
TZNAME:BST
DTSTART:20260329T010000
END:DAYLIGHT
BEGIN:STANDARD
TZOFFSETFROM:+0100
TZOFFSETTO:+0000
TZNAME:GMT
DTSTART:20261025T010000
END:STANDARD
BEGIN:DAYLIGHT
TZOFFSETFROM:+0000
TZOFFSETTO:+0100
TZNAME:BST
DTSTART:20270328T010000
END:DAYLIGHT
BEGIN:STANDARD
TZOFFSETFROM:+0100
TZOFFSETTO:+0000
TZNAME:GMT
DTSTART:20271031T010000
END:STANDARD
END:VTIMEZONE
BEGIN:VEVENT
DTSTART;TZID=Europe/London:20260423T120000
DTEND;TZID=Europe/London:20260423T143000
DTSTAMP:20260421T094029
CREATED:20251118T165055Z
LAST-MODIFIED:20260329T094410Z
UID:17408-1776945600-1776954600@dorsetvmcc.co.uk
SUMMARY:Club Lunch
DESCRIPTION:Our April Club Lunch will be held at Sherborne Golf Club\, Higher Clatcombe\, Sherborne\, DT9 4RN. Don’t worry you haven’t missed something – it’s not our Christmas lunch and turkey is not on the menu! \nPlease let me know if you want lunch together with your choices from the menu below. \nMains \nBeef Lasagne with salad and garlic bread £10.95 \nChicken Tikka masala with rice\, naan bread and mango chutney £9.95 \nSalmon fishcakes with chips\, peas and tartar sauce £9.95 \nSteak and ale pie with mash potatoes and vegetables £10.95 \nVegetable lasagne with salad and garlic bread £9.95 \nDesserts \nTarte au citron \nChocolate brownie \nEton Mess \nAll desserts at £5.95
URL:https://dorsetvmcc.co.uk/event/club-lunch-4/
CATEGORIES:Meet
ORGANIZER;CN="Paul Miles":MAILTO:pauledwinmiles@me.com
END:VEVENT
BEGIN:VEVENT
DTSTART;TZID=Europe/London:20260509T100000
DTEND;TZID=Europe/London:20260509T120000
DTSTAMP:20260421T094029
CREATED:20251118T115721Z
LAST-MODIFIED:20251118T120519Z
UID:17328-1778320800-1778328000@dorsetvmcc.co.uk
SUMMARY:Breakfast Meeting
DESCRIPTION:Our monthly breakfast meeting at The Old Brewery\, Gillingham. Come by bike\, car or anything.
URL:https://dorsetvmcc.co.uk/event/breakfast-meeting-5/
LOCATION:The Old Brewery Café (formerly Moto Corsa)\, The Old Brewery Wyke Road\, Gillingham\, SP8 4NW\, United Kingdom
CATEGORIES:Meet
END:VEVENT
BEGIN:VEVENT
DTSTART;TZID=Europe/London:20260514T120000
DTEND;TZID=Europe/London:20260514T140000
DTSTAMP:20260421T094029
CREATED:20251118T165208Z
LAST-MODIFIED:20260413T093446Z
UID:17410-1778760000-1778767200@dorsetvmcc.co.uk
SUMMARY:Club Lunch
DESCRIPTION:This month our Club Lunch will be at No23 Coffee Shop\, Henstridge Airfield. We will be meeting up with riders on South Dorset Section’s Weymouth Week who will also be having their lunch stop at Henstridge. \nWe will pass on the 80th Anniversary Baton to South Dorset for it to continue it’s journey around the South West Region.
URL:https://dorsetvmcc.co.uk/event/club-lunch-5/
LOCATION:No23 Coffee Shop\, No23 Coffee Shop\, Henstridge Airfield\, BA8 0TN\, United Kingdom
CATEGORIES:Meet
ORGANIZER;CN="Bernard Jones":MAILTO:biker.bernard998@btinternet.com
END:VEVENT
BEGIN:VEVENT
DTSTART;TZID=Europe/London:20260620T100000
DTEND;TZID=Europe/London:20260620T120000
DTSTAMP:20260421T094029
CREATED:20251118T115847Z
LAST-MODIFIED:20251118T120457Z
UID:17330-1781949600-1781956800@dorsetvmcc.co.uk
SUMMARY:Breakfast Meeting
DESCRIPTION:Our monthly breakfast meeting at The Old Brewery\, Gillingham. Come by bike\, car or anything.
URL:https://dorsetvmcc.co.uk/event/breakfast-meeting-6/
LOCATION:The Old Brewery Café (formerly Moto Corsa)\, The Old Brewery Wyke Road\, Gillingham\, SP8 4NW\, United Kingdom
CATEGORIES:Meet
END:VEVENT
BEGIN:VEVENT
DTSTART;TZID=Europe/London:20260624T120000
DTEND;TZID=Europe/London:20260624T140000
DTSTAMP:20260421T094029
CREATED:20251118T165438Z
LAST-MODIFIED:20260314T194541Z
UID:17412-1782302400-1782309600@dorsetvmcc.co.uk
SUMMARY:Club Lunch
DESCRIPTION:This months Club Lunch will be held at The Fontmell\, Crown Hill\, Fontmell Magna\, Shaftesbury\, SP7 0PA. You will need to book for this lunch and choose your food\, menu will be circulated nearer the time.
URL:https://dorsetvmcc.co.uk/event/club-lunch-6/
CATEGORIES:Meet
END:VEVENT
BEGIN:VEVENT
DTSTART;TZID=Europe/London:20260718T100000
DTEND;TZID=Europe/London:20260718T120000
DTSTAMP:20260421T094029
CREATED:20251118T115950Z
LAST-MODIFIED:20251118T120408Z
UID:17332-1784368800-1784376000@dorsetvmcc.co.uk
SUMMARY:Breakfast Meeting
DESCRIPTION:Our monthly breakfast meeting at The Old Brewery\, Gillingham. Come by bike\, car or anything.
URL:https://dorsetvmcc.co.uk/event/breakfast-meeting-7/
LOCATION:The Old Brewery Café (formerly Moto Corsa)\, The Old Brewery Wyke Road\, Gillingham\, SP8 4NW\, United Kingdom
CATEGORIES:Meet
END:VEVENT
BEGIN:VEVENT
DTSTART;TZID=Europe/London:20260723T120000
DTEND;TZID=Europe/London:20260723T140000
DTSTAMP:20260421T094029
CREATED:20251118T165602Z
LAST-MODIFIED:20251118T165602Z
UID:17414-1784808000-1784815200@dorsetvmcc.co.uk
SUMMARY:Club Lunch
DESCRIPTION:A new idea for 2026. We will be holding monthly lunch meetings at various venues on different days of the week. The idea being that if you have another commitment on a particular day you should be able to make some of the meetings. Venues have yet to be decided – watch this space!
URL:https://dorsetvmcc.co.uk/event/club-lunch-7/
CATEGORIES:Meet
END:VEVENT
BEGIN:VEVENT
DTSTART;TZID=Europe/London:20260812T120000
DTEND;TZID=Europe/London:20260812T140000
DTSTAMP:20260421T094029
CREATED:20251118T165727Z
LAST-MODIFIED:20251118T165727Z
UID:17416-1786536000-1786543200@dorsetvmcc.co.uk
SUMMARY:Club Lunch
DESCRIPTION:A new idea for 2026. We will be holding monthly lunch meetings at various venues on different days of the week. The idea being that if you have another commitment on a particular day you should be able to make some of the meetings. Venues have yet to be decided – watch this space!
URL:https://dorsetvmcc.co.uk/event/club-lunch-8/
CATEGORIES:Meet
ORGANIZER;CN="Nick Hoare":MAILTO:nick@mhbx.co.uk
END:VEVENT
BEGIN:VEVENT
DTSTART;TZID=Europe/London:20260822T100000
DTEND;TZID=Europe/London:20260822T120000
DTSTAMP:20260421T094029
CREATED:20251118T120050Z
LAST-MODIFIED:20251118T120331Z
UID:17334-1787392800-1787400000@dorsetvmcc.co.uk
SUMMARY:Breakfast Meeting
DESCRIPTION:Our monthly breakfast meeting at The Old Brewery\, Gillingham. Come by bike\, car or anything.
URL:https://dorsetvmcc.co.uk/event/breakfast-meeting-8/
LOCATION:The Old Brewery Café (formerly Moto Corsa)\, The Old Brewery Wyke Road\, Gillingham\, SP8 4NW\, United Kingdom
CATEGORIES:Meet
END:VEVENT
BEGIN:VEVENT
DTSTART;TZID=Europe/London:20260911T120000
DTEND;TZID=Europe/London:20260911T140000
DTSTAMP:20260421T094029
CREATED:20251118T165829Z
LAST-MODIFIED:20260413T093720Z
UID:17418-1789128000-1789135200@dorsetvmcc.co.uk
SUMMARY:Club Lunch
DESCRIPTION:A new idea for 2026. We will be holding monthly lunch meetings at various venues on different days of the week. The idea being that if you have another commitment on a particular day you should be able to make some of the meetings. Venues have yet to be decided – watch this space!
URL:https://dorsetvmcc.co.uk/event/club-lunch-9/
CATEGORIES:Meet
END:VEVENT
BEGIN:VEVENT
DTSTART;TZID=Europe/London:20260919T100000
DTEND;TZID=Europe/London:20260919T120000
DTSTAMP:20260421T094029
CREATED:20251118T120205Z
LAST-MODIFIED:20251118T120205Z
UID:17336-1789812000-1789819200@dorsetvmcc.co.uk
SUMMARY:Breakfast Meeting
DESCRIPTION:Our monthly breakfast meeting at The Old Brewery\, Gillingham. Come by bike\, car or anything.
URL:https://dorsetvmcc.co.uk/event/breakfast-meeting-9/
LOCATION:The Old Brewery Café (formerly Moto Corsa)\, The Old Brewery Wyke Road\, Gillingham\, SP8 4NW\, United Kingdom
CATEGORIES:Meet
END:VEVENT
BEGIN:VEVENT
DTSTART;TZID=Europe/London:20261017T100000
DTEND;TZID=Europe/London:20261017T120000
DTSTAMP:20260421T094029
CREATED:20251118T120749Z
LAST-MODIFIED:20251118T120749Z
UID:17340-1792231200-1792238400@dorsetvmcc.co.uk
SUMMARY:Breakfast Meeting
DESCRIPTION:Our monthly breakfast meeting at The Old Brewery\, Gillingham. Come by bike\, car or anything.
URL:https://dorsetvmcc.co.uk/event/breakfast-meeting-10/
LOCATION:The Old Brewery Café (formerly Moto Corsa)\, The Old Brewery Wyke Road\, Gillingham\, SP8 4NW\, United Kingdom
CATEGORIES:Meet
END:VEVENT
BEGIN:VEVENT
DTSTART;TZID=Europe/London:20261026T080000
DTEND;TZID=Europe/London:20261026T170000
DTSTAMP:20260421T094029
CREATED:20251118T165947Z
LAST-MODIFIED:20260413T093802Z
UID:17420-1793001600-1793034000@dorsetvmcc.co.uk
SUMMARY:Club Lunch
DESCRIPTION:A new idea for 2026. We will be holding monthly lunch meetings at various venues on different days of the week. The idea being that if you have another commitment on a particular day you should be able to make some of the meetings. Venues have yet to be decided – watch this space!
URL:https://dorsetvmcc.co.uk/event/club-lunch-10/
CATEGORIES:Meet
ORGANIZER;CN="Bernard Jones":MAILTO:biker.bernard998@btinternet.com
END:VEVENT
BEGIN:VEVENT
DTSTART;TZID=Europe/London:20261121T100000
DTEND;TZID=Europe/London:20261121T120000
DTSTAMP:20260421T094029
CREATED:20251118T120852Z
LAST-MODIFIED:20251118T120852Z
UID:17342-1795255200-1795262400@dorsetvmcc.co.uk
SUMMARY:Breakfast Meeting
DESCRIPTION:Our monthly breakfast meeting at The Old Brewery\, Gillingham. Come by bike\, car or anything.
URL:https://dorsetvmcc.co.uk/event/breakfast-meeting-11/
LOCATION:The Old Brewery Café (formerly Moto Corsa)\, The Old Brewery Wyke Road\, Gillingham\, SP8 4NW\, United Kingdom
CATEGORIES:Meet
END:VEVENT
BEGIN:VEVENT
DTSTART;TZID=Europe/London:20261126T120000
DTEND;TZID=Europe/London:20261126T140000
DTSTAMP:20260421T094029
CREATED:20251118T170056Z
LAST-MODIFIED:20260413T093844Z
UID:17422-1795694400-1795701600@dorsetvmcc.co.uk
SUMMARY:Club Lunch
DESCRIPTION:A new idea for 2026. We will be holding monthly lunch meetings at various venues on different days of the week. The idea being that if you have another commitment on a particular day you should be able to make some of the meetings. Venues have yet to be decided – watch this space!
URL:https://dorsetvmcc.co.uk/event/club-lunch-11/
CATEGORIES:Meet
END:VEVENT
BEGIN:VEVENT
DTSTART;TZID=Europe/London:20261219T100000
DTEND;TZID=Europe/London:20261219T120000
DTSTAMP:20260421T094029
CREATED:20251118T121007Z
LAST-MODIFIED:20251118T121007Z
UID:17344-1797674400-1797681600@dorsetvmcc.co.uk
SUMMARY:Breakfast Meeting
DESCRIPTION:Our monthly breakfast meeting at The Old Brewery\, Gillingham. Come by bike\, car or anything.
URL:https://dorsetvmcc.co.uk/event/breakfast-meeting-12/
LOCATION:The Old Brewery Café (formerly Moto Corsa)\, The Old Brewery Wyke Road\, Gillingham\, SP8 4NW\, United Kingdom
CATEGORIES:Meet
END:VEVENT
END:VCALENDAR