BEGIN:VCALENDAR
VERSION:2.0
PRODID:-//VMCC Dorset Section - ECPv6.15.20//NONSGML v1.0//EN
CALSCALE:GREGORIAN
METHOD:PUBLISH
X-WR-CALNAME:VMCC Dorset Section
X-ORIGINAL-URL:https://dorsetvmcc.co.uk
X-WR-CALDESC:Events for VMCC Dorset Section
REFRESH-INTERVAL;VALUE=DURATION:PT1H
X-Robots-Tag:noindex
X-PUBLISHED-TTL:PT1H
BEGIN:VTIMEZONE
TZID:Europe/London
BEGIN:DAYLIGHT
TZOFFSETFROM:+0000
TZOFFSETTO:+0100
TZNAME:BST
DTSTART:20240331T010000
END:DAYLIGHT
BEGIN:STANDARD
TZOFFSETFROM:+0100
TZOFFSETTO:+0000
TZNAME:GMT
DTSTART:20241027T010000
END:STANDARD
BEGIN:DAYLIGHT
TZOFFSETFROM:+0000
TZOFFSETTO:+0100
TZNAME:BST
DTSTART:20250330T010000
END:DAYLIGHT
BEGIN:STANDARD
TZOFFSETFROM:+0100
TZOFFSETTO:+0000
TZNAME:GMT
DTSTART:20251026T010000
END:STANDARD
BEGIN:DAYLIGHT
TZOFFSETFROM:+0000
TZOFFSETTO:+0100
TZNAME:BST
DTSTART:20260329T010000
END:DAYLIGHT
BEGIN:STANDARD
TZOFFSETFROM:+0100
TZOFFSETTO:+0000
TZNAME:GMT
DTSTART:20261025T010000
END:STANDARD
END:VTIMEZONE
BEGIN:VEVENT
DTSTART;TZID=Europe/London:20250108T120000
DTEND;TZID=Europe/London:20250108T140000
DTSTAMP:20260420T192035
CREATED:20241112T105359Z
LAST-MODIFIED:20241228T122200Z
UID:14355-1736337600-1736344800@dorsetvmcc.co.uk
SUMMARY:Club Lunch Meeting
DESCRIPTION:We kick off 2025 with a trial lunchtime Club Meeting. If you want to have lunch please come early as we have a speaker arranged for 1.00pm. Our speaker is Simon Chegwyn\, an adventure motorcyclist who has done many epic journeys in order to raise funds for his chosen charity – Asha. The charity provides suport for refugees around the world.
URL:https://dorsetvmcc.co.uk/event/club-lunch-meeting/
LOCATION:Halsey Arms\, Pulham\, DT2 7DZ\, United Kingdom
CATEGORIES:Meet
END:VEVENT
BEGIN:VEVENT
DTSTART;TZID=Europe/London:20250112T110000
DTEND;TZID=Europe/London:20250112T170000
DTSTAMP:20260420T192035
CREATED:20241112T105120Z
LAST-MODIFIED:20241112T105120Z
UID:14357-1736679600-1736701200@dorsetvmcc.co.uk
SUMMARY:Winter Run
DESCRIPTION:Club run suitable for all bikes
URL:https://dorsetvmcc.co.uk/event/winter-run-6/
LOCATION:Udder Farm Shop\, Udder Farm Shop. Manor Farm\, Front St\,\, East Stour\,\, SP8 5LQ\, United Kingdom
CATEGORIES:Run
ORGANIZER;CN="Bernard Jones":MAILTO:biker.bernard998@btinternet.com
END:VEVENT
BEGIN:VEVENT
DTSTART;TZID=Europe/London:20250118T100000
DTEND;TZID=Europe/London:20250118T170000
DTSTAMP:20260420T192035
CREATED:20241114T143332Z
LAST-MODIFIED:20241114T143332Z
UID:14447-1737194400-1737219600@dorsetvmcc.co.uk
SUMMARY:Breakfast Meet
DESCRIPTION:Come by bike\, car\, bike or foot to enjoy breakfast with Dorset Section
URL:https://dorsetvmcc.co.uk/event/breakfast-meet-18/
LOCATION:The Old Brewery Café (formerly Moto Corsa)\, The Old Brewery Wyke Road\, Gillingham\, SP8 4NW\, United Kingdom
CATEGORIES:Meet
END:VEVENT
BEGIN:VEVENT
DTSTART;TZID=Europe/London:20250209T110000
DTEND;TZID=Europe/London:20250209T170000
DTSTAMP:20260420T192035
CREATED:20241112T105316Z
LAST-MODIFIED:20250203T180956Z
UID:14359-1739098800-1739120400@dorsetvmcc.co.uk
SUMMARY:Valentine Day Run
DESCRIPTION:Club run of approx 40 miles suitable for all bikes. Route follows more major roads to avoid the slippery minor roads. We will start at Teals on the A303 at South Cadbury and finish at The Virginia Ash\, Henstridge. \nIf you don’t want to ride then join us for lunch\, we should be at The Ash at about 12.30. \nGPX file for Sat Nav users —> download here
URL:https://dorsetvmcc.co.uk/event/valentine-day-run-2/
LOCATION:Teals\, Teals\, 1 Orchard Lane\, South Cadbury\, BA22 7FS\, United Kingdom
CATEGORIES:Run
END:VEVENT
BEGIN:VEVENT
DTSTART;TZID=Europe/London:20250212T120000
DTEND;TZID=Europe/London:20250212T140000
DTSTAMP:20260420T192035
CREATED:20241112T105655Z
LAST-MODIFIED:20250112T114543Z
UID:14361-1739361600-1739368800@dorsetvmcc.co.uk
SUMMARY:Club Lunch Meeting
DESCRIPTION:Trial lunch time Club meeting if you would like to eat please arrive at about 11.45 so that the speaker can start at 13.00. \nOur speaker is Dr Henry Goodall from Friends of New Forest Airfields who will give us a presentation on the airfields operating in area during WW2. Should be very interesting\, we’ve even got the projector screen working again so hopefully no problems this time!
URL:https://dorsetvmcc.co.uk/event/club-lunch-meeting-2/
LOCATION:Halsey Arms\, Pulham\, DT2 7DZ\, United Kingdom
CATEGORIES:Meet
END:VEVENT
BEGIN:VEVENT
DTSTART;TZID=Europe/London:20250215T100000
DTEND;TZID=Europe/London:20250215T170000
DTSTAMP:20260420T192035
CREATED:20241114T143449Z
LAST-MODIFIED:20241114T143449Z
UID:14449-1739613600-1739638800@dorsetvmcc.co.uk
SUMMARY:Breakfast Meet
DESCRIPTION:Come by bike\, car\, bike or foot to enjoy breakfast with Dorset Section
URL:https://dorsetvmcc.co.uk/event/breakfast-meet-19/
LOCATION:The Old Brewery Café (formerly Moto Corsa)\, The Old Brewery Wyke Road\, Gillingham\, SP8 4NW\, United Kingdom
CATEGORIES:Meet
END:VEVENT
BEGIN:VEVENT
DTSTART;TZID=Europe/London:20250222T100000
DTEND;TZID=Europe/London:20250223T160000
DTSTAMP:20260420T192035
CREATED:20241112T105954Z
LAST-MODIFIED:20241112T105954Z
UID:14363-1740218400-1740326400@dorsetvmcc.co.uk
SUMMARY:Bristol Classic Motorcycle Show
DESCRIPTION:Dorset Section will have a stand at the show. Drop by for a chat and tea and cake\, all proceeds going to charity.
URL:https://dorsetvmcc.co.uk/event/bristol-classic-motorcycle-show-2/
LOCATION:Royal Bath and West Showground\, Shepton Mallet\, BA4 6QN\, United Kingdom
CATEGORIES:Show
END:VEVENT
BEGIN:VEVENT
DTSTART;TZID=Europe/London:20250301T110000
DTEND;TZID=Europe/London:20250301T170000
DTSTAMP:20260420T192035
CREATED:20241112T110138Z
LAST-MODIFIED:20250226T110506Z
UID:14365-1740826800-1740848400@dorsetvmcc.co.uk
SUMMARY:March Hare Run
DESCRIPTION:A new run for this year\, Bernard has abandoned his beloved Greasy Spoon at Nunny and is taking us to a more genteel establishment. Start at Lo’s Cafe\, Pimperne\, DT11 8XA\, 30 miles to The Ginger Piggery\, Boyton\, BA12 0SS then return of 35 miles to Lo’s Cafe. Mainly B and unclassified roads suitable for all bikes. \nGPX Files for Sat Nav lovers —>   Outward   Return
URL:https://dorsetvmcc.co.uk/event/march-hare-run-5/
LOCATION:LO’s Coffee Shop\, R Lukins Fitness\, Stud Farm\, Pimperne\, Blandford Forum\, Dorset\, DT11 8XA\, United Kingdom
CATEGORIES:Run
ORGANIZER;CN="Bernard Jones":MAILTO:biker.bernard998@btinternet.com
END:VEVENT
BEGIN:VEVENT
DTSTART;TZID=Europe/London:20250312T200000
DTEND;TZID=Europe/London:20250312T223000
DTSTAMP:20260420T192035
CREATED:20241112T110328Z
LAST-MODIFIED:20250112T115018Z
UID:14367-1741809600-1741818600@dorsetvmcc.co.uk
SUMMARY:Club Night - Speaker
DESCRIPTION:Back to an evening mneeting this month 7.30 for 8.00. \nOur speaker will be Sarah Banister who races a sidecar unit at speeds of up to 150 MPH! She will be bringing her outfit to the meeting but because it is not possible to get it into the Halsey we will have to view it outside\, weather permitting\, so bring a coat!
URL:https://dorsetvmcc.co.uk/event/club-night-8/
LOCATION:Halsey Arms\, Pulham\, DT2 7DZ\, United Kingdom
CATEGORIES:Club Night
END:VEVENT
BEGIN:VEVENT
DTSTART;TZID=Europe/London:20250316T110000
DTEND;TZID=Europe/London:20250316T170000
DTSTAMP:20260420T192035
CREATED:20241112T110523Z
LAST-MODIFIED:20250309T223926Z
UID:14369-1742122800-1742144400@dorsetvmcc.co.uk
SUMMARY:Spring Run
DESCRIPTION:Spring run will be 40 miles there and 40 miles back from The Trading Post at Warden Hill\, DT2 9PW stopping at Dunkerswell Aviator Coffee Bar and Restaurant\, Dunkerswell Airfield\, EX14 4LG\nClub run suitable for all bikes on A\, B and unclassified roads. \nThe twist is that the route will be run ‘backwards’ to previous years\, what could possibly go wrong? \nGPX Files for Sat Nav lovers —>      Outward      Return
URL:https://dorsetvmcc.co.uk/event/spring-run-5/
LOCATION:Wardon Hill Trading Post\, Wardon Hill Trading Post\, Dorchester\, DT2 9PW\, United Kingdom
CATEGORIES:Run
ORGANIZER;CN="Bernard Jones":MAILTO:biker.bernard998@btinternet.com
END:VEVENT
BEGIN:VEVENT
DTSTART;TZID=Europe/London:20250322T100000
DTEND;TZID=Europe/London:20250322T170000
DTSTAMP:20260420T192035
CREATED:20241114T143606Z
LAST-MODIFIED:20241114T143606Z
UID:14451-1742637600-1742662800@dorsetvmcc.co.uk
SUMMARY:Breakfast Meet
DESCRIPTION:Come by bike\, car\, bike or foot to enjoy breakfast with Dorset Section
URL:https://dorsetvmcc.co.uk/event/breakfast-meet-20/
LOCATION:The Old Brewery Café (formerly Moto Corsa)\, The Old Brewery Wyke Road\, Gillingham\, SP8 4NW\, United Kingdom
CATEGORIES:Meet
END:VEVENT
BEGIN:VEVENT
DTSTART;TZID=Europe/London:20250406T110000
DTEND;TZID=Europe/London:20250406T170000
DTSTAMP:20260420T192035
CREATED:20241112T110738Z
LAST-MODIFIED:20250329T152108Z
UID:14371-1743937200-1743958800@dorsetvmcc.co.uk
SUMMARY:Blandford Run
DESCRIPTION:The run will start from Lo’s Cafe at 11.00 for a 33 mile run to East Creech Tea Rooms. It is then 26 miles to return to Lo’s. A run of 60 miles run suitable for all bikes. \nGPX Files for SatNav lovers (updated 27th March 2025!) : Outward   Return
URL:https://dorsetvmcc.co.uk/event/blandford-run-6/
LOCATION:LO’s Coffee Shop\, R Lukins Fitness\, Stud Farm\, Pimperne\, Blandford Forum\, Dorset\, DT11 8XA\, United Kingdom
CATEGORIES:Run
ORGANIZER;CN="Phil Allen":MAILTO:allenphill@hotmail.com
END:VEVENT
BEGIN:VEVENT
DTSTART;TZID=Europe/London:20250409T200000
DTEND;TZID=Europe/London:20250409T223000
DTSTAMP:20260420T192035
CREATED:20241112T110930Z
LAST-MODIFIED:20250112T115505Z
UID:14373-1744228800-1744237800@dorsetvmcc.co.uk
SUMMARY:Club Night - Speaker
DESCRIPTION:Tonights speaker will be a tall Laverda rider\, no not me the other one\, Simon Barker  will give a talk on his working experiences on a range of machinary from Honda 50’s to Concorde. \n 
URL:https://dorsetvmcc.co.uk/event/club-night-9/
LOCATION:Halsey Arms\, Pulham\, DT2 7DZ\, United Kingdom
CATEGORIES:Club Night
END:VEVENT
BEGIN:VEVENT
DTSTART;TZID=Europe/London:20250412T100000
DTEND;TZID=Europe/London:20250412T170000
DTSTAMP:20260420T192035
CREATED:20241114T143719Z
LAST-MODIFIED:20241114T143719Z
UID:14453-1744452000-1744477200@dorsetvmcc.co.uk
SUMMARY:Breakfast Meet
DESCRIPTION:Come by bike\, car\, bike or foot to enjoy breakfast with Dorset Section
URL:https://dorsetvmcc.co.uk/event/breakfast-meet-21/
LOCATION:The Old Brewery Café (formerly Moto Corsa)\, The Old Brewery Wyke Road\, Gillingham\, SP8 4NW\, United Kingdom
CATEGORIES:Meet
END:VEVENT
BEGIN:VEVENT
DTSTART;TZID=Europe/London:20250418T110000
DTEND;TZID=Europe/London:20250418T170000
DTSTAMP:20260420T192035
CREATED:20241112T111207Z
LAST-MODIFIED:20250325T085510Z
UID:14375-1744974000-1744995600@dorsetvmcc.co.uk
SUMMARY:Hot X Bun Run
DESCRIPTION:Note: this run is on Good Friday  \nOur Hot Cross Bun Run starts of with…hot cross buns of course\, served up by Philippa Wirdnam and her friend Rachel\, together with a choice of tea or coffee.  So come along to the start at Okeford Fitzpaine Recreation Ground where you’ll find the pavilion open for signing-on\, toilets etc. \nThe run starts at the usual time of 11:00am\, but get there earlier to sign-on and even earlier if you’d like teas\, coffees and those delicious buns — they’re available from 10am.  Please add a donation to the pot. \nOnce you’re back on your bike at 11\, the outward journey is a 40 mile run to Aunt Fanny’s Farm Shop & Café near Wimborne.  The return route back to the start is 18 miles. \nGPX files for SatNav users:\nBy downloading and using these GPX files on the run\, you agree to also picking up a Route Sheet that contains pertinent safety information on this run. Route Sheets are available at Signing On. \nClick to download the GPX files (last updated : 25th March 2025) —> Outward   Return
URL:https://dorsetvmcc.co.uk/event/hot-x-bun-run-4/
LOCATION:Recreation Ground\, Okeford Fitzpaine\, Castle Lane\, Okeford Fitzpaine\, DT11 0RL\, United Kingdom
CATEGORIES:Run
ATTACH;FMTTYPE=image/jpeg:https://dorsetvmcc.co.uk/wp/wp-content/uploads/2021/11/Hot-Cross-Buns-e1742890431452.jpg
ORGANIZER;CN="Paul Wirdnam":MAILTO:secretary@dorsetvmcc.co.uk
END:VEVENT
BEGIN:VEVENT
DTSTART;TZID=Europe/London:20250426T110000
DTEND;TZID=Europe/London:20250426T170000
DTSTAMP:20260420T192035
CREATED:20241112T111435Z
LAST-MODIFIED:20250420T203524Z
UID:14377-1745665200-1745686800@dorsetvmcc.co.uk
SUMMARY:Bluebell Run - Change of Start Location
DESCRIPTION:NOTE CHANGE OF START : Run will start from Lo’s Cafe\, Pimperne\, DT11 8XA NOT as previously listed. \nWe will ride 42 miles to Round Chimneys\, Glanvilles Wooton\, DT9 5QQ and then return 16 miles to Lo’s Cafe. Club run suitable for all bikes\, may even see some Bluebells!  [AI Bot edit: don’t be daft\, this is a run organised by Ken…he’s never found the bluebells in previous years\, why should this year be any different? ] \nBy downloading and using these GPX files on the run\, you agree to also picking up a Route Sheet that contains pertinent safety information on this run. Route Sheets are available at Signing On. \nClick to download GPX file (last updated: 20-Apr-2025) —> Bluebell Run 2025 Outward\nClick to download GPX file (last updated: 20-Apr-2025) —> Bluebell Run 2025 Return
URL:https://dorsetvmcc.co.uk/event/bluebell-run-6/
LOCATION:LO’s Coffee Shop\, R Lukins Fitness\, Stud Farm\, Pimperne\, Blandford Forum\, Dorset\, DT11 8XA\, United Kingdom
CATEGORIES:Run
ORGANIZER;CN="Ken Druce":MAILTO:kenneth.druce@talktalk.net
END:VEVENT
BEGIN:VEVENT
DTSTART;TZID=Europe/London:20250503T110000
DTEND;TZID=Europe/London:20250503T170000
DTSTAMP:20260420T192035
CREATED:20241112T111611Z
LAST-MODIFIED:20250424T085300Z
UID:14379-1746270000-1746291600@dorsetvmcc.co.uk
SUMMARY:Hedgerow Run
DESCRIPTION:We are going around part of the New Forest. Stopping at the Red Shute for a break then going across Stony Cross war time runway.Then a steady run back to Lo’s.There are a few pot holes around Whitsbury and Rockbourne area. The run is about 68 miles long. \n  \n  \n 
URL:https://dorsetvmcc.co.uk/event/hedgerow-run-4/
LOCATION:LO’s Coffee Shop\, R Lukins Fitness\, Stud Farm\, Pimperne\, Blandford Forum\, Dorset\, DT11 8XA\, United Kingdom
CATEGORIES:Run
END:VEVENT
BEGIN:VEVENT
DTSTART;TZID=Europe/London:20250510T100000
DTEND;TZID=Europe/London:20250510T170000
DTSTAMP:20260420T192035
CREATED:20241114T143826Z
LAST-MODIFIED:20241114T143826Z
UID:14455-1746871200-1746896400@dorsetvmcc.co.uk
SUMMARY:Breakfast Meet
DESCRIPTION:Come by bike\, car\, bike or foot to enjoy breakfast with Dorset Section
URL:https://dorsetvmcc.co.uk/event/breakfast-meet-22/
LOCATION:The Old Brewery Café (formerly Moto Corsa)\, The Old Brewery Wyke Road\, Gillingham\, SP8 4NW\, United Kingdom
CATEGORIES:Meet
END:VEVENT
BEGIN:VEVENT
DTSTART;TZID=Europe/London:20250514T180000
DTEND;TZID=Europe/London:20250514T220000
DTSTAMP:20260420T192035
CREATED:20241112T111909Z
LAST-MODIFIED:20250329T152613Z
UID:14381-1747245600-1747260000@dorsetvmcc.co.uk
SUMMARY:Club Night - Car & Bike Night
DESCRIPTION:Car and Bike Night. Come along in/on an interesting vehicle\, invite your friends and any other clubs to which you belong for a social at The Halsey Arms. Starts at 6.00 so you should be able to get home in daylight.
URL:https://dorsetvmcc.co.uk/event/club-night-10/
LOCATION:Halsey Arms\, Pulham\, DT2 7DZ\, United Kingdom
CATEGORIES:Club Night
END:VEVENT
BEGIN:VEVENT
DTSTART;TZID=Europe/London:20250518T100000
DTEND;TZID=Europe/London:20250518T170000
DTSTAMP:20260420T192035
CREATED:20241112T112151Z
LAST-MODIFIED:20250429T054654Z
UID:14383-1747562400-1747587600@dorsetvmcc.co.uk
SUMMARY:Coast Run
DESCRIPTION:A short  40 mile run allowing for the fact that most of us will have a 20 plus miles to the start.  A scenic ride to the coast at Abbotsbury before turning west to Portland  and Jailhouse Café for coffee with fantastic views then a short ride to Portland Bill. Food available at both stops. \nBy downloading and using these GPX files on the run\, you agree to also picking up a Route Sheet that contains pertinent safety information on this run. Route Sheets are available at Signing On. \nClick to download GPX file (last updated: 29-Apr-2025) —> Coast Run 2025 Part 1\nClick to download GPX file (last updated: 29-Apr-2025) —> Coast Run 2025 Part 2 \n  \n 
URL:https://dorsetvmcc.co.uk/event/coast-run/
LOCATION:Top Of Town Car Park\, DT1 1XT
CATEGORIES:Run
ORGANIZER;CN="Ray Dickinson":MAILTO:raylinda228@gmail.com
END:VEVENT
BEGIN:VEVENT
DTSTART;TZID=Europe/London:20250525T103000
DTEND;TZID=Europe/London:20250525T170000
DTSTAMP:20260420T192035
CREATED:20241127T212754Z
LAST-MODIFIED:20250518T165401Z
UID:14487-1748169000-1748192400@dorsetvmcc.co.uk
SUMMARY:GIANTS 2025
DESCRIPTION:The GIANTS Run is back!  The VMCC Dorset Section’s run for girder fork bikes. First held in 2019\, GIANTS 2025 will be better than ever but with a limit of 100 entries\, make your booking as soon as possible because those places will go quickly***.  If you haven’t taken part in our GIANTS Run before\, here’s what you missed in 2019\,  2021\, 2022\, 2023 and 2024. \n\nShort route (approx. 35 miles)\, Long route (approx. 65 miles)\nSaturday late afternoon short run\, evening meal and overnight camping\nSunday morning breakfast available\nSunday main run and lunch\nAnd much more!   All the details can be found in this information sheet\, please make sure you read it.\n\n***Update : 2nd December 2024 : All 100 places are now booked…sorry!\nAny questions\, please email events@dorsetvmcc.co.uk  
URL:https://dorsetvmcc.co.uk/event/giants-2025/
LOCATION:Spire Hill Farm\, Spire Hill Farm/Thornhill\, Sturminster Newton\, DT10 2SG\, United Kingdom
CATEGORIES:Run
ATTACH;FMTTYPE=image/jpeg:https://dorsetvmcc.co.uk/wp/wp-content/uploads/2024/05/VMCC-Dorset-Section-GIANTS-Run-2024-pw-15-e1732740841161.jpg
ORGANIZER;CN="Paul Miles":MAILTO:pauledwinmiles@me.com
END:VEVENT
BEGIN:VEVENT
DTSTART;TZID=Europe/London:20250601T103000
DTEND;TZID=Europe/London:20250601T170000
DTSTAMP:20260420T192035
CREATED:20241112T112552Z
LAST-MODIFIED:20250527T105732Z
UID:14387-1748773800-1748797200@dorsetvmcc.co.uk
SUMMARY:Jeff Clew Memorial Run
DESCRIPTION:This run is organised\, as usual\, by Rod and Carol and starts with tea and biscuits at Leigh Village Hall from 9.30. Rod has then planned a 50 mile run with a lunch stop at The Rusty Duck Cafe\, Stinsford\, Dorchester\, DT2 8QL. It’s then back to Leigh for awards presentations\, tea and Carol’s fantastic cakes! Club run suitable for all bikes. \nThe run is £3.00 but if you want tea and cakes then it will be £4.00\, for non- riders who wish to join us for refreshments\, and why wouldn’t you\, it will be £3.00.
URL:https://dorsetvmcc.co.uk/event/jeff-clew-memorial-run-5/
LOCATION:Leigh Village Hall\, Sherborne\, DT9 6HL\, United Kingdom
CATEGORIES:Run
ORGANIZER;CN="Rod Hann":MAILTO:rodhann@hotmail.co.uk
END:VEVENT
BEGIN:VEVENT
DTSTART;TZID=Europe/London:20250607T000000
DTEND;TZID=Europe/London:20250607T235959
DTSTAMP:20260420T192035
CREATED:20241112T112838Z
LAST-MODIFIED:20250528T090931Z
UID:14389-1749254400-1749340799@dorsetvmcc.co.uk
SUMMARY:Gillingham In Gear
DESCRIPTION:Dorset Section will\, as usual\, have a stand at the show\, ride in and park your bike on our stand then ride out when you’ve had a good look around the show. We shall be there from 8.30 to about 4.00 its a nice friendly informal show with lots to see.
URL:https://dorsetvmcc.co.uk/event/gillingham-in-gear-3/
LOCATION:Red Lion\, Red Lion\, High Street\, Gillingham\, Dorset\, SP8 4AA\, United Kingdom
CATEGORIES:Show
ORGANIZER;CN="Ray Dickinson":MAILTO:raylinda228@gmail.com
END:VEVENT
BEGIN:VEVENT
DTSTART;TZID=Europe/London:20250611T180000
DTEND;TZID=Europe/London:20250611T220000
DTSTAMP:20260420T192035
CREATED:20241112T113103Z
LAST-MODIFIED:20250528T091832Z
UID:14391-1749664800-1749679200@dorsetvmcc.co.uk
SUMMARY:Club Night - Fish and Chips Run
DESCRIPTION:Our popular Fish & Chips Run will again be to The Pilgrim Fryer mobile van at Okeford Fitzpayne. Meet at The Halsey for a drink before departing at 6.00 for a scenic 20 mile run to Okeford Fitzpayne. \nSo that no one is disappointed please let me have your order before Tuesday 10 June so that there is enough food for us\, either  andy.grew@talktalk.net\, phone or text to 07792803017
URL:https://dorsetvmcc.co.uk/event/club-night-fish-chip-run/
LOCATION:Halsey Arms\, Pulham\, DT2 7DZ\, United Kingdom
CATEGORIES:Run
END:VEVENT
BEGIN:VEVENT
DTSTART;TZID=Europe/London:20250614T100000
DTEND;TZID=Europe/London:20250614T170000
DTSTAMP:20260420T192035
CREATED:20241112T113533Z
LAST-MODIFIED:20250610T104537Z
UID:14396-1749895200-1749920400@dorsetvmcc.co.uk
SUMMARY:Somerset Levels Run
DESCRIPTION:This is a longer run to the northern Somerset Levels. The route is suitable for all bikes\, but make sure the suspension is good as the levels roads are notoriously bumpy! we will start at Blackmarsh Farm\, Sherborne\, DT9 4JX for breakfast then ride 32 miles to Sweets Cafe\, Westhay\, BS28 4LE. The return route for those who wish to take it is 30 miles back to Blackmarsh Farm. \nBy downloading and using these GPX files on the run\, you agree to also picking up a Route Sheet that contains pertinent safety information on this run. Route Sheets are available at Signing On. \nClick to download GPX file (last updated: 10-Jun-2025) —> Outward\nClick to download GPX file (last updated: 10-Jun-2025) —> Return \n 
URL:https://dorsetvmcc.co.uk/event/somerset-levels-run-4/
LOCATION:The Farmyard Kitchen\, The Farmyard Kitchen\, Blackmarsh Farm\, Sherborne\, DT9 4JX\, United Kingdom
CATEGORIES:Run
END:VEVENT
BEGIN:VEVENT
DTSTART;TZID=Europe/London:20250621T100000
DTEND;TZID=Europe/London:20250621T170000
DTSTAMP:20260420T192035
CREATED:20241114T143925Z
LAST-MODIFIED:20241114T143925Z
UID:14457-1750500000-1750525200@dorsetvmcc.co.uk
SUMMARY:Breakfast Meet
DESCRIPTION:Come by bike\, car\, bike or foot to enjoy breakfast with Dorset Section
URL:https://dorsetvmcc.co.uk/event/breakfast-meet-23/
LOCATION:The Old Brewery Café (formerly Moto Corsa)\, The Old Brewery Wyke Road\, Gillingham\, SP8 4NW\, United Kingdom
CATEGORIES:Meet
END:VEVENT
BEGIN:VEVENT
DTSTART;TZID=Europe/London:20250629T103000
DTEND;TZID=Europe/London:20250629T170000
DTSTAMP:20260420T192035
CREATED:20241112T113813Z
LAST-MODIFIED:20250606T092240Z
UID:14398-1751193000-1751216400@dorsetvmcc.co.uk
SUMMARY:Ex - Chairman's Challenge
DESCRIPTION:Paul has thought of a new format for this years Challenge\, a steeplechase? No idea what this will entail and as usual details will be highly confidential until the day so there’s no cheating. An ice cream is promised for the contestants who manage to complete the course. \nRun of approximately 40 miles suitable for all bikes. \n  \nChairmans challenge poster 2025 \n 
URL:https://dorsetvmcc.co.uk/event/ex-chairmans-challenge/
ORGANIZER;CN="Paul Miles":MAILTO:pauledwinmiles@me.com
END:VEVENT
BEGIN:VEVENT
DTSTART;TZID=Europe/London:20250706T103000
DTEND;TZID=Europe/London:20250706T170000
DTSTAMP:20260420T192035
CREATED:20241112T113946Z
LAST-MODIFIED:20250625T184521Z
UID:14400-1751797800-1751821200@dorsetvmcc.co.uk
SUMMARY:Young Ryan's Express
DESCRIPTION:A run of 37 miles on a mixture of roads\, some with the obligatory grass in the middle and some fairly steep ups and downs but should be suitable for all bikes. We’ll be stopping at Winyards Gap Inn\, Cheddington\, DT8 3HY which has spectacular views from its many outside tables. \nBy downloading and using these GPX files on the run\, you agree to also picking up a Route Sheet that contains pertinent safety information on this run. Route Sheets are available at Signing On. \nClick to download GPX file (last updated: 14-Jun-2025) —> Click Here! \n 
URL:https://dorsetvmcc.co.uk/event/young-ryans-express-3/
LOCATION:Culverhayes Car Park\, Culverhayes Car Park\, Ludbourne Road\, Sherborne\, DT9 3NJ\, United Kingdom
CATEGORIES:Run
END:VEVENT
BEGIN:VEVENT
DTSTART;TZID=Europe/London:20250709T180000
DTEND;TZID=Europe/London:20250709T220000
DTSTAMP:20260420T192035
CREATED:20241112T114152Z
LAST-MODIFIED:20250625T105339Z
UID:14402-1752084000-1752098400@dorsetvmcc.co.uk
SUMMARY:Club Night - Treasure Hunt
DESCRIPTION:Meet at the Cathedral Green\, Sherborne for a picnic and then a Treasure hunt on foot around Sherborne. Remember to bring some food to add to the picnic. \nTreasure hunt poster 2025 \n  \n 
URL:https://dorsetvmcc.co.uk/event/club-night-treasure-hunt/
LOCATION:The Digby Tap\, Crooks Lane\, Sherborne\, DT9 3NS\, United Kingdom
ORGANIZER;CN="Paul Miles":MAILTO:pauledwinmiles@me.com
END:VEVENT
BEGIN:VEVENT
DTSTART;TZID=Europe/London:20250712T093000
DTEND;TZID=Europe/London:20250712T170000
DTSTAMP:20260420T192035
CREATED:20241112T114422Z
LAST-MODIFIED:20250819T143117Z
UID:14404-1752312600-1752339600@dorsetvmcc.co.uk
SUMMARY:Dorset Dakar Dawdle
DESCRIPTION:Read carefully prior to registering for the event. \nWelcome Ladies and Gentlemen to the 2025 Dorset Dakar Dawdle. Our objective is to create a gentle social Green Lane run with ample catering opportunities. \nFORMAT\n\nWe start at Compton Abbas Airfield\, gates open at 9-30am with the first bikes away at 11am.\nThe Café and the Tea/Coffee Cabin are available and entrants will receive a voucher for a free Tea/Coffee at the Cabin upon Signing On and after reading the Health & Safety brief.\nHalf way along the route there will be a pop up Café with more Tea/Coffee and Cake. This is free but donations to the Dorset & Somerset Air Ambulance will be MOST WELCOME.\nAt the end of our run\, you arrive at the Fox and Goose Inn at Coombe Bisset\, where naturally a wide range of refreshments are available.\n\nRULES\n\nEntry numbers are limited to 50\, so you must reserve your place by registering below.\nThe entry fee is £8 for everyone and is payable at Sign On. If you are not a VMCC member\, there is an additional charge of £5 for day membership — if you don’t want to pay this\, make sure you bring your VMCC membership card to the event!\nCheck your insurance has no restrictions relating to Green Lane usage; our route is made of country tarmac lanes and unsurfaced lanes with right of way for all vehicles.\nYour motorcycle must be at least 25 years old.\nThis year we plan to change the format a little\, as before there will be two options of route\, easy and very easy but we will operate in guided groups accordingly with a Lead rider and a Tail End charlie (sweeper) to keep each group together. Select your group at the start\, no need to navigate\, but still no recovery available although we will try our best to help. The Lead rider will stop from time to time to look at the view and possibly meet up with other groups after leaving the start (Compton Abbas Airfield ) at 5min intervals.\nAs before Pop up Cafe above Fovant. At the Ford at Stratford Tony the cautious riders can watch the fearless fellows who elect to pass through the optional Ford\, then on to the Pub. Thereafter as before you are free to do as you wish.\nAnother  option for 2025\, our esteemed  Chairman has volunteered to to lead a group of road riders who would like to visit the Flying Club \, the Pop up Cafe and the Fox and Goose Pub but stay on the tarmac watching the rest of us getting muddy\, there are some very pretty villages along his proposed route\, just let us know your preference on arrival\nYou do not require a specialist off road machine; the scruffy old Bantam in the back of the shed will do just fine. There is a trivial award for the most unsuitable machine completing the run.\nMake sure you Sign Off at the Fox and Goose Inn!\n\nTHIS IS NOT A RACE!\n\nRide slowly. Stop look at the views\, chat with fellow riders and importantly be polite to all the other users of the Green Lanes\, they have a right to be there too.\nDue to the terrain\, we are unable to offer support in any form\, so obtain an OS Landranger map 184\, charge your phone\, fettle your motorcycle\, check its tool kit AND be responsible.\nThere will be mud\, gravel\, very uneven surfaces and water (possibly deep!) at the Stratford Tony ford and many of the junctions require extreme caution.\n\nFINALLY\nNow plea to your chosen deity for good weather\, primarily DRY\, take it easy and have fun. After you have relaxed and lunched at the Fox & Goose\, the options are all yours. If you need to return to the airfield\, you may retrace the route or opt for tarmac. There is an alternative route along the Ox Drove track which is less pleasant and you will be entirely on your own. \nCompton Abbas Airfield has kindly allowed us to use their car park and some parking for vans and trailers will be available at the east end of said park; please support their Cafe and or the Tea/Coffee Cabin. \nAny profits the event makes will go to the Dorset & Somerset Air Ambulance\, the greater part of which is usually generated by our pop up Cafe at midpoint. \nHaving studied all the above\, please register promptly. We wish you a gentle relaxing ride\, eat and drink as much as you wish\, take it easy and REMEMBER bring along your VMCC membership card. \nNOTE: the VMCC West Wilts White Horse Scatter event is on Sunday 13th July (the following day!). If you fancy more Green Lane riding\, then click here 
URL:https://dorsetvmcc.co.uk/event/dorset-dakar/
LOCATION:Compton Abbas Airfield\, Compton Abbas Airfield\, Ashmore\, nr\, Salisbury\, SP5 5AP\, United Kingdom
CATEGORIES:Run
ATTACH;FMTTYPE=image/jpeg:https://dorsetvmcc.co.uk/wp/wp-content/uploads/2024/07/DD-2-scaled-e1742583891123.jpg
END:VEVENT
END:VCALENDAR