BEGIN:VCALENDAR
VERSION:2.0
PRODID:-//VMCC Dorset Section - ECPv6.15.20//NONSGML v1.0//EN
CALSCALE:GREGORIAN
METHOD:PUBLISH
X-WR-CALNAME:VMCC Dorset Section
X-ORIGINAL-URL:https://dorsetvmcc.co.uk
X-WR-CALDESC:Events for VMCC Dorset Section
REFRESH-INTERVAL;VALUE=DURATION:PT1H
X-Robots-Tag:noindex
X-PUBLISHED-TTL:PT1H
BEGIN:VTIMEZONE
TZID:Europe/London
BEGIN:DAYLIGHT
TZOFFSETFROM:+0000
TZOFFSETTO:+0100
TZNAME:BST
DTSTART:20180325T010000
END:DAYLIGHT
BEGIN:STANDARD
TZOFFSETFROM:+0100
TZOFFSETTO:+0000
TZNAME:GMT
DTSTART:20181028T010000
END:STANDARD
BEGIN:DAYLIGHT
TZOFFSETFROM:+0000
TZOFFSETTO:+0100
TZNAME:BST
DTSTART:20190331T010000
END:DAYLIGHT
BEGIN:STANDARD
TZOFFSETFROM:+0100
TZOFFSETTO:+0000
TZNAME:GMT
DTSTART:20191027T010000
END:STANDARD
BEGIN:DAYLIGHT
TZOFFSETFROM:+0000
TZOFFSETTO:+0100
TZNAME:BST
DTSTART:20200329T010000
END:DAYLIGHT
BEGIN:STANDARD
TZOFFSETFROM:+0100
TZOFFSETTO:+0000
TZNAME:GMT
DTSTART:20201025T010000
END:STANDARD
END:VTIMEZONE
BEGIN:VEVENT
DTSTART;TZID=Europe/London:20190814T180000
DTEND;TZID=Europe/London:20190814T220000
DTSTAMP:20260421T000348
CREATED:20171018T180653Z
LAST-MODIFIED:20190802T060244Z
UID:3282-1565805600-1565820000@dorsetvmcc.co.uk
SUMMARY:Club Night - Autojumble and Social
DESCRIPTION:Please Note:  There is no food provided this year.
URL:https://dorsetvmcc.co.uk/event/autojumble-and-social/
LOCATION:Henstridge Golf and Leisure\, Henstridge Golf and Leisure\, Marsh Lane\, Henstridge\, BA8 0TG\, United Kingdom
CATEGORIES:Autojumble,Club Night
ORGANIZER;CN="Ray Dickinson":MAILTO:raylinda228@gmail.com
END:VEVENT
BEGIN:VEVENT
DTSTART;TZID=Europe/London:20190811T110000
DTEND;TZID=Europe/London:20190811T110000
DTSTAMP:20260421T000348
CREATED:20170416T050053Z
LAST-MODIFIED:20181019T163446Z
UID:3323-1565521200-1565521200@dorsetvmcc.co.uk
SUMMARY:Border Run
DESCRIPTION:After the run\, there is an optional Carvery lunch.  If you want this Carvery\, you must pre-book directly with Sandy at Henstridge Golf and Leisure.
URL:https://dorsetvmcc.co.uk/event/border-run-2-2/
LOCATION:Henstridge Golf and Leisure\, Henstridge Golf and Leisure\, Marsh Lane\, Henstridge\, BA8 0TG\, United Kingdom
CATEGORIES:Run
ORGANIZER;CN="Gabby Hunt":MAILTO:gabby.hunt@outlook.com
END:VEVENT
BEGIN:VEVENT
DTSTART;TZID=Europe/London:20190807T120000
DTEND;TZID=Europe/London:20190807T130000
DTSTAMP:20260421T000348
CREATED:20171130T112835Z
LAST-MODIFIED:20181018T200945Z
UID:3217-1565179200-1565182800@dorsetvmcc.co.uk
SUMMARY:Lunch Meet
DESCRIPTION:
URL:https://dorsetvmcc.co.uk/event/lunch-meet-9-13-8/
LOCATION:Henstridge Golf and Leisure\, Henstridge Golf and Leisure\, Marsh Lane\, Henstridge\, BA8 0TG\, United Kingdom
CATEGORIES:Meet
ORGANIZER;CN="Paul Miles":MAILTO:pauledwinmiles@me.com
END:VEVENT
BEGIN:VEVENT
DTSTART;TZID=Europe/London:20190728T110000
DTEND;TZID=Europe/London:20190728T110000
DTSTAMP:20260421T000348
CREATED:20170415T185923Z
LAST-MODIFIED:20190722T052908Z
UID:3322-1564311600-1564311600@dorsetvmcc.co.uk
SUMMARY:Jeff Clew Memorial Run
DESCRIPTION:Two routes\, both starting and ending at the Haynes Motor Museum and both with a coffee stop. \nBoth start at 11am so get there earlier to sign-on and grab a coffee from the Haynes café.  Plenty of parking and toilet facilities. \n\nRoute 1 : 42 flat miles for older bikes\nRoute 2 : 70 miles for newer machines\n\nEveryone is welcome.
URL:https://dorsetvmcc.co.uk/event/jeff-clew-memorial-run-2-2/
LOCATION:Haynes Motor Museum\, Sparkford\, Yeovil\, BA22 7LH\, United Kingdom
CATEGORIES:Run
ORGANIZER;CN="Rod Hann":MAILTO:rodhann@hotmail.co.uk
END:VEVENT
BEGIN:VEVENT
DTSTART;TZID=Europe/London:20190727T100000
DTEND;TZID=Europe/London:20190727T110000
DTSTAMP:20260421T000348
CREATED:20170825T090448Z
LAST-MODIFIED:20181019T040518Z
UID:3241-1564221600-1564225200@dorsetvmcc.co.uk
SUMMARY:Breakfast Meet
DESCRIPTION:
URL:https://dorsetvmcc.co.uk/event/breakfast-meet-5-2-12-2-7/
LOCATION:Henstridge Golf and Leisure\, Henstridge Golf and Leisure\, Marsh Lane\, Henstridge\, BA8 0TG\, United Kingdom
CATEGORIES:Meet
ORGANIZER;CN="Paul Miles":MAILTO:pauledwinmiles@me.com
END:VEVENT
BEGIN:VEVENT
DTSTART;TZID=Europe/London:20190717T140000
DTEND;TZID=Europe/London:20190717T170000
DTSTAMP:20260421T000348
CREATED:20181019T175705Z
LAST-MODIFIED:20181019T180610Z
UID:3341-1563372000-1563382800@dorsetvmcc.co.uk
SUMMARY:Mid-Week Run
DESCRIPTION:40 mile run
URL:https://dorsetvmcc.co.uk/event/mid-week-run-2/
LOCATION:Sturminster Newton Car Park\, Station Rd Car Park\, Sturminster Newton\, DT10 1DB\, United Kingdom
CATEGORIES:Run
END:VEVENT
BEGIN:VEVENT
DTSTART;TZID=Europe/London:20190714T110000
DTEND;TZID=Europe/London:20190714T110000
DTSTAMP:20260421T000348
CREATED:20170415T185549Z
LAST-MODIFIED:20181019T163232Z
UID:3321-1563102000-1563102000@dorsetvmcc.co.uk
SUMMARY:Veteran & Vintage Run
DESCRIPTION:
URL:https://dorsetvmcc.co.uk/event/veteran-vintage-run-2-2/
LOCATION:Leigh Village Hall\, Sherborne\, DT9 6HL\, United Kingdom
CATEGORIES:Run
ORGANIZER;CN="Rod Hann":MAILTO:rodhann@hotmail.co.uk
END:VEVENT
BEGIN:VEVENT
DTSTART;TZID=Europe/London:20190710T193000
DTEND;TZID=Europe/London:20190710T220000
DTSTAMP:20260421T000348
CREATED:20171018T180653Z
LAST-MODIFIED:20181019T084758Z
UID:3280-1562787000-1562796000@dorsetvmcc.co.uk
SUMMARY:Club Night - Car and Bike Meet
DESCRIPTION:
URL:https://dorsetvmcc.co.uk/event/car-and-bike-meet-2/
LOCATION:Henstridge Golf and Leisure\, Henstridge Golf and Leisure\, Marsh Lane\, Henstridge\, BA8 0TG\, United Kingdom
CATEGORIES:Club Night
ORGANIZER;CN="Phil Allen":MAILTO:allenphill@hotmail.com
END:VEVENT
BEGIN:VEVENT
DTSTART;TZID=Europe/London:20190707T110000
DTEND;TZID=Europe/London:20190707T170000
DTSTAMP:20260421T000348
CREATED:20181019T163008Z
LAST-MODIFIED:20190613T170338Z
UID:3319-1562497200-1562518800@dorsetvmcc.co.uk
SUMMARY:Two in One Run
DESCRIPTION:Start and finish is at Henstridge Golf & Leisure in Henstridge and the run start time is 11am sharp. \nThere are 2 separate runs at the same time\, one for pre 1951 machines (slower machines) and one for later machines from 1951 upwards (a longer distance and possibly faster) . Older machines may do the longer run if they want but the newer machines (post 1950) must do the longer run only. \nIf\, after lunch\, you want more mileage then you can go out again on the other route  but please let the organiser know. \nPlease keep to the speed limits and road restrictions and ride safely. \nNOTE : Coffee before and after is available but is payable to Henstridge Golf & Leisure directly\, lunch is available but you must order before you leave on your specific run \nAny questions or clarifications please contact Pete Dungey or one of the Committee; numbers are  in our Contact page
URL:https://dorsetvmcc.co.uk/event/two-in-one-run/
LOCATION:Henstridge Golf and Leisure\, Henstridge Golf and Leisure\, Marsh Lane\, Henstridge\, BA8 0TG\, United Kingdom
CATEGORIES:Run
END:VEVENT
BEGIN:VEVENT
DTSTART;TZID=Europe/London:20190703T120000
DTEND;TZID=Europe/London:20190703T130000
DTSTAMP:20260421T000348
CREATED:20171130T112835Z
LAST-MODIFIED:20181018T200834Z
UID:3216-1562155200-1562158800@dorsetvmcc.co.uk
SUMMARY:Lunch Meet
DESCRIPTION:
URL:https://dorsetvmcc.co.uk/event/lunch-meet-9-13-7/
LOCATION:Henstridge Golf and Leisure\, Henstridge Golf and Leisure\, Marsh Lane\, Henstridge\, BA8 0TG\, United Kingdom
CATEGORIES:Meet
ORGANIZER;CN="Paul Miles":MAILTO:pauledwinmiles@me.com
END:VEVENT
BEGIN:VEVENT
DTSTART;TZID=Europe/London:20190629T100000
DTEND;TZID=Europe/London:20190629T110000
DTSTAMP:20260421T000348
CREATED:20170825T090448Z
LAST-MODIFIED:20181019T040501Z
UID:3239-1561802400-1561806000@dorsetvmcc.co.uk
SUMMARY:Breakfast Meet
DESCRIPTION:
URL:https://dorsetvmcc.co.uk/event/breakfast-meet-5-2-12-2-6/
LOCATION:Henstridge Golf and Leisure\, Henstridge Golf and Leisure\, Marsh Lane\, Henstridge\, BA8 0TG\, United Kingdom
CATEGORIES:Meet
ORGANIZER;CN="Paul Miles":MAILTO:pauledwinmiles@me.com
END:VEVENT
BEGIN:VEVENT
DTSTART;TZID=Europe/London:20190623T103000
DTEND;TZID=Europe/London:20190623T170000
DTSTAMP:20260421T000348
CREATED:20181019T162921Z
LAST-MODIFIED:20190620T154405Z
UID:3317-1561285800-1561309200@dorsetvmcc.co.uk
SUMMARY:The Long Run
DESCRIPTION:Outwards : Top O Town Car Park in Dorchester to Seaton Tramway – 45 miles via Abbotsbury\, Bridport\, Beaminster\, Broadwindsor\, Marshwood\, Rousdon and Axmouth. \nReturn : Seaton Tramway to Cerne Abbas – 41 miles via Axmouth\, Axminster\, Weycroft\, South Chard\, Winsham\, Laymore\, Crewkerne\, Evershot\, Minterne Magna. \n\n			\n				\n			\n				\n				Outward Route\n				\n			\n				\n			\n				\n				Return Route\n				\n			\n				\n			\n				\n				Parking\n				\n			\n				\n			\n				\n				Tramway Café\n				\n			\n				\n			\n				\n				Tramway\n				\n			\n				\n			\n				\n				Jurassic Café\n				\n		\n\nLong Run Outward 20190623\nLong Run Return 20190623\n  \n  \n  \n  \n 
URL:https://dorsetvmcc.co.uk/event/the-long-run/
LOCATION:Top Of Town Car Park\, DT1 1XT
CATEGORIES:Run
ORGANIZER;CN="Ken Druce":MAILTO:kenneth.druce@talktalk.net
END:VEVENT
BEGIN:VEVENT
DTSTART;TZID=Europe/London:20190619T140000
DTEND;TZID=Europe/London:20190619T170000
DTSTAMP:20260421T000348
CREATED:20181019T175705Z
LAST-MODIFIED:20181019T180147Z
UID:3335-1560952800-1560963600@dorsetvmcc.co.uk
SUMMARY:Mid-Week Run
DESCRIPTION:40 mile run
URL:https://dorsetvmcc.co.uk/event/mid-week-run/
LOCATION:Wardon Hill Trading Post\, Wardon Hill Trading Post\, Dorchester\, DT2 9PW\, United Kingdom
CATEGORIES:Run
ORGANIZER;CN="Rod Hann":MAILTO:rodhann@hotmail.co.uk
END:VEVENT
BEGIN:VEVENT
DTSTART;TZID=Europe/London:20190616T080000
DTEND;TZID=Europe/London:20190616T170000
DTSTAMP:20260421T000348
CREATED:20181122T090250Z
LAST-MODIFIED:20181122T090331Z
UID:3440-1560672000-1560704400@dorsetvmcc.co.uk
SUMMARY:Banbury Run
DESCRIPTION:https://www.banbury-run.co.uk/The-Event
URL:https://dorsetvmcc.co.uk/event/banbury-run/
LOCATION:The British Motor Museum \, Gaydon\, CV35 0BJ
CATEGORIES:Run
END:VEVENT
BEGIN:VEVENT
DTSTART;TZID=Europe/London:20190612T183000
DTEND;TZID=Europe/London:20190612T220000
DTSTAMP:20260421T000348
CREATED:20171018T180653Z
LAST-MODIFIED:20190602T201311Z
UID:3278-1560364200-1560376800@dorsetvmcc.co.uk
SUMMARY:Club Night - Pie and Pint Evening Run
DESCRIPTION:The run part of the evening starts at three places at 6:30pm\, with all three groups meeting at the top of Bulbarrow Hill at 7:30pm…from here\, we travel as a single group to Henstridge Golf and Leisure (HGL) for the Pie and Pint: \nIf you cannot make any of the three starts\, you can join us at Bullbarrow Hill at 7:30pm.  Or at HGL at about 8pm \n  \n\nSherborne Start – Bradford’s Yard : Contact Gabby Hunt (see Contacts page)\nGillingham Start – Library : Contact Ray Dickinson (see Contacts page)\nBlandford Start – Tesco Car Park  : Contact Phil Allen (see Contacts page)\n\nCharge your battery!
URL:https://dorsetvmcc.co.uk/event/pie-and-pint-evening-2/
LOCATION:Henstridge Golf and Leisure\, Henstridge Golf and Leisure\, Marsh Lane\, Henstridge\, BA8 0TG\, United Kingdom
CATEGORIES:Club Night,Run
ORGANIZER;CN="Gabby Hunt":MAILTO:gabby.hunt@outlook.com
END:VEVENT
BEGIN:VEVENT
DTSTART;TZID=Europe/London:20190605T120000
DTEND;TZID=Europe/London:20190605T130000
DTSTAMP:20260421T000348
CREATED:20171130T112835Z
LAST-MODIFIED:20181018T200810Z
UID:3215-1559736000-1559739600@dorsetvmcc.co.uk
SUMMARY:Lunch Meet
DESCRIPTION:
URL:https://dorsetvmcc.co.uk/event/lunch-meet-9-13-6/
LOCATION:Henstridge Golf and Leisure\, Henstridge Golf and Leisure\, Marsh Lane\, Henstridge\, BA8 0TG\, United Kingdom
CATEGORIES:Meet
ORGANIZER;CN="Paul Miles":MAILTO:pauledwinmiles@me.com
END:VEVENT
BEGIN:VEVENT
DTSTART;TZID=Europe/London:20190602T110000
DTEND;TZID=Europe/London:20190602T170000
DTSTAMP:20260421T000348
CREATED:20181019T162827Z
LAST-MODIFIED:20181026T213630Z
UID:3315-1559473200-1559494800@dorsetvmcc.co.uk
SUMMARY:Old and New Run
DESCRIPTION:
URL:https://dorsetvmcc.co.uk/event/old-and-new-run/
LOCATION:Wardon Hill Trading Post\, Wardon Hill Trading Post\, Dorchester\, DT2 9PW\, United Kingdom
CATEGORIES:Run
ORGANIZER;CN="Bernard Jones":MAILTO:biker.bernard998@btinternet.com
END:VEVENT
BEGIN:VEVENT
DTSTART;TZID=Europe/London:20190525T100000
DTEND;TZID=Europe/London:20190525T110000
DTSTAMP:20260421T000348
CREATED:20170825T090448Z
LAST-MODIFIED:20181019T040441Z
UID:3238-1558778400-1558782000@dorsetvmcc.co.uk
SUMMARY:Breakfast Meet
DESCRIPTION:
URL:https://dorsetvmcc.co.uk/event/breakfast-meet-5-2-12-2-5/
LOCATION:Henstridge Golf and Leisure\, Henstridge Golf and Leisure\, Marsh Lane\, Henstridge\, BA8 0TG\, United Kingdom
CATEGORIES:Meet
ORGANIZER;CN="Paul Miles":MAILTO:pauledwinmiles@me.com
END:VEVENT
BEGIN:VEVENT
DTSTART;TZID=Europe/London:20190519T103000
DTEND;TZID=Europe/London:20190519T170000
DTSTAMP:20260421T000348
CREATED:20181019T162715Z
LAST-MODIFIED:20181122T085043Z
UID:3313-1558261800-1558285200@dorsetvmcc.co.uk
SUMMARY:Giants Run
DESCRIPTION:In addition to the details shown below\, please see these two additional documents: \n2019 Giants Run Information Sheet\n2019 Giants Run Booking Form\n  \n  \n  \n\n \n 
URL:https://dorsetvmcc.co.uk/event/giants-run/
LOCATION:Henstridge Golf and Leisure\, Henstridge Golf and Leisure\, Marsh Lane\, Henstridge\, BA8 0TG\, United Kingdom
CATEGORIES:Run
ORGANIZER;CN="Paul Miles":MAILTO:pauledwinmiles@me.com
END:VEVENT
BEGIN:VEVENT
DTSTART;TZID=Europe/London:20190508T183000
DTEND;TZID=Europe/London:20190508T220000
DTSTAMP:20260421T000348
CREATED:20171018T180653Z
LAST-MODIFIED:20181019T084418Z
UID:3264-1557340200-1557352800@dorsetvmcc.co.uk
SUMMARY:Club Night - Evening Run
DESCRIPTION:Assemble at Henstridge Golf and Leisure at 6pm for a 6:30pm departure. \nCharge your battery!
URL:https://dorsetvmcc.co.uk/event/club-night-5/
LOCATION:Henstridge Golf and Leisure\, Henstridge Golf and Leisure\, Marsh Lane\, Henstridge\, BA8 0TG\, United Kingdom
CATEGORIES:Club Night,Run
END:VEVENT
BEGIN:VEVENT
DTSTART;TZID=Europe/London:20190505T110000
DTEND;TZID=Europe/London:20190505T170000
DTSTAMP:20260421T000348
CREATED:20170330T152921Z
LAST-MODIFIED:20190411T081616Z
UID:3308-1557054000-1557075600@dorsetvmcc.co.uk
SUMMARY:Bluebell Run
DESCRIPTION:Tea\, coffee\, pain au chocolat and croissants at start. \nOutward : 43 mile picturesque route to Lulworth Cove.  Having just planned and done the route (10th April)\, I see the Bluebells are very early this year\, so I hope there are still some to see by the 5th May. \nReturn : 24 mile fast\, direct route back to Okeford Fitzpaine / Blandford area. \nPLEASE NOTE : the Lulworth Estate have introduced a parking charge for all motorcycles.  It is £1. In addition\, it is Bank Holiday weekend\, which is a busy time for Lulworth Cove so we may not be able to park in the Coach Area as in previous years — please park wherever the car park attendants instruct. \nDelcombe Wood\n 
URL:https://dorsetvmcc.co.uk/event/bluebell-run-2/
LOCATION:Recreation Ground\, Okeford Fitzpaine\, Castle Lane\, Okeford Fitzpaine\, DT11 0RL\, United Kingdom
CATEGORIES:Run
ORGANIZER;CN="Paul Wirdnam":MAILTO:secretary@dorsetvmcc.co.uk
END:VEVENT
BEGIN:VEVENT
DTSTART;TZID=Europe/London:20190501T120000
DTEND;TZID=Europe/London:20190501T130000
DTSTAMP:20260421T000348
CREATED:20171130T112835Z
LAST-MODIFIED:20181018T200752Z
UID:3214-1556712000-1556715600@dorsetvmcc.co.uk
SUMMARY:Lunch Meet
DESCRIPTION:
URL:https://dorsetvmcc.co.uk/event/lunch-meet-9-13-5/
LOCATION:Henstridge Golf and Leisure\, Henstridge Golf and Leisure\, Marsh Lane\, Henstridge\, BA8 0TG\, United Kingdom
CATEGORIES:Meet
ORGANIZER;CN="Paul Miles":MAILTO:pauledwinmiles@me.com
END:VEVENT
BEGIN:VEVENT
DTSTART;TZID=Europe/London:20190427T100000
DTEND;TZID=Europe/London:20190427T110000
DTSTAMP:20260421T000348
CREATED:20170825T090448Z
LAST-MODIFIED:20181019T040424Z
UID:3237-1556359200-1556362800@dorsetvmcc.co.uk
SUMMARY:Breakfast Meet
DESCRIPTION:
URL:https://dorsetvmcc.co.uk/event/breakfast-meet-5-2-12-2-4/
LOCATION:Henstridge Golf and Leisure\, Henstridge Golf and Leisure\, Marsh Lane\, Henstridge\, BA8 0TG\, United Kingdom
CATEGORIES:Meet
ORGANIZER;CN="Paul Miles":MAILTO:pauledwinmiles@me.com
END:VEVENT
BEGIN:VEVENT
DTSTART;TZID=Europe/London:20190414T110000
DTEND;TZID=Europe/London:20190414T170000
DTSTAMP:20260421T000348
CREATED:20181019T162550Z
LAST-MODIFIED:20190204T074816Z
UID:3310-1555239600-1555261200@dorsetvmcc.co.uk
SUMMARY:Tiddler Run
DESCRIPTION:This is a Classified Run : only machines with a capacity of 250cc or less please. \nThe run will be approx 40 miles. \nAnd questions\, please phone Chris Smith on 07801482610
URL:https://dorsetvmcc.co.uk/event/tiddler-run/
LOCATION:Henstridge Golf and Leisure\, Henstridge Golf and Leisure\, Marsh Lane\, Henstridge\, BA8 0TG\, United Kingdom
CATEGORIES:Run
END:VEVENT
BEGIN:VEVENT
DTSTART;TZID=Europe/London:20190410T193000
DTEND;TZID=Europe/London:20190410T220000
DTSTAMP:20260421T000348
CREATED:20171018T180653Z
LAST-MODIFIED:20181019T084115Z
UID:3263-1554924600-1554933600@dorsetvmcc.co.uk
SUMMARY:Club Night - Pat Garrod : Bearback - The World Overland
DESCRIPTION:
URL:https://dorsetvmcc.co.uk/event/club-night-4/
LOCATION:Henstridge Golf and Leisure\, Henstridge Golf and Leisure\, Marsh Lane\, Henstridge\, BA8 0TG\, United Kingdom
CATEGORIES:Club Night
ORGANIZER;CN="Phil Allen":MAILTO:allenphill@hotmail.com
END:VEVENT
BEGIN:VEVENT
DTSTART;TZID=Europe/London:20190407T110000
DTEND;TZID=Europe/London:20190407T170000
DTSTAMP:20260421T000348
CREATED:20170330T152921Z
LAST-MODIFIED:20181019T090602Z
UID:3306-1554634800-1554656400@dorsetvmcc.co.uk
SUMMARY:Blandford Run
DESCRIPTION:
URL:https://dorsetvmcc.co.uk/event/blandford-run-2-2/
LOCATION:Corn Exchange\, Blandford Forum\,  DT11 7AG\, United Kingdom
CATEGORIES:Run
ORGANIZER;CN="Peter Miller":MAILTO:corgiking@aol.com
END:VEVENT
BEGIN:VEVENT
DTSTART;TZID=Europe/London:20190403T120000
DTEND;TZID=Europe/London:20190403T130000
DTSTAMP:20260421T000348
CREATED:20171130T112835Z
LAST-MODIFIED:20181018T200733Z
UID:3213-1554292800-1554296400@dorsetvmcc.co.uk
SUMMARY:Lunch Meet
DESCRIPTION:
URL:https://dorsetvmcc.co.uk/event/lunch-meet-9-13-4/
LOCATION:Henstridge Golf and Leisure\, Henstridge Golf and Leisure\, Marsh Lane\, Henstridge\, BA8 0TG\, United Kingdom
CATEGORIES:Meet
ORGANIZER;CN="Paul Miles":MAILTO:pauledwinmiles@me.com
END:VEVENT
BEGIN:VEVENT
DTSTART;TZID=Europe/London:20190330T100000
DTEND;TZID=Europe/London:20190330T110000
DTSTAMP:20260421T000348
CREATED:20170825T090448Z
LAST-MODIFIED:20181019T040407Z
UID:3246-1553940000-1553943600@dorsetvmcc.co.uk
SUMMARY:Breakfast Meet
DESCRIPTION:
URL:https://dorsetvmcc.co.uk/event/breakfast-meet-5-2-12-2-3/
LOCATION:Henstridge Golf and Leisure\, Henstridge Golf and Leisure\, Marsh Lane\, Henstridge\, BA8 0TG\, United Kingdom
CATEGORIES:Meet
ORGANIZER;CN="Paul Miles":MAILTO:pauledwinmiles@me.com
END:VEVENT
BEGIN:VEVENT
DTSTART;TZID=Europe/London:20190324T110000
DTEND;TZID=Europe/London:20190324T170000
DTSTAMP:20260421T000348
CREATED:20170330T152921Z
LAST-MODIFIED:20181019T090502Z
UID:3303-1553425200-1553446800@dorsetvmcc.co.uk
SUMMARY:Spring Run
DESCRIPTION:The run starts and finishes at Henstridge Golf and Leisure. \nCome and have some breakfast before the run!  Henstridge Golf and Leisure will be serving breakfast between 9am and the start of the run at 11am.  Bacon rolls to full English! \nIf you intend to take part and would like some breakfast\, or if you’re coming just for the breakfast\, can you please let Bernard Jones know as we need to get a rough idea of numbers. \nThere will be no organised lunch at the end of the run but there is a coffee / tea / comfort stop during the run.
URL:https://dorsetvmcc.co.uk/event/spring-run-2/
LOCATION:Henstridge Golf and Leisure\, Henstridge Golf and Leisure\, Marsh Lane\, Henstridge\, BA8 0TG\, United Kingdom
CATEGORIES:Run
ORGANIZER;CN="Bernard Jones":MAILTO:biker.bernard998@btinternet.com
END:VEVENT
BEGIN:VEVENT
DTSTART;TZID=Europe/London:20190313T193000
DTEND;TZID=Europe/London:20190313T220000
DTSTAMP:20260421T000348
CREATED:20171018T180653Z
LAST-MODIFIED:20190313T060234Z
UID:3262-1552505400-1552514400@dorsetvmcc.co.uk
SUMMARY:Club Night - Film Night
DESCRIPTION:Our scheduled Speaker\, John Young\, has had to cancel at short notice due to a family member’s serious illness\, so he obviously cannot be with us. It’s a great shame as he was greatly looking forward to it and\, no doubt\, we will ask him to come on some future date. \nSo we’re going to show some films of past Section Runs instead. Over the last few months\, I’ve digitized a large 16mm ciné film found in our Section shed plus several VHS tapes provided by various members.  On this Club Night\, we’ll start off with: \nWeymouth Run 1982 (9 mins)\nBorder Run 1982 (11 mins)\nComfort/ drink break\nRun of the Mills 1997 (11 mins)\nBob Foster Run 1989 (20 mins) \nThe first two are good quality but only have background music. Rod Hann\, who has seen the films\, has kindly agreed to identify participants from over 37 years ago. All very informal…!
URL:https://dorsetvmcc.co.uk/event/club-night-3/
LOCATION:Henstridge Golf and Leisure\, Henstridge Golf and Leisure\, Marsh Lane\, Henstridge\, BA8 0TG\, United Kingdom
CATEGORIES:Club Night
ORGANIZER;CN="Paul Wirdnam":MAILTO:secretary@dorsetvmcc.co.uk
END:VEVENT
END:VCALENDAR