BEGIN:VCALENDAR
VERSION:2.0
PRODID:-//VMCC Dorset Section - ECPv6.15.20//NONSGML v1.0//EN
CALSCALE:GREGORIAN
METHOD:PUBLISH
X-WR-CALNAME:VMCC Dorset Section
X-ORIGINAL-URL:https://dorsetvmcc.co.uk
X-WR-CALDESC:Events for VMCC Dorset Section
REFRESH-INTERVAL;VALUE=DURATION:PT1H
X-Robots-Tag:noindex
X-PUBLISHED-TTL:PT1H
BEGIN:VTIMEZONE
TZID:Europe/London
BEGIN:DAYLIGHT
TZOFFSETFROM:+0000
TZOFFSETTO:+0100
TZNAME:BST
DTSTART:20180325T010000
END:DAYLIGHT
BEGIN:STANDARD
TZOFFSETFROM:+0100
TZOFFSETTO:+0000
TZNAME:GMT
DTSTART:20181028T010000
END:STANDARD
BEGIN:DAYLIGHT
TZOFFSETFROM:+0000
TZOFFSETTO:+0100
TZNAME:BST
DTSTART:20190331T010000
END:DAYLIGHT
BEGIN:STANDARD
TZOFFSETFROM:+0100
TZOFFSETTO:+0000
TZNAME:GMT
DTSTART:20191027T010000
END:STANDARD
BEGIN:DAYLIGHT
TZOFFSETFROM:+0000
TZOFFSETTO:+0100
TZNAME:BST
DTSTART:20200329T010000
END:DAYLIGHT
BEGIN:STANDARD
TZOFFSETFROM:+0100
TZOFFSETTO:+0000
TZNAME:GMT
DTSTART:20201025T010000
END:STANDARD
BEGIN:DAYLIGHT
TZOFFSETFROM:+0000
TZOFFSETTO:+0100
TZNAME:BST
DTSTART:20210328T010000
END:DAYLIGHT
BEGIN:STANDARD
TZOFFSETFROM:+0100
TZOFFSETTO:+0000
TZNAME:GMT
DTSTART:20211031T010000
END:STANDARD
END:VTIMEZONE
BEGIN:VEVENT
DTSTART;TZID=Europe/London:20200108T193000
DTEND;TZID=Europe/London:20200108T220000
DTSTAMP:20260422T220435
CREATED:20171018T180653Z
LAST-MODIFIED:20191119T205815Z
UID:4662-1578511800-1578520800@dorsetvmcc.co.uk
SUMMARY:Club Night - John Young : Iron Butt Rally
DESCRIPTION:
URL:https://dorsetvmcc.co.uk/event/club-night-7/
LOCATION:Henstridge Golf and Leisure\, Henstridge Golf and Leisure\, Marsh Lane\, Henstridge\, BA8 0TG\, United Kingdom
CATEGORIES:Club Night
ORGANIZER;CN="Paul Miles":MAILTO:pauledwinmiles@me.com
END:VEVENT
BEGIN:VEVENT
DTSTART;TZID=Europe/London:20200101T104500
DTEND;TZID=Europe/London:20200101T130000
DTSTAMP:20260422T220435
CREATED:20171018T190329Z
LAST-MODIFIED:20191215T064223Z
UID:4660-1577875500-1577883600@dorsetvmcc.co.uk
SUMMARY:New Year's Day Run
DESCRIPTION:The run for bikes will end at The Virginia Ash pub where lunch is available. \nTo book a place for lunch (12:30 – 13:00): \n\nlet Ray Dickinson know at the Club Night on 11th December or contact him via email and / or phone (details on our Contacts page).\ndownload The Virginia Ash menu & booking form below and make your selection\nemail your completed menu choice form back to the Virginia Ash at bookings@thevirginiaash.co.uk\n\nThe Virginal Ash Menu  : REDUCED MENU.pdf \nThe Virginia Ash Booking Form : CHOICES.pdf \nThe Virginia Ash can be found at Sherborne Rd\, Henstridge\, Templecombe BA8 0PL
URL:https://dorsetvmcc.co.uk/event/new-years-day-run-2-2/
LOCATION:Station Road Car Park\, Sturminster Newton\, DT10 1BN\, United Kingdom
CATEGORIES:Run
ORGANIZER;CN="Peter Miller":MAILTO:corgiking@aol.com
END:VEVENT
BEGIN:VEVENT
DTSTART;TZID=Europe/London:20191228T100000
DTEND;TZID=Europe/London:20191228T110000
DTSTAMP:20260422T220435
CREATED:20170825T090448Z
LAST-MODIFIED:20181019T040653Z
UID:3242-1577527200-1577530800@dorsetvmcc.co.uk
SUMMARY:Breakfast Meet
DESCRIPTION:
URL:https://dorsetvmcc.co.uk/event/breakfast-meet-5-2-12-2-12/
LOCATION:Henstridge Golf and Leisure\, Henstridge Golf and Leisure\, Marsh Lane\, Henstridge\, BA8 0TG\, United Kingdom
CATEGORIES:Meet
ORGANIZER;CN="Paul Miles":MAILTO:pauledwinmiles@me.com
END:VEVENT
BEGIN:VEVENT
DTSTART;TZID=Europe/London:20191211T193000
DTEND;TZID=Europe/London:20191211T220000
DTSTAMP:20260422T220435
CREATED:20171018T180653Z
LAST-MODIFIED:20181019T085657Z
UID:3295-1576092600-1576101600@dorsetvmcc.co.uk
SUMMARY:Club Night - Social Evening and Buffet
DESCRIPTION:
URL:https://dorsetvmcc.co.uk/event/social-evening-and-buffet-2/
LOCATION:Henstridge Golf and Leisure\, Henstridge Golf and Leisure\, Marsh Lane\, Henstridge\, BA8 0TG\, United Kingdom
CATEGORIES:Club Night
ORGANIZER;CN="Phil Allen":MAILTO:allenphill@hotmail.com
END:VEVENT
BEGIN:VEVENT
DTSTART;TZID=Europe/London:20191208T110000
DTEND;TZID=Europe/London:20191208T170000
DTSTAMP:20260422T220435
CREATED:20181019T163611Z
LAST-MODIFIED:20191006T064115Z
UID:3333-1575802800-1575824400@dorsetvmcc.co.uk
SUMMARY:Mince Pie Run
DESCRIPTION:Starts : From the Marsh & Ham car park in Blandford.  This is the car park that is shared with Morrison’s supermarket car park and across the road from The Crown pub \nFinishes :  At the Cranborne Garden Centre\, Cranborne\, Dorset BH21 5PP. \nLunch is available if required as is tea/coffee and cake etc\, they are expecting us around 12.30 to 13.00.
URL:https://dorsetvmcc.co.uk/event/mince-pie-run/
LOCATION:Marsh & Ham Car Park\, Blandford\, Marsh & Ham Car Park\, Blandford Forum\, DT11 7AW\, United Kingdom
CATEGORIES:Run
ORGANIZER;CN="Phil Allen":MAILTO:allenphill@hotmail.com
END:VEVENT
BEGIN:VEVENT
DTSTART;TZID=Europe/London:20191204T120000
DTEND;TZID=Europe/London:20191204T130000
DTSTAMP:20260422T220435
CREATED:20171130T112835Z
LAST-MODIFIED:20181018T201114Z
UID:3219-1575460800-1575464400@dorsetvmcc.co.uk
SUMMARY:Lunch Meet
DESCRIPTION:
URL:https://dorsetvmcc.co.uk/event/lunch-meet-9-13-12/
LOCATION:Henstridge Golf and Leisure\, Henstridge Golf and Leisure\, Marsh Lane\, Henstridge\, BA8 0TG\, United Kingdom
CATEGORIES:Meet
ORGANIZER;CN="Paul Miles":MAILTO:pauledwinmiles@me.com
END:VEVENT
BEGIN:VEVENT
DTSTART;TZID=Europe/London:20191130T093000
DTEND;TZID=Europe/London:20191130T170000
DTSTAMP:20260422T220435
CREATED:20191108T133322Z
LAST-MODIFIED:20191108T134018Z
UID:4868-1575106200-1575133200@dorsetvmcc.co.uk
SUMMARY:VMCC Somerset Autojumble at Shepton Mallet
DESCRIPTION:Autojumble
URL:https://dorsetvmcc.co.uk/event/vmcc-somerset-autojumble-at-shepton-mallet-2/
LOCATION:Royal Bath and West Showground\, Shepton Mallet\, BA4 6QN\, United Kingdom
END:VEVENT
BEGIN:VEVENT
DTSTART;TZID=Europe/London:20191123T100000
DTEND;TZID=Europe/London:20191123T110000
DTSTAMP:20260422T220435
CREATED:20170825T090448Z
LAST-MODIFIED:20191115T173308Z
UID:3243-1574503200-1574506800@dorsetvmcc.co.uk
SUMMARY:Breakfast Meet
DESCRIPTION:
URL:https://dorsetvmcc.co.uk/event/breakfast-meet-5-2-12-2-11/
LOCATION:Virginia Ash Pub\, Virginia Ash Pub\, Sherborne Road\, Henstridge\, BA8 0PL\, United Kingdom
CATEGORIES:Meet
ORGANIZER;CN="Paul Miles":MAILTO:pauledwinmiles@me.com
END:VEVENT
BEGIN:VEVENT
DTSTART;TZID=Europe/London:20191117T110000
DTEND;TZID=Europe/London:20191117T110000
DTSTAMP:20260422T220435
CREATED:20171010T203202Z
LAST-MODIFIED:20181019T163309Z
UID:3326-1573988400-1573988400@dorsetvmcc.co.uk
SUMMARY:Memorial Run
DESCRIPTION:
URL:https://dorsetvmcc.co.uk/event/memorial-run-2/
LOCATION:Hillbrush Visitor’s Centre\, Norwood Park\, Mere\, BA12 6FE\, United Kingdom
CATEGORIES:Run
ORGANIZER;CN="Ray Dickinson":MAILTO:raylinda228@gmail.com
END:VEVENT
BEGIN:VEVENT
DTSTART;TZID=Europe/London:20191111T183000
DTEND;TZID=Europe/London:20191111T220000
DTSTAMP:20260422T220435
CREATED:20171018T180653Z
LAST-MODIFIED:20190507T195402Z
UID:3265-1573497000-1573509600@dorsetvmcc.co.uk
SUMMARY:Club Night - Phil Holt : Across The Lake - The Donald Campbell Story
DESCRIPTION:Please note: \n\nThis Club Night is on a Monday\, not the usual Wednesday\, and the presentation starts sharp at 6:30 pm\,\nThe evening is held in conjunction with the Wessex Veteran and Vintage Section\n\n 
URL:https://dorsetvmcc.co.uk/event/club-night-6/
LOCATION:Henstridge Golf and Leisure\, Henstridge Golf and Leisure\, Marsh Lane\, Henstridge\, BA8 0TG\, United Kingdom
CATEGORIES:Club Night
ORGANIZER;CN="Phil Allen":MAILTO:allenphill@hotmail.com
END:VEVENT
BEGIN:VEVENT
DTSTART;TZID=Europe/London:20191106T120000
DTEND;TZID=Europe/London:20191106T130000
DTSTAMP:20260422T220435
CREATED:20171130T112835Z
LAST-MODIFIED:20181018T201056Z
UID:3220-1573041600-1573045200@dorsetvmcc.co.uk
SUMMARY:Lunch Meet
DESCRIPTION:
URL:https://dorsetvmcc.co.uk/event/lunch-meet-9-13-11/
LOCATION:Henstridge Golf and Leisure\, Henstridge Golf and Leisure\, Marsh Lane\, Henstridge\, BA8 0TG\, United Kingdom
CATEGORIES:Meet
ORGANIZER;CN="Paul Miles":MAILTO:pauledwinmiles@me.com
END:VEVENT
BEGIN:VEVENT
DTSTART;TZID=Europe/London:20191026T100000
DTEND;TZID=Europe/London:20191026T110000
DTSTAMP:20260422T220435
CREATED:20170825T090448Z
LAST-MODIFIED:20181019T040616Z
UID:3240-1572084000-1572087600@dorsetvmcc.co.uk
SUMMARY:Breakfast Meet
DESCRIPTION:
URL:https://dorsetvmcc.co.uk/event/breakfast-meet-5-2-12-2-10/
LOCATION:Henstridge Golf and Leisure\, Henstridge Golf and Leisure\, Marsh Lane\, Henstridge\, BA8 0TG\, United Kingdom
CATEGORIES:Meet
ORGANIZER;CN="Paul Miles":MAILTO:pauledwinmiles@me.com
END:VEVENT
BEGIN:VEVENT
DTSTART;TZID=Europe/London:20191009T193000
DTEND;TZID=Europe/London:20191009T220000
DTSTAMP:20260422T220435
CREATED:20171018T180653Z
LAST-MODIFIED:20191027T191410Z
UID:3285-1570649400-1570658400@dorsetvmcc.co.uk
SUMMARY:Club Night - AGM
DESCRIPTION:
URL:https://dorsetvmcc.co.uk/event/agm-2-2/
LOCATION:Henstridge Golf and Leisure\, Henstridge Golf and Leisure\, Marsh Lane\, Henstridge\, BA8 0TG\, United Kingdom
CATEGORIES:Club Night
ORGANIZER;CN="Paul Wirdnam":MAILTO:secretary@dorsetvmcc.co.uk
END:VEVENT
BEGIN:VEVENT
DTSTART;TZID=Europe/London:20191006T110000
DTEND;TZID=Europe/London:20191006T110000
DTSTAMP:20260422T220435
CREATED:20170416T050826Z
LAST-MODIFIED:20190929T180836Z
UID:3325-1570359600-1570359600@dorsetvmcc.co.uk
SUMMARY:Autumn Run
DESCRIPTION:There is a Station Café that opens at 9:00 am.  The staff will also open the toilets at 9:00 am.
URL:https://dorsetvmcc.co.uk/event/autumn-run-2-2/
LOCATION:Bradford’s Yard\, Digby Road\, Sherborne\, DT9 3NW\, United Kingdom
CATEGORIES:Run
END:VEVENT
BEGIN:VEVENT
DTSTART;TZID=Europe/London:20191002T120000
DTEND;TZID=Europe/London:20191002T130000
DTSTAMP:20260422T220435
CREATED:20171130T112835Z
LAST-MODIFIED:20181018T201031Z
UID:3218-1570017600-1570021200@dorsetvmcc.co.uk
SUMMARY:Lunch Meet
DESCRIPTION:
URL:https://dorsetvmcc.co.uk/event/lunch-meet-9-13-10/
LOCATION:Henstridge Golf and Leisure\, Henstridge Golf and Leisure\, Marsh Lane\, Henstridge\, BA8 0TG\, United Kingdom
CATEGORIES:Meet
ORGANIZER;CN="Paul Miles":MAILTO:pauledwinmiles@me.com
END:VEVENT
BEGIN:VEVENT
DTSTART;TZID=Europe/London:20190928T100000
DTEND;TZID=Europe/London:20190928T110000
DTSTAMP:20260422T220435
CREATED:20170825T090448Z
LAST-MODIFIED:20181019T040558Z
UID:3244-1569664800-1569668400@dorsetvmcc.co.uk
SUMMARY:Breakfast Meet
DESCRIPTION:
URL:https://dorsetvmcc.co.uk/event/breakfast-meet-5-2-12-2-9/
LOCATION:Henstridge Golf and Leisure\, Henstridge Golf and Leisure\, Marsh Lane\, Henstridge\, BA8 0TG\, United Kingdom
CATEGORIES:Meet
ORGANIZER;CN="Paul Miles":MAILTO:pauledwinmiles@me.com
END:VEVENT
BEGIN:VEVENT
DTSTART;TZID=Europe/London:20190918T140000
DTEND;TZID=Europe/London:20190918T170000
DTSTAMP:20260422T220435
CREATED:20181019T175705Z
LAST-MODIFIED:20190816T065103Z
UID:3339-1568815200-1568826000@dorsetvmcc.co.uk
SUMMARY:Mid-Week Run
DESCRIPTION:40 mile run \nPlease note these changes from our printed events card:  This run is now organised by Rod Hann and starts from the centre of Milton Abbas\, next to the Saint James’ Church on The Street.
URL:https://dorsetvmcc.co.uk/event/mid-week-run-4/
LOCATION:Centre of Milton Abbas\, Saint James Church\, The Street\, Milton Abbas\, DT11 0BW\, United Kingdom
CATEGORIES:Run
ORGANIZER;CN="Rod Hann":MAILTO:rodhann@hotmail.co.uk
END:VEVENT
BEGIN:VEVENT
DTSTART;TZID=Europe/London:20190915T110000
DTEND;TZID=Europe/London:20190915T110000
DTSTAMP:20260422T220435
CREATED:20170416T050606Z
LAST-MODIFIED:20190723T192632Z
UID:3324-1568545200-1568545200@dorsetvmcc.co.uk
SUMMARY:Last Of The Summer Wine Run
DESCRIPTION:
URL:https://dorsetvmcc.co.uk/event/last-of-the-summer-wine-run-2-2/
LOCATION:Hinton St Mary Village Hall\, Hinton St Mary\, DT10 1LT\, United Kingdom
CATEGORIES:Run
ORGANIZER;CN="Phil Allen":MAILTO:allenphill@hotmail.com
END:VEVENT
BEGIN:VEVENT
DTSTART;TZID=Europe/London:20190911T193000
DTEND;TZID=Europe/London:20190911T220000
DTSTAMP:20260422T220435
CREATED:20171018T180653Z
LAST-MODIFIED:20190819T072238Z
UID:3293-1568230200-1568239200@dorsetvmcc.co.uk
SUMMARY:Club Night - Quiz Evening
DESCRIPTION:
URL:https://dorsetvmcc.co.uk/event/quiz-night-3/
LOCATION:Henstridge Golf and Leisure\, Henstridge Golf and Leisure\, Marsh Lane\, Henstridge\, BA8 0TG\, United Kingdom
CATEGORIES:Club Night
ORGANIZER;CN="Ray Dickinson":MAILTO:raylinda228@gmail.com
END:VEVENT
BEGIN:VEVENT
DTSTART;TZID=Europe/London:20190904T120000
DTEND;TZID=Europe/London:20190904T130000
DTSTAMP:20260422T220435
CREATED:20171130T112835Z
LAST-MODIFIED:20181018T201011Z
UID:3221-1567598400-1567602000@dorsetvmcc.co.uk
SUMMARY:Lunch Meet
DESCRIPTION:
URL:https://dorsetvmcc.co.uk/event/lunch-meet-9-13-9/
LOCATION:Henstridge Golf and Leisure\, Henstridge Golf and Leisure\, Marsh Lane\, Henstridge\, BA8 0TG\, United Kingdom
CATEGORIES:Meet
ORGANIZER;CN="Paul Miles":MAILTO:pauledwinmiles@me.com
END:VEVENT
BEGIN:VEVENT
DTSTART;TZID=Europe/London:20190831T100000
DTEND;TZID=Europe/London:20190831T110000
DTSTAMP:20260422T220435
CREATED:20170825T090448Z
LAST-MODIFIED:20181019T040540Z
UID:3245-1567245600-1567249200@dorsetvmcc.co.uk
SUMMARY:Breakfast Meet
DESCRIPTION:
URL:https://dorsetvmcc.co.uk/event/breakfast-meet-5-2-12-2-8/
LOCATION:Henstridge Golf and Leisure\, Henstridge Golf and Leisure\, Marsh Lane\, Henstridge\, BA8 0TG\, United Kingdom
CATEGORIES:Meet
ORGANIZER;CN="Paul Miles":MAILTO:pauledwinmiles@me.com
END:VEVENT
BEGIN:VEVENT
DTSTART;TZID=Europe/London:20190821T140000
DTEND;TZID=Europe/London:20190821T170000
DTSTAMP:20260422T220435
CREATED:20181019T175705Z
LAST-MODIFIED:20190818T065707Z
UID:3340-1566396000-1566406800@dorsetvmcc.co.uk
SUMMARY:Mid-Week Run
DESCRIPTION:40 mile run \nPlease Note: the pub will be closed on Wednesday due to some staffing issues. So no pre-run drinks\, food or any other facilities I’m afraid. With their permission\, we’re still using their car park as the start location.
URL:https://dorsetvmcc.co.uk/event/mid-week-run-3/
CATEGORIES:Run
END:VEVENT
BEGIN:VEVENT
DTSTART;TZID=Europe/London:20190814T180000
DTEND;TZID=Europe/London:20190814T220000
DTSTAMP:20260422T220435
CREATED:20171018T180653Z
LAST-MODIFIED:20190802T060244Z
UID:3282-1565805600-1565820000@dorsetvmcc.co.uk
SUMMARY:Club Night - Autojumble and Social
DESCRIPTION:Please Note:  There is no food provided this year.
URL:https://dorsetvmcc.co.uk/event/autojumble-and-social/
LOCATION:Henstridge Golf and Leisure\, Henstridge Golf and Leisure\, Marsh Lane\, Henstridge\, BA8 0TG\, United Kingdom
CATEGORIES:Autojumble,Club Night
ORGANIZER;CN="Ray Dickinson":MAILTO:raylinda228@gmail.com
END:VEVENT
BEGIN:VEVENT
DTSTART;TZID=Europe/London:20190811T110000
DTEND;TZID=Europe/London:20190811T110000
DTSTAMP:20260422T220435
CREATED:20170416T050053Z
LAST-MODIFIED:20181019T163446Z
UID:3323-1565521200-1565521200@dorsetvmcc.co.uk
SUMMARY:Border Run
DESCRIPTION:After the run\, there is an optional Carvery lunch.  If you want this Carvery\, you must pre-book directly with Sandy at Henstridge Golf and Leisure.
URL:https://dorsetvmcc.co.uk/event/border-run-2-2/
LOCATION:Henstridge Golf and Leisure\, Henstridge Golf and Leisure\, Marsh Lane\, Henstridge\, BA8 0TG\, United Kingdom
CATEGORIES:Run
ORGANIZER;CN="Gabby Hunt":MAILTO:gabby.hunt@outlook.com
END:VEVENT
BEGIN:VEVENT
DTSTART;TZID=Europe/London:20190807T120000
DTEND;TZID=Europe/London:20190807T130000
DTSTAMP:20260422T220435
CREATED:20171130T112835Z
LAST-MODIFIED:20181018T200945Z
UID:3217-1565179200-1565182800@dorsetvmcc.co.uk
SUMMARY:Lunch Meet
DESCRIPTION:
URL:https://dorsetvmcc.co.uk/event/lunch-meet-9-13-8/
LOCATION:Henstridge Golf and Leisure\, Henstridge Golf and Leisure\, Marsh Lane\, Henstridge\, BA8 0TG\, United Kingdom
CATEGORIES:Meet
ORGANIZER;CN="Paul Miles":MAILTO:pauledwinmiles@me.com
END:VEVENT
BEGIN:VEVENT
DTSTART;TZID=Europe/London:20190728T110000
DTEND;TZID=Europe/London:20190728T110000
DTSTAMP:20260422T220435
CREATED:20170415T185923Z
LAST-MODIFIED:20190722T052908Z
UID:3322-1564311600-1564311600@dorsetvmcc.co.uk
SUMMARY:Jeff Clew Memorial Run
DESCRIPTION:Two routes\, both starting and ending at the Haynes Motor Museum and both with a coffee stop. \nBoth start at 11am so get there earlier to sign-on and grab a coffee from the Haynes café.  Plenty of parking and toilet facilities. \n\nRoute 1 : 42 flat miles for older bikes\nRoute 2 : 70 miles for newer machines\n\nEveryone is welcome.
URL:https://dorsetvmcc.co.uk/event/jeff-clew-memorial-run-2-2/
LOCATION:Haynes Motor Museum\, Sparkford\, Yeovil\, BA22 7LH\, United Kingdom
CATEGORIES:Run
ORGANIZER;CN="Rod Hann":MAILTO:rodhann@hotmail.co.uk
END:VEVENT
BEGIN:VEVENT
DTSTART;TZID=Europe/London:20190727T100000
DTEND;TZID=Europe/London:20190727T110000
DTSTAMP:20260422T220435
CREATED:20170825T090448Z
LAST-MODIFIED:20181019T040518Z
UID:3241-1564221600-1564225200@dorsetvmcc.co.uk
SUMMARY:Breakfast Meet
DESCRIPTION:
URL:https://dorsetvmcc.co.uk/event/breakfast-meet-5-2-12-2-7/
LOCATION:Henstridge Golf and Leisure\, Henstridge Golf and Leisure\, Marsh Lane\, Henstridge\, BA8 0TG\, United Kingdom
CATEGORIES:Meet
ORGANIZER;CN="Paul Miles":MAILTO:pauledwinmiles@me.com
END:VEVENT
BEGIN:VEVENT
DTSTART;TZID=Europe/London:20190717T140000
DTEND;TZID=Europe/London:20190717T170000
DTSTAMP:20260422T220435
CREATED:20181019T175705Z
LAST-MODIFIED:20181019T180610Z
UID:3341-1563372000-1563382800@dorsetvmcc.co.uk
SUMMARY:Mid-Week Run
DESCRIPTION:40 mile run
URL:https://dorsetvmcc.co.uk/event/mid-week-run-2/
LOCATION:Sturminster Newton Car Park\, Station Rd Car Park\, Sturminster Newton\, DT10 1DB\, United Kingdom
CATEGORIES:Run
END:VEVENT
BEGIN:VEVENT
DTSTART;TZID=Europe/London:20190714T110000
DTEND;TZID=Europe/London:20190714T110000
DTSTAMP:20260422T220435
CREATED:20170415T185549Z
LAST-MODIFIED:20181019T163232Z
UID:3321-1563102000-1563102000@dorsetvmcc.co.uk
SUMMARY:Veteran & Vintage Run
DESCRIPTION:
URL:https://dorsetvmcc.co.uk/event/veteran-vintage-run-2-2/
LOCATION:Leigh Village Hall\, Sherborne\, DT9 6HL\, United Kingdom
CATEGORIES:Run
ORGANIZER;CN="Rod Hann":MAILTO:rodhann@hotmail.co.uk
END:VEVENT
BEGIN:VEVENT
DTSTART;TZID=Europe/London:20190710T193000
DTEND;TZID=Europe/London:20190710T220000
DTSTAMP:20260422T220435
CREATED:20171018T180653Z
LAST-MODIFIED:20181019T084758Z
UID:3280-1562787000-1562796000@dorsetvmcc.co.uk
SUMMARY:Club Night - Car and Bike Meet
DESCRIPTION:
URL:https://dorsetvmcc.co.uk/event/car-and-bike-meet-2/
LOCATION:Henstridge Golf and Leisure\, Henstridge Golf and Leisure\, Marsh Lane\, Henstridge\, BA8 0TG\, United Kingdom
CATEGORIES:Club Night
ORGANIZER;CN="Phil Allen":MAILTO:allenphill@hotmail.com
END:VEVENT
END:VCALENDAR