BEGIN:VCALENDAR
VERSION:2.0
PRODID:-//VMCC Dorset Section - ECPv6.15.20//NONSGML v1.0//EN
CALSCALE:GREGORIAN
METHOD:PUBLISH
X-WR-CALNAME:VMCC Dorset Section
X-ORIGINAL-URL:https://dorsetvmcc.co.uk
X-WR-CALDESC:Events for VMCC Dorset Section
REFRESH-INTERVAL;VALUE=DURATION:PT1H
X-Robots-Tag:noindex
X-PUBLISHED-TTL:PT1H
BEGIN:VTIMEZONE
TZID:Europe/London
BEGIN:DAYLIGHT
TZOFFSETFROM:+0000
TZOFFSETTO:+0100
TZNAME:BST
DTSTART:20160327T010000
END:DAYLIGHT
BEGIN:STANDARD
TZOFFSETFROM:+0100
TZOFFSETTO:+0000
TZNAME:GMT
DTSTART:20161030T010000
END:STANDARD
BEGIN:DAYLIGHT
TZOFFSETFROM:+0000
TZOFFSETTO:+0100
TZNAME:BST
DTSTART:20170326T010000
END:DAYLIGHT
BEGIN:STANDARD
TZOFFSETFROM:+0100
TZOFFSETTO:+0000
TZNAME:GMT
DTSTART:20171029T010000
END:STANDARD
BEGIN:DAYLIGHT
TZOFFSETFROM:+0000
TZOFFSETTO:+0100
TZNAME:BST
DTSTART:20180325T010000
END:DAYLIGHT
BEGIN:STANDARD
TZOFFSETFROM:+0100
TZOFFSETTO:+0000
TZNAME:GMT
DTSTART:20181028T010000
END:STANDARD
END:VTIMEZONE
BEGIN:VEVENT
DTSTART;TZID=Europe/London:20171217T110000
DTEND;TZID=Europe/London:20171217T110000
DTSTAMP:20260419T233056
CREATED:20170416T051403Z
LAST-MODIFIED:20171018T175958Z
UID:199-1513508400-1513508400@dorsetvmcc.co.uk
SUMMARY:Christmas Run and Dinner
DESCRIPTION:
URL:https://dorsetvmcc.co.uk/event/christmas-run-and-dinner/
LOCATION:Leigh Village Hall\, Sherborne\, DT9 6HL\, United Kingdom
ORGANIZER;CN="Rod Hann":MAILTO:rodhann@hotmail.co.uk
END:VEVENT
BEGIN:VEVENT
DTSTART;TZID=Europe/London:20171217T090000
DTEND;TZID=Europe/London:20171217T170000
DTSTAMP:20260419T233056
CREATED:20170708T105554Z
LAST-MODIFIED:20170708T105554Z
UID:450-1513501200-1513530000@dorsetvmcc.co.uk
SUMMARY:Haynes Bikers’ Breakfast Ride-in
DESCRIPTION:
URL:https://dorsetvmcc.co.uk/event/haynes-bikers-breakfast-ride-in-6/
LOCATION:Haynes Motor Museum\, Sparkford\, Yeovil\, BA22 7LH\, United Kingdom
END:VEVENT
BEGIN:VEVENT
DTSTART;TZID=Europe/London:20171213T193000
DTEND;TZID=Europe/London:20171213T193000
DTSTAMP:20260419T233056
CREATED:20170416T051258Z
LAST-MODIFIED:20170621T061439Z
UID:197-1513193400-1513193400@dorsetvmcc.co.uk
SUMMARY:Club Night - Social evening and buffet
DESCRIPTION:
URL:https://dorsetvmcc.co.uk/event/club-night-social-evening-and-buffet/
LOCATION:Henstridge Golf and Leisure\, Henstridge Golf and Leisure\, Marsh Lane\, Henstridge\, BA8 0TG\, United Kingdom
CATEGORIES:Club Night
ORGANIZER;CN="Ray Dickinson":MAILTO:raylinda228@gmail.com
END:VEVENT
BEGIN:VEVENT
DTSTART;TZID=Europe/London:20171206T120000
DTEND;TZID=Europe/London:20171206T120000
DTSTAMP:20260419T233056
CREATED:20170414T185053Z
LAST-MODIFIED:20170414T185053Z
UID:144-1512561600-1512561600@dorsetvmcc.co.uk
SUMMARY:Lunch Meet
DESCRIPTION:
URL:https://dorsetvmcc.co.uk/event/lunch-meet-8/
LOCATION:Riverside Cafe\, West Stour\, SP8 5RJ\, United Kingdom
ORGANIZER;CN="Rod Hann":MAILTO:rodhann@hotmail.co.uk
END:VEVENT
BEGIN:VEVENT
DTSTART;TZID=Europe/London:20171119T110000
DTEND;TZID=Europe/London:20171119T110000
DTSTAMP:20260419T233056
CREATED:20171010T203202Z
LAST-MODIFIED:20171010T203202Z
UID:982-1511089200-1511089200@dorsetvmcc.co.uk
SUMMARY:Winter Run
DESCRIPTION:
URL:https://dorsetvmcc.co.uk/event/winter-run/
LOCATION:Orchard Park Garden Centre\, Gillingham\, SP8 5JG\, United Kingdom
END:VEVENT
BEGIN:VEVENT
DTSTART;TZID=Europe/London:20171119T090000
DTEND;TZID=Europe/London:20171119T090000
DTSTAMP:20260419T233056
CREATED:20170708T105500Z
LAST-MODIFIED:20170708T105735Z
UID:448-1511082000-1511082000@dorsetvmcc.co.uk
SUMMARY:Haynes Bikers’ Breakfast Ride-in
DESCRIPTION:
URL:https://dorsetvmcc.co.uk/event/haynes-bikers-breakfast-ride-in-5/
LOCATION:Haynes Motor Museum\, Sparkford\, Yeovil\, BA22 7LH\, United Kingdom
END:VEVENT
BEGIN:VEVENT
DTSTART;TZID=Europe/London:20171108T193000
DTEND;TZID=Europe/London:20171108T193000
DTSTAMP:20260419T233056
CREATED:20170416T051141Z
LAST-MODIFIED:20170621T061439Z
UID:195-1510169400-1510169400@dorsetvmcc.co.uk
SUMMARY:Club Night - SS Great Britain - Ian Caskie
DESCRIPTION:
URL:https://dorsetvmcc.co.uk/event/club-night-ss-great-britain-ian-caskie/
LOCATION:Henstridge Golf and Leisure\, Henstridge Golf and Leisure\, Marsh Lane\, Henstridge\, BA8 0TG\, United Kingdom
CATEGORIES:Club Night
ORGANIZER;CN="Ray Dickinson":MAILTO:raylinda228@gmail.com
END:VEVENT
BEGIN:VEVENT
DTSTART;TZID=Europe/London:20171101T120000
DTEND;TZID=Europe/London:20171101T120000
DTSTAMP:20260419T233056
CREATED:20170414T184942Z
LAST-MODIFIED:20170414T184942Z
UID:133-1509537600-1509537600@dorsetvmcc.co.uk
SUMMARY:Lunch Meet
DESCRIPTION:
URL:https://dorsetvmcc.co.uk/event/lunch-meet-7/
LOCATION:Riverside Cafe\, West Stour\, SP8 5RJ\, United Kingdom
ORGANIZER;CN="Rod Hann":MAILTO:rodhann@hotmail.co.uk
END:VEVENT
BEGIN:VEVENT
DTSTART;TZID=Europe/London:20171015T090000
DTEND;TZID=Europe/London:20171015T090000
DTSTAMP:20260419T233056
CREATED:20170708T105423Z
LAST-MODIFIED:20170708T105810Z
UID:446-1508058000-1508058000@dorsetvmcc.co.uk
SUMMARY:Haynes Bikers’ Breakfast Ride-in
DESCRIPTION:
URL:https://dorsetvmcc.co.uk/event/haynes-bikers-breakfast-ride-in-4/
LOCATION:Haynes Motor Museum\, Sparkford\, Yeovil\, BA22 7LH\, United Kingdom
END:VEVENT
BEGIN:VEVENT
DTSTART;TZID=Europe/London:20171011T203000
DTEND;TZID=Europe/London:20171011T203000
DTSTAMP:20260419T233056
CREATED:20170416T051034Z
LAST-MODIFIED:20170621T061439Z
UID:192-1507753800-1507753800@dorsetvmcc.co.uk
SUMMARY:Club Night - AGM
DESCRIPTION:
URL:https://dorsetvmcc.co.uk/event/club-night-agm/
LOCATION:Henstridge Golf and Leisure\, Henstridge Golf and Leisure\, Marsh Lane\, Henstridge\, BA8 0TG\, United Kingdom
CATEGORIES:Club Night
ORGANIZER;CN="Ken Druce":MAILTO:kenneth.druce@talktalk.net
END:VEVENT
BEGIN:VEVENT
DTSTART;TZID=Europe/London:20171008T120000
DTEND;TZID=Europe/London:20171008T120000
DTSTAMP:20260419T233056
CREATED:20170416T050826Z
LAST-MODIFIED:20170621T061517Z
UID:188-1507464000-1507464000@dorsetvmcc.co.uk
SUMMARY:Autumn Run
DESCRIPTION:
URL:https://dorsetvmcc.co.uk/event/autumn-run/
LOCATION:Bradford’s Yard\, Digby Road\, Sherborne\, DT9 3NW\, United Kingdom
CATEGORIES:Run
END:VEVENT
BEGIN:VEVENT
DTSTART;TZID=Europe/London:20171004T130000
DTEND;TZID=Europe/London:20171004T130000
DTSTAMP:20260419T233056
CREATED:20170414T184913Z
LAST-MODIFIED:20170414T184913Z
UID:134-1507122000-1507122000@dorsetvmcc.co.uk
SUMMARY:Lunch Meet
DESCRIPTION:
URL:https://dorsetvmcc.co.uk/event/lunch-meet-6/
LOCATION:Riverside Cafe\, West Stour\, SP8 5RJ\, United Kingdom
ORGANIZER;CN="Rod Hann":MAILTO:rodhann@hotmail.co.uk
END:VEVENT
BEGIN:VEVENT
DTSTART;TZID=Europe/London:20170920T200000
DTEND;TZID=Europe/London:20170920T200000
DTSTAMP:20260419T233056
CREATED:20170804T074904Z
LAST-MODIFIED:20170804T074904Z
UID:799-1505937600-1505937600@dorsetvmcc.co.uk
SUMMARY:Stonehenge Section Intersection Annual Quiz
DESCRIPTION:Details are below: \nWe meet at Redlynch Sports and Social Club\, Woodfalls\, near Downton\, Wiltshire\, SP5 2LN.\nClub telephone number is 01725 511281. \nThe quiz will start promptly at 8pm and refreshments will be provided at the end of the quiz during marking of the answer sheets. \nDirections to the Redlynch Sports and Social Club:-\nFrom Salisbury take the A338 to Downton. Turn left at the traffic lights in Downton.\nContinue on this road for 3 miles to the village of Woodfalls.\nThe Sports and Social Club is on the left hand side immediately after the Woodfalls Inn.\nThere is plenty of parking at the club. \nkeithstarks@btinternet.com
URL:https://dorsetvmcc.co.uk/event/stonehenge-section-intersection-annual-quiz/
LOCATION:Redlynch Sports and Social Club\, Woodfalls\, near Downton\, Wiltshire\, SP5 2LN\, Redlynch Sports and Social Club\, Woodfalls\, SP5 2LN\, United Kingdom
END:VEVENT
BEGIN:VEVENT
DTSTART;TZID=Europe/London:20170917T120000
DTEND;TZID=Europe/London:20170917T120000
DTSTAMP:20260419T233056
CREATED:20170416T050606Z
LAST-MODIFIED:20170621T061517Z
UID:185-1505649600-1505649600@dorsetvmcc.co.uk
SUMMARY:Last Of The Summer Wine - Run
DESCRIPTION:
URL:https://dorsetvmcc.co.uk/event/last-of-the-summer-wine-run/
LOCATION:Hinton St Mary Village Hall\, Hinton St Mary\, DT10 1LT\, United Kingdom
CATEGORIES:Run
ORGANIZER;CN="Bob Hoare":MAILTO:bobandmarj@btinternet.com
END:VEVENT
BEGIN:VEVENT
DTSTART;TZID=Europe/London:20170917T090000
DTEND;TZID=Europe/London:20170917T090000
DTSTAMP:20260419T233056
CREATED:20170708T105344Z
LAST-MODIFIED:20170708T105344Z
UID:444-1505638800-1505638800@dorsetvmcc.co.uk
SUMMARY:Haynes Bikers’ Breakfast Ride-in
DESCRIPTION:
URL:https://dorsetvmcc.co.uk/event/haynes-bikers-breakfast-ride-in-3/
LOCATION:Haynes Motor Museum\, Sparkford\, Yeovil\, BA22 7LH\, United Kingdom
END:VEVENT
BEGIN:VEVENT
DTSTART;TZID=Europe/London:20170913T203000
DTEND;TZID=Europe/London:20170913T203000
DTSTAMP:20260419T233056
CREATED:20170416T050400Z
LAST-MODIFIED:20170621T061439Z
UID:183-1505334600-1505334600@dorsetvmcc.co.uk
SUMMARY:Club Night - Section's 50th Birthday
DESCRIPTION:
URL:https://dorsetvmcc.co.uk/event/club-night-sections-50th-birthday/
LOCATION:Henstridge Golf and Leisure\, Henstridge Golf and Leisure\, Marsh Lane\, Henstridge\, BA8 0TG\, United Kingdom
CATEGORIES:Club Night
ORGANIZER;CN="Ray Dickinson":MAILTO:raylinda228@gmail.com
END:VEVENT
BEGIN:VEVENT
DTSTART;TZID=Europe/London:20170906T130000
DTEND;TZID=Europe/London:20170906T130000
DTSTAMP:20260419T233056
CREATED:20170414T184856Z
LAST-MODIFIED:20170414T184856Z
UID:135-1504702800-1504702800@dorsetvmcc.co.uk
SUMMARY:Lunch Meet
DESCRIPTION:
URL:https://dorsetvmcc.co.uk/event/lunch-meet-5/
LOCATION:Riverside Cafe\, West Stour\, SP8 5RJ\, United Kingdom
ORGANIZER;CN="Rod Hann":MAILTO:rodhann@hotmail.co.uk
END:VEVENT
BEGIN:VEVENT
DTSTART;TZID=Europe/London:20170826T100000
DTEND;TZID=Europe/London:20170826T100000
DTSTAMP:20260419T233056
CREATED:20170825T090448Z
LAST-MODIFIED:20170825T090648Z
UID:861-1503741600-1503741600@dorsetvmcc.co.uk
SUMMARY:Breakfast Meet
DESCRIPTION:
URL:https://dorsetvmcc.co.uk/event/breakfast-meet-5/
LOCATION:Riverside Cafe\, West Stour\, SP8 5RJ\, United Kingdom
ORGANIZER;CN="Rod Hann":MAILTO:rodhann@hotmail.co.uk
END:VEVENT
BEGIN:VEVENT
DTSTART;TZID=Europe/London:20170820T090000
DTEND;TZID=Europe/London:20170820T090000
DTSTAMP:20260419T233056
CREATED:20170708T105254Z
LAST-MODIFIED:20170708T105254Z
UID:442-1503219600-1503219600@dorsetvmcc.co.uk
SUMMARY:Haynes Bikers’ Breakfast Ride-in
DESCRIPTION:
URL:https://dorsetvmcc.co.uk/event/haynes-bikers-breakfast-ride-in-2/
LOCATION:Haynes Motor Museum\, Sparkford\, Yeovil\, BA22 7LH\, United Kingdom
END:VEVENT
BEGIN:VEVENT
DTSTART;TZID=Europe/London:20170812T093000
DTEND;TZID=Europe/London:20170812T170000
DTSTAMP:20260419T233056
CREATED:20170704T204536Z
LAST-MODIFIED:20170704T204536Z
UID:422-1502530200-1502557200@dorsetvmcc.co.uk
SUMMARY:VMCC Somerset Autojumble
DESCRIPTION:Diary Date! Saturday 12 August 2017\nThe VMCC’s giant AUTOJUMBLE returns to the Royal Bath and West Showground at Shepton Mallet\, BA4 6QN\nDoors open 9.30am. Three indoor halls plus masses of stalls outdoors stuffed with genuine NOS and used spares plus a good range of specialists supplying new components\, accessories and workshop kit. Heaps of interesting bikes to view in the carp park: normally heaps more to buy inside.\nAdmission £3. Free parking. Indoor café facilities and refreshment vans.\n01297 32853 / www.vmccsomerset.co.uk
URL:https://dorsetvmcc.co.uk/event/vmcc-somerset-autojumble/
LOCATION:Royal Bath and West Showground\, Shepton Mallet\, BA4 6QN\, United Kingdom
END:VEVENT
BEGIN:VEVENT
DTSTART;TZID=Europe/London:20170809T203000
DTEND;TZID=Europe/London:20170809T203000
DTSTAMP:20260419T233056
CREATED:20170416T050237Z
LAST-MODIFIED:20170621T061439Z
UID:180-1502310600-1502310600@dorsetvmcc.co.uk
SUMMARY:Club Night - Auto Jumble and Barbeque
DESCRIPTION:
URL:https://dorsetvmcc.co.uk/event/club-night-auto-jumble-and-barbeque/
LOCATION:Henstridge Golf and Leisure\, Henstridge Golf and Leisure\, Marsh Lane\, Henstridge\, BA8 0TG\, United Kingdom
CATEGORIES:Club Night
ORGANIZER;CN="Ray Dickinson":MAILTO:raylinda228@gmail.com
END:VEVENT
BEGIN:VEVENT
DTSTART;TZID=Europe/London:20170806T120000
DTEND;TZID=Europe/London:20170806T120000
DTSTAMP:20260419T233056
CREATED:20170416T050053Z
LAST-MODIFIED:20170621T061517Z
UID:176-1502020800-1502020800@dorsetvmcc.co.uk
SUMMARY:Border Run
DESCRIPTION:
URL:https://dorsetvmcc.co.uk/event/border-run/
LOCATION:Orchard Park Garden Centre\, Gillingham\, SP8 5JG\, United Kingdom
CATEGORIES:Run
ORGANIZER;CN="Gabby Hunt":MAILTO:gabby.hunt@outlook.com
END:VEVENT
BEGIN:VEVENT
DTSTART;TZID=Europe/London:20170802T130000
DTEND;TZID=Europe/London:20170802T130000
DTSTAMP:20260419T233056
CREATED:20170414T184832Z
LAST-MODIFIED:20170414T184832Z
UID:136-1501678800-1501678800@dorsetvmcc.co.uk
SUMMARY:Lunch Meet
DESCRIPTION:
URL:https://dorsetvmcc.co.uk/event/lunch-meet-4/
LOCATION:Riverside Cafe\, West Stour\, SP8 5RJ\, United Kingdom
ORGANIZER;CN="Rod Hann":MAILTO:rodhann@hotmail.co.uk
END:VEVENT
BEGIN:VEVENT
DTSTART;TZID=Europe/London:20170730T120000
DTEND;TZID=Europe/London:20170730T120000
DTSTAMP:20260419T233056
CREATED:20170415T185923Z
LAST-MODIFIED:20170621T061518Z
UID:173-1501416000-1501416000@dorsetvmcc.co.uk
SUMMARY:Jeff Clew Memorial Run
DESCRIPTION:
URL:https://dorsetvmcc.co.uk/event/jeff-clew-memorial-run/
LOCATION:Haynes Motor Museum\, Sparkford\, Yeovil\, BA22 7LH\, United Kingdom
CATEGORIES:Run
ORGANIZER;CN="Rod Hann":MAILTO:rodhann@hotmail.co.uk
END:VEVENT
BEGIN:VEVENT
DTSTART;TZID=Europe/London:20170729T110000
DTEND;TZID=Europe/London:20170729T110000
DTSTAMP:20260419T233056
CREATED:20170414T174507Z
LAST-MODIFIED:20170414T174507Z
UID:125-1501326000-1501326000@dorsetvmcc.co.uk
SUMMARY:Breakfast Meet
DESCRIPTION:
URL:https://dorsetvmcc.co.uk/event/breakfast-meet-4/
LOCATION:Riverside Cafe\, West Stour\, SP8 5RJ\, United Kingdom
ORGANIZER;CN="Rod Hann":MAILTO:rodhann@hotmail.co.uk
END:VEVENT
BEGIN:VEVENT
DTSTART;TZID=Europe/London:20170716T090000
DTEND;TZID=Europe/London:20170716T090000
DTSTAMP:20260419T233056
CREATED:20170708T105157Z
LAST-MODIFIED:20170708T105157Z
UID:440-1500195600-1500195600@dorsetvmcc.co.uk
SUMMARY:Haynes Bikers’ Breakfast Ride-in
DESCRIPTION:
URL:https://dorsetvmcc.co.uk/event/haynes-bikers-breakfast-ride-in/
LOCATION:Haynes Motor Museum\, Sparkford\, Yeovil\, BA22 7LH\, United Kingdom
END:VEVENT
BEGIN:VEVENT
DTSTART;TZID=Europe/London:20170715T100000
DTEND;TZID=Europe/London:20170715T100000
DTSTAMP:20260419T233056
CREATED:20170713T045822Z
LAST-MODIFIED:20170713T045822Z
UID:490-1500112800-1500112800@dorsetvmcc.co.uk
SUMMARY:Classic and Supercars at Sherborne Castle
DESCRIPTION:The VMCC Dorset Section has its gazebo stall at this event — come and support us:
URL:https://dorsetvmcc.co.uk/event/classic-and-supercars-at-sherborne-castle/
LOCATION:Sherborne Castle\, DT9 5NR\, United Kingdom
END:VEVENT
BEGIN:VEVENT
DTSTART;TZID=Europe/London:20170712T203000
DTEND;TZID=Europe/London:20170712T203000
DTSTAMP:20260419T233056
CREATED:20170415T185723Z
LAST-MODIFIED:20170705T134212Z
UID:170-1499891400-1499891400@dorsetvmcc.co.uk
SUMMARY:Club Night Car & Bike Meet
DESCRIPTION:
URL:https://dorsetvmcc.co.uk/event/club-night-car-bike-meet/
LOCATION:Henstridge Golf and Leisure\, Henstridge Golf and Leisure\, Marsh Lane\, Henstridge\, BA8 0TG\, United Kingdom
CATEGORIES:Club Night
ORGANIZER;CN="Tony Morpeth":MAILTO:morpeth1935@icloud.com
END:VEVENT
BEGIN:VEVENT
DTSTART;TZID=Europe/London:20170709T120000
DTEND;TZID=Europe/London:20170709T120000
DTSTAMP:20260419T233056
CREATED:20170415T185549Z
LAST-MODIFIED:20170621T061518Z
UID:167-1499601600-1499601600@dorsetvmcc.co.uk
SUMMARY:Veteran & Vintage Run
DESCRIPTION:
URL:https://dorsetvmcc.co.uk/event/veteran-vintage-run/
LOCATION:Leigh Village Hall\, Sherborne\, DT9 6HL\, United Kingdom
CATEGORIES:Run
ORGANIZER;CN="Rod Hann":MAILTO:rodhann@hotmail.co.uk
END:VEVENT
BEGIN:VEVENT
DTSTART;TZID=Europe/London:20170709T113000
DTEND;TZID=Europe/London:20170709T113000
DTSTAMP:20260419T233056
CREATED:20170619T114824Z
LAST-MODIFIED:20170621T061518Z
UID:373-1499599800-1499599800@dorsetvmcc.co.uk
SUMMARY:Lawrence of Arabia Run
DESCRIPTION:Please Note: This is a VMCC South Dorset Section Event. \nHello Vintage Bikers . Next month will be our annual Lawrence of Arabia Event with a new route for this year taking in some beautiful Dorset views and riding through some of the countryside which the legend himself often rode on his Brough. \nThe Run is on the 9th of July from the Spitfire Club at Crossways near Dorchester and will be setting off at 10-30am. Coffee on arrival will be provided and a cup of tea on completion so please arrive in good time to get booked in . \nEntries can be obtained from John Morey\, 20 Hillview\, Bradpole\, Bridport DT6 3EF at £8 per bike\, passengers go free. Booking on the day will be an extra £2
URL:https://dorsetvmcc.co.uk/event/lawrence-of-arabia-run/
LOCATION:Spitfire Club\, 80 Mount Skippet Way\, Crossways\, Dorset\, DT2 8TP\, United Kingdom
CATEGORIES:Run
ORGANIZER;CN="John Morey":MAILTO:johnmorey.bikes@googlemail.com
END:VEVENT
END:VCALENDAR