BEGIN:VCALENDAR
VERSION:2.0
PRODID:-//VMCC Dorset Section - ECPv6.15.20//NONSGML v1.0//EN
CALSCALE:GREGORIAN
METHOD:PUBLISH
X-WR-CALNAME:VMCC Dorset Section
X-ORIGINAL-URL:https://dorsetvmcc.co.uk
X-WR-CALDESC:Events for VMCC Dorset Section
REFRESH-INTERVAL;VALUE=DURATION:PT1H
X-Robots-Tag:noindex
X-PUBLISHED-TTL:PT1H
BEGIN:VTIMEZONE
TZID:Europe/London
BEGIN:DAYLIGHT
TZOFFSETFROM:+0000
TZOFFSETTO:+0100
TZNAME:BST
DTSTART:20170326T010000
END:DAYLIGHT
BEGIN:STANDARD
TZOFFSETFROM:+0100
TZOFFSETTO:+0000
TZNAME:GMT
DTSTART:20171029T010000
END:STANDARD
BEGIN:DAYLIGHT
TZOFFSETFROM:+0000
TZOFFSETTO:+0100
TZNAME:BST
DTSTART:20180325T010000
END:DAYLIGHT
BEGIN:STANDARD
TZOFFSETFROM:+0100
TZOFFSETTO:+0000
TZNAME:GMT
DTSTART:20181028T010000
END:STANDARD
BEGIN:DAYLIGHT
TZOFFSETFROM:+0000
TZOFFSETTO:+0100
TZNAME:BST
DTSTART:20190331T010000
END:DAYLIGHT
BEGIN:STANDARD
TZOFFSETFROM:+0100
TZOFFSETTO:+0000
TZNAME:GMT
DTSTART:20191027T010000
END:STANDARD
END:VTIMEZONE
BEGIN:VEVENT
DTSTART;TZID=Europe/London:20180603T080000
DTEND;TZID=Europe/London:20180603T170000
DTSTAMP:20260420T223131
CREATED:20180423T145140Z
LAST-MODIFIED:20180423T194350Z
UID:2140-1528012800-1528045200@dorsetvmcc.co.uk
SUMMARY:Cornwall Section : Lands End Run 2018
DESCRIPTION:Hi all\, \n\nPlease find attached the entry and regulations forms for the Cornwall Sections "Lands End Run"\, which is taking place on Sunday 3rd of June 2018.\n\nIf any of your members wish to attend they would be most welcome.\n\nThe run starts at the Borough Arms\, Dunmere\, Bodmin and finishes at the Lands End complex.\n\nRiders assemble at the Borough Arms car park from 8 am\, where there will be toilet facilities and a free tea or coffee.\n\nJudging takes place from 9 am and the run commences at 10 am.\n\nRiders travel along the north coast of Cornwall\, including the scenic element from St Ives to Lands End.\n\nThe lunch stop will be at Portreath\, with various lunch options for participants. The runs presentation will take place at 3.30pm at the Lands End complex.  Each member will receive a finishers award for taking part on the run.\n\nIf you would like any further information regarding this run please ring me on 01208 863061.\n\nBest wishes\n\nSally Pearce\nAssistant Secretary\nCornwall Section\n\nLANDS END RUN ENTRY FORM 2018\nLANDS END RUN REGULATIONS 2018
URL:https://dorsetvmcc.co.uk/event/cornwall-sections-lands-end-run-2018/
CATEGORIES:Run
END:VEVENT
BEGIN:VEVENT
DTSTART;TZID=Europe/London:20180602T100000
DTEND;TZID=Europe/London:20180602T170000
DTSTAMP:20260420T223131
CREATED:20171129T195123Z
LAST-MODIFIED:20171129T195123Z
UID:1137-1527933600-1527958800@dorsetvmcc.co.uk
SUMMARY:Gillingham In Gear : Club Stand
DESCRIPTION:Volunteers needed to man the Club Stand.
URL:https://dorsetvmcc.co.uk/event/gillingham-in-gear-club-stand/
CATEGORIES:Show
ORGANIZER;CN="Chris Smith":MAILTO:classicchris62@gmail.com
END:VEVENT
BEGIN:VEVENT
DTSTART;TZID=Europe/London:20180526T100000
DTEND;TZID=Europe/London:20180526T110000
DTSTAMP:20260420T223131
CREATED:20170825T090448Z
LAST-MODIFIED:20171130T114945Z
UID:1183-1527328800-1527332400@dorsetvmcc.co.uk
SUMMARY:Breakfast Meet
DESCRIPTION:
URL:https://dorsetvmcc.co.uk/event/breakfast-meet-5-2-5/
LOCATION:Riverside Cafe\, West Stour\, SP8 5RJ\, United Kingdom
CATEGORIES:Meet
ORGANIZER;CN="Rod Hann":MAILTO:rodhann@hotmail.co.uk
END:VEVENT
BEGIN:VEVENT
DTSTART;VALUE=DATE:20180519
DTEND;VALUE=DATE:20180521
DTSTAMP:20260420T223131
CREATED:20180423T143322Z
LAST-MODIFIED:20180423T194259Z
UID:2131-1526688000-1526860799@dorsetvmcc.co.uk
SUMMARY:The Three Okefords Rally 2018
DESCRIPTION:Gates open 10am each day.
URL:https://dorsetvmcc.co.uk/event/the-three-okefords-rally-2018/
CATEGORIES:Show
END:VEVENT
BEGIN:VEVENT
DTSTART;TZID=Europe/London:20180517T100000
DTEND;TZID=Europe/London:20180517T170000
DTSTAMP:20260420T223131
CREATED:20180423T190925Z
LAST-MODIFIED:20180423T190925Z
UID:2145-1526551200-1526576400@dorsetvmcc.co.uk
SUMMARY:Wessex V&V: Picnic Run
DESCRIPTION:
URL:https://dorsetvmcc.co.uk/event/wessex-vv-picnic-run/
CATEGORIES:Run
END:VEVENT
BEGIN:VEVENT
DTSTART;TZID=Europe/London:20180509T193000
DTEND;TZID=Europe/London:20180509T220000
DTSTAMP:20260420T223131
CREATED:20171018T180653Z
LAST-MODIFIED:20171129T201555Z
UID:1028-1525894200-1525903200@dorsetvmcc.co.uk
SUMMARY:Club Night - John Spencer : The AC Company and the Weller Motor Cycle
DESCRIPTION:
URL:https://dorsetvmcc.co.uk/event/john-spencer/
LOCATION:Henstridge Golf and Leisure\, Henstridge Golf and Leisure\, Marsh Lane\, Henstridge\, BA8 0TG\, United Kingdom
CATEGORIES:Club Night
ORGANIZER;CN="Tony Morpeth":MAILTO:morpeth1935@icloud.com
END:VEVENT
BEGIN:VEVENT
DTSTART;TZID=Europe/London:20180506T100000
DTEND;TZID=Europe/London:20180506T160000
DTSTAMP:20260420T223131
CREATED:20171129T191030Z
LAST-MODIFIED:20180327T081422Z
UID:1133-1525600800-1525622400@dorsetvmcc.co.uk
SUMMARY:VMCC Relay Rally : Checkpoint
DESCRIPTION:Volunteers need to man our Checkpoint! \nTimes shown are when our Checkpoint is open.
URL:https://dorsetvmcc.co.uk/event/vmcc-relay-rally-checkpoint/
LOCATION:Henstridge Golf and Leisure\, Henstridge Golf and Leisure\, Marsh Lane\, Henstridge\, BA8 0TG\, United Kingdom
CATEGORIES:Run
ORGANIZER;CN="Phil Allen":MAILTO:allenphill@hotmail.com
END:VEVENT
BEGIN:VEVENT
DTSTART;TZID=Europe/London:20180502T143000
DTEND;TZID=Europe/London:20180502T153000
DTSTAMP:20260420T223131
CREATED:20180423T144556Z
LAST-MODIFIED:20180423T194241Z
UID:2137-1525271400-1525275000@dorsetvmcc.co.uk
SUMMARY:Goldie Club going to Moto Corsa\, Gillingham
DESCRIPTION:The Goldie Club is going to Moto Corsa in Gillingham on Wednesday\, 2nd May at 2.30/3.00 pm for tea and buns\, then on to the Half Moon in Shaftesbury for their monthly meeting. Everyone is welcome to both venues.  The more the better. If the weather is amiable they might do a short run out before their evening meeting. \nIf you need more information\, contact me (Paul Wirdnam) and I’ll put you in touch with Ron May.
URL:https://dorsetvmcc.co.uk/event/goldie-club-going-to-moto-corsa-gillingham/
LOCATION:The Old Brewery Café (formerly Moto Corsa)\, The Old Brewery Wyke Road\, Gillingham\, SP8 4NW\, United Kingdom
CATEGORIES:Meet
END:VEVENT
BEGIN:VEVENT
DTSTART;TZID=Europe/London:20180502T120000
DTEND;TZID=Europe/London:20180502T130000
DTSTAMP:20260420T223131
CREATED:20171130T112835Z
LAST-MODIFIED:20171130T114945Z
UID:1166-1525262400-1525266000@dorsetvmcc.co.uk
SUMMARY:Lunch Meet
DESCRIPTION:
URL:https://dorsetvmcc.co.uk/event/lunch-meet-9-6/
LOCATION:Riverside Cafe\, West Stour\, SP8 5RJ\, United Kingdom
CATEGORIES:Meet
ORGANIZER;CN="Rod Hann":MAILTO:rodhann@hotmail.co.uk
END:VEVENT
BEGIN:VEVENT
DTSTART;TZID=Europe/London:20180429T110000
DTEND;TZID=Europe/London:20180429T170000
DTSTAMP:20260420T223131
CREATED:20170330T152921Z
LAST-MODIFIED:20180426T160238Z
UID:1055-1524999600-1525021200@dorsetvmcc.co.uk
SUMMARY:Bluebell Run
DESCRIPTION:Tea\, coffee\, pain au chocolat and croissants at start. \nTo Lulworth Cove and back …. via Delcombe Woods for the bluebells. \n62 miles. \nDelcombe Wood\n 
URL:https://dorsetvmcc.co.uk/event/bluebell-run/
LOCATION:Recreation Ground\, Okeford Fitzpaine\, Castle Lane\, Okeford Fitzpaine\, DT11 0RL\, United Kingdom
CATEGORIES:Run
ORGANIZER;CN="Ken Druce":MAILTO:kenneth.druce@talktalk.net
END:VEVENT
BEGIN:VEVENT
DTSTART;TZID=Europe/London:20180428T093000
DTEND;TZID=Europe/London:20180428T170000
DTSTAMP:20260420T223131
CREATED:20180411T055842Z
LAST-MODIFIED:20180424T113254Z
UID:2112-1524907800-1524934800@dorsetvmcc.co.uk
SUMMARY:VMCC Somerset Autojumble at Shepton Mallet
DESCRIPTION:Autojumble
URL:https://dorsetvmcc.co.uk/event/vmcc-somerset-autojumble-at-shepton-mallet/
LOCATION:Royal Bath and West Showground\, Shepton Mallet\, BA4 6QN\, United Kingdom
CATEGORIES:Autojumble
END:VEVENT
BEGIN:VEVENT
DTSTART;TZID=Europe/London:20180422T100000
DTEND;TZID=Europe/London:20180422T130000
DTSTAMP:20260420T223134
CREATED:20180411T060626Z
LAST-MODIFIED:20180423T194231Z
UID:2116-1524391200-1524402000@dorsetvmcc.co.uk
SUMMARY:Wessex V&V : Hinton St Mary Run
DESCRIPTION:Note: This is a Wessex Veteran & Vintage Section event\, therefore pre-1931 machines only please.
URL:https://dorsetvmcc.co.uk/event/wessex-vv-hinton-st-mary-run/
LOCATION:Hinton St Mary Village Hall\, Hinton St Mary\, DT10 1LT\, United Kingdom
CATEGORIES:Run
END:VEVENT
BEGIN:VEVENT
DTSTART;TZID=Europe/London:20180421T100000
DTEND;TZID=Europe/London:20180421T110000
DTSTAMP:20260420T223134
CREATED:20170825T090448Z
LAST-MODIFIED:20171130T114946Z
UID:1190-1524304800-1524308400@dorsetvmcc.co.uk
SUMMARY:Breakfast Meet
DESCRIPTION:
URL:https://dorsetvmcc.co.uk/event/breakfast-meet-5-2-4/
LOCATION:Riverside Cafe\, West Stour\, SP8 5RJ\, United Kingdom
CATEGORIES:Meet
ORGANIZER;CN="Rod Hann":MAILTO:rodhann@hotmail.co.uk
END:VEVENT
BEGIN:VEVENT
DTSTART;TZID=Europe/London:20180411T193000
DTEND;TZID=Europe/London:20180411T220000
DTSTAMP:20260420T223134
CREATED:20171018T180653Z
LAST-MODIFIED:20180212T084341Z
UID:1026-1523475000-1523484000@dorsetvmcc.co.uk
SUMMARY:Club Night - Quiz Night
DESCRIPTION:A change to the green printed 2018 programme card. \nIt’s a Quiz Night!
URL:https://dorsetvmcc.co.uk/event/quiz-night-2/
LOCATION:Henstridge Golf and Leisure\, Henstridge Golf and Leisure\, Marsh Lane\, Henstridge\, BA8 0TG\, United Kingdom
CATEGORIES:Club Night
ORGANIZER;CN="Paul Miles":MAILTO:pauledwinmiles@me.com
END:VEVENT
BEGIN:VEVENT
DTSTART;TZID=Europe/London:20180408T110000
DTEND;TZID=Europe/London:20180408T170000
DTSTAMP:20260420T223134
CREATED:20170330T152921Z
LAST-MODIFIED:20180327T080940Z
UID:1050-1523185200-1523206800@dorsetvmcc.co.uk
SUMMARY:Blandford Run
DESCRIPTION:
URL:https://dorsetvmcc.co.uk/event/blandford-run-2/
LOCATION:Corn Exchange\, Blandford Forum\,  DT11 7AG\, United Kingdom
CATEGORIES:Run
ORGANIZER;CN="Peter Miller":MAILTO:corgiking@aol.com
END:VEVENT
BEGIN:VEVENT
DTSTART;TZID=Europe/London:20180404T120000
DTEND;TZID=Europe/London:20180404T130000
DTSTAMP:20260420T223134
CREATED:20171130T112835Z
LAST-MODIFIED:20171130T114946Z
UID:1167-1522843200-1522846800@dorsetvmcc.co.uk
SUMMARY:Lunch Meet
DESCRIPTION:
URL:https://dorsetvmcc.co.uk/event/lunch-meet-9-5/
LOCATION:Riverside Cafe\, West Stour\, SP8 5RJ\, United Kingdom
CATEGORIES:Meet
ORGANIZER;CN="Rod Hann":MAILTO:rodhann@hotmail.co.uk
END:VEVENT
BEGIN:VEVENT
DTSTART;TZID=Europe/London:20180331T100000
DTEND;TZID=Europe/London:20180331T110000
DTSTAMP:20260420T223134
CREATED:20170825T090448Z
LAST-MODIFIED:20171130T114946Z
UID:1191-1522490400-1522494000@dorsetvmcc.co.uk
SUMMARY:Breakfast Meet
DESCRIPTION:
URL:https://dorsetvmcc.co.uk/event/breakfast-meet-5-2-3/
LOCATION:Riverside Cafe\, West Stour\, SP8 5RJ\, United Kingdom
CATEGORIES:Meet
ORGANIZER;CN="Rod Hann":MAILTO:rodhann@hotmail.co.uk
END:VEVENT
BEGIN:VEVENT
DTSTART;TZID=Europe/London:20180314T193000
DTEND;TZID=Europe/London:20180314T220000
DTSTAMP:20260420T223134
CREATED:20171018T180653Z
LAST-MODIFIED:20180212T084214Z
UID:1024-1521055800-1521064800@dorsetvmcc.co.uk
SUMMARY:Club Night - Social Evening
DESCRIPTION:A change to the green printed 2018 programme card. \nAn IT evening!  With demonstrations of our website\, our Facebook page\, the VMCC website and the VMCC Forum….for those that want it.  We’ll attempt to answer all your IT-related questions!
URL:https://dorsetvmcc.co.uk/event/social-evening/
LOCATION:Henstridge Golf and Leisure\, Henstridge Golf and Leisure\, Marsh Lane\, Henstridge\, BA8 0TG\, United Kingdom
CATEGORIES:Club Night
ORGANIZER;CN="Paul Wirdnam":MAILTO:secretary@dorsetvmcc.co.uk
END:VEVENT
BEGIN:VEVENT
DTSTART;TZID=Europe/London:20180307T120000
DTEND;TZID=Europe/London:20180307T130000
DTSTAMP:20260420T223134
CREATED:20171130T112835Z
LAST-MODIFIED:20171130T114946Z
UID:1168-1520424000-1520427600@dorsetvmcc.co.uk
SUMMARY:Lunch Meet
DESCRIPTION:
URL:https://dorsetvmcc.co.uk/event/lunch-meet-9-4/
LOCATION:Riverside Cafe\, West Stour\, SP8 5RJ\, United Kingdom
CATEGORIES:Meet
ORGANIZER;CN="Rod Hann":MAILTO:rodhann@hotmail.co.uk
END:VEVENT
BEGIN:VEVENT
DTSTART;TZID=Europe/London:20180304T110000
DTEND;TZID=Europe/London:20180304T170000
DTSTAMP:20260420T223134
CREATED:20170330T152921Z
LAST-MODIFIED:20180303T084036Z
UID:1052-1520161200-1520182800@dorsetvmcc.co.uk
SUMMARY:Spring Run --- CANCELLED
DESCRIPTION:Sorry folks\, cancelled due to The Beast From the East. \nThe run starts and finishes at Henstridge Golf and Leisure. \nCome and have some breakfast before the run!  Henstridge Golf and Leisure will be serving breakfast between 9am and the start of the run at 11am.  Bacon rolls to full English! \nIf you intend to take part and would like some breakfast\, or if you’re coming just for the breakfast\, can you please let Mike Ward know as we need to get a rough idea of numbers. \nThere will be no organised lunch at the end of the run but there is a coffee / tea / comfort stop during the run. \nPlease Note: Because this run clashes with the VMCC AGM at Allen House\, Ken Druce will be the organiser on the day.
URL:https://dorsetvmcc.co.uk/event/spring-run/
LOCATION:Henstridge Golf and Leisure\, Henstridge Golf and Leisure\, Marsh Lane\, Henstridge\, BA8 0TG\, United Kingdom
CATEGORIES:Run
END:VEVENT
BEGIN:VEVENT
DTSTART;TZID=Europe/London:20180224T100000
DTEND;TZID=Europe/London:20180224T110000
DTSTAMP:20260420T223134
CREATED:20170825T090448Z
LAST-MODIFIED:20171130T114946Z
UID:1192-1519466400-1519470000@dorsetvmcc.co.uk
SUMMARY:Breakfast Meet
DESCRIPTION:
URL:https://dorsetvmcc.co.uk/event/breakfast-meet-5-2-2/
LOCATION:Riverside Cafe\, West Stour\, SP8 5RJ\, United Kingdom
CATEGORIES:Meet
ORGANIZER;CN="Rod Hann":MAILTO:rodhann@hotmail.co.uk
END:VEVENT
BEGIN:VEVENT
DTSTART;TZID=Europe/London:20180218T110000
DTEND;TZID=Europe/London:20180218T110000
DTSTAMP:20260420T223134
CREATED:20171010T203202Z
LAST-MODIFIED:20180124T224404Z
UID:1259-1518951600-1518951600@dorsetvmcc.co.uk
SUMMARY:Winter Run (Re-Scheduled)
DESCRIPTION:The Winter Run on the 21st January was cancelled due to bad weather but we’re going to try again on 18th February.
URL:https://dorsetvmcc.co.uk/event/winter-run-2-2/
LOCATION:Dikes Supermarket\, Ring St\,\, Stalbridge\, DT10 2NB\, United Kingdom
CATEGORIES:Run
ORGANIZER;CN="Bob Hoare":MAILTO:bobandmarj@btinternet.com
END:VEVENT
BEGIN:VEVENT
DTSTART;TZID=Europe/London:20180214T193000
DTEND;TZID=Europe/London:20180214T220000
DTSTAMP:20260420T223134
CREATED:20171018T180653Z
LAST-MODIFIED:20171129T202107Z
UID:1022-1518636600-1518645600@dorsetvmcc.co.uk
SUMMARY:Club Night - Justin Harvey-James : Factory Records
DESCRIPTION:
URL:https://dorsetvmcc.co.uk/event/justin-harvey-james/
LOCATION:Henstridge Golf and Leisure\, Henstridge Golf and Leisure\, Marsh Lane\, Henstridge\, BA8 0TG\, United Kingdom
CATEGORIES:Club Night
ORGANIZER;CN="Paul Wirdnam":MAILTO:secretary@dorsetvmcc.co.uk
END:VEVENT
BEGIN:VEVENT
DTSTART;TZID=Europe/London:20180207T120000
DTEND;TZID=Europe/London:20180207T130000
DTSTAMP:20260420T223134
CREATED:20171130T112835Z
LAST-MODIFIED:20171130T114946Z
UID:1169-1518004800-1518008400@dorsetvmcc.co.uk
SUMMARY:Lunch Meet
DESCRIPTION:
URL:https://dorsetvmcc.co.uk/event/lunch-meet-9-3/
LOCATION:Riverside Cafe\, West Stour\, SP8 5RJ\, United Kingdom
CATEGORIES:Meet
ORGANIZER;CN="Rod Hann":MAILTO:rodhann@hotmail.co.uk
END:VEVENT
BEGIN:VEVENT
DTSTART;VALUE=DATE:20180203
DTEND;VALUE=DATE:20180205
DTSTAMP:20260420T223134
CREATED:20171018T190709Z
LAST-MODIFIED:20171130T060941Z
UID:1047-1517616000-1517788799@dorsetvmcc.co.uk
SUMMARY:Classic Motor Cycle Show
DESCRIPTION:Starts at 10:00am \nClub Stand
URL:https://dorsetvmcc.co.uk/event/classic-motor-cycle-show/
LOCATION:Royal Bath and West Showground\, Shepton Mallet\, BA4 6QN\, United Kingdom
CATEGORIES:Show
ORGANIZER;CN="Ray Dickinson":MAILTO:raylinda228@gmail.com
END:VEVENT
BEGIN:VEVENT
DTSTART;TZID=Europe/London:20180127T100000
DTEND;TZID=Europe/London:20180127T110000
DTSTAMP:20260420T223134
CREATED:20170825T090448Z
LAST-MODIFIED:20171130T114946Z
UID:1181-1517047200-1517050800@dorsetvmcc.co.uk
SUMMARY:Breakfast Meet
DESCRIPTION:
URL:https://dorsetvmcc.co.uk/event/breakfast-meet-5-2/
LOCATION:Riverside Cafe\, West Stour\, SP8 5RJ\, United Kingdom
CATEGORIES:Meet
ORGANIZER;CN="Rod Hann":MAILTO:rodhann@hotmail.co.uk
END:VEVENT
BEGIN:VEVENT
DTSTART;TZID=Europe/London:20180121T110000
DTEND;TZID=Europe/London:20180121T110000
DTSTAMP:20260420T223134
CREATED:20171010T203202Z
LAST-MODIFIED:20171129T202032Z
UID:1073-1516532400-1516532400@dorsetvmcc.co.uk
SUMMARY:Winter Run
DESCRIPTION:
URL:https://dorsetvmcc.co.uk/event/winter-run-2/
LOCATION:Dikes Supermarket\, Ring St\,\, Stalbridge\, DT10 2NB\, United Kingdom
CATEGORIES:Run
ORGANIZER;CN="Bob Hoare":MAILTO:bobandmarj@btinternet.com
END:VEVENT
BEGIN:VEVENT
DTSTART;TZID=Europe/London:20180110T193000
DTEND;TZID=Europe/London:20180110T220000
DTSTAMP:20260420T223134
CREATED:20171018T180653Z
LAST-MODIFIED:20171129T201257Z
UID:1018-1515612600-1515621600@dorsetvmcc.co.uk
SUMMARY:Club Night - Peter Preen : Lawrence of Arabia
DESCRIPTION:
URL:https://dorsetvmcc.co.uk/event/peter-preen/
LOCATION:Henstridge Golf and Leisure\, Henstridge Golf and Leisure\, Marsh Lane\, Henstridge\, BA8 0TG\, United Kingdom
CATEGORIES:Club Night
ORGANIZER;CN="Phil Allen":MAILTO:allenphill@hotmail.com
END:VEVENT
BEGIN:VEVENT
DTSTART;TZID=Europe/London:20180103T120000
DTEND;TZID=Europe/London:20180103T130000
DTSTAMP:20260420T223134
CREATED:20171130T112835Z
LAST-MODIFIED:20171130T114946Z
UID:1156-1514980800-1514984400@dorsetvmcc.co.uk
SUMMARY:Lunch Meet
DESCRIPTION:
URL:https://dorsetvmcc.co.uk/event/lunch-meet-9-2/
LOCATION:Riverside Cafe\, West Stour\, SP8 5RJ\, United Kingdom
CATEGORIES:Meet
ORGANIZER;CN="Rod Hann":MAILTO:rodhann@hotmail.co.uk
END:VEVENT
BEGIN:VEVENT
DTSTART;TZID=Europe/London:20180101T104500
DTEND;TZID=Europe/London:20180101T140000
DTSTAMP:20260420T223134
CREATED:20171018T190329Z
LAST-MODIFIED:20171201T084613Z
UID:1044-1514803500-1514815200@dorsetvmcc.co.uk
SUMMARY:New Year's Day Run
DESCRIPTION:There is a carvery lunch after the ride costing about £8.  This can be booked at the next Club Night on 13th December.
URL:https://dorsetvmcc.co.uk/event/new-years-day-run/
LOCATION:Streeter’s Carpet Shop\, Station Road\, Sturminster Newton\, DT10 1BD\, United Kingdom
CATEGORIES:Run
ORGANIZER;CN="Gabby Hunt":MAILTO:gabby.hunt@outlook.com
END:VEVENT
END:VCALENDAR