BEGIN:VCALENDAR
VERSION:2.0
PRODID:-//VMCC Dorset Section - ECPv6.15.20//NONSGML v1.0//EN
CALSCALE:GREGORIAN
METHOD:PUBLISH
X-WR-CALNAME:VMCC Dorset Section
X-ORIGINAL-URL:https://dorsetvmcc.co.uk
X-WR-CALDESC:Events for VMCC Dorset Section
REFRESH-INTERVAL;VALUE=DURATION:PT1H
X-Robots-Tag:noindex
X-PUBLISHED-TTL:PT1H
BEGIN:VTIMEZONE
TZID:Europe/London
BEGIN:DAYLIGHT
TZOFFSETFROM:+0000
TZOFFSETTO:+0100
TZNAME:BST
DTSTART:20160327T010000
END:DAYLIGHT
BEGIN:STANDARD
TZOFFSETFROM:+0100
TZOFFSETTO:+0000
TZNAME:GMT
DTSTART:20161030T010000
END:STANDARD
BEGIN:DAYLIGHT
TZOFFSETFROM:+0000
TZOFFSETTO:+0100
TZNAME:BST
DTSTART:20170326T010000
END:DAYLIGHT
BEGIN:STANDARD
TZOFFSETFROM:+0100
TZOFFSETTO:+0000
TZNAME:GMT
DTSTART:20171029T010000
END:STANDARD
BEGIN:DAYLIGHT
TZOFFSETFROM:+0000
TZOFFSETTO:+0100
TZNAME:BST
DTSTART:20180325T010000
END:DAYLIGHT
BEGIN:STANDARD
TZOFFSETFROM:+0100
TZOFFSETTO:+0000
TZNAME:GMT
DTSTART:20181028T010000
END:STANDARD
END:VTIMEZONE
BEGIN:VEVENT
DTSTART;TZID=Europe/London:20170809T203000
DTEND;TZID=Europe/London:20170809T203000
DTSTAMP:20260421T000319
CREATED:20170416T050237Z
LAST-MODIFIED:20170621T061439Z
UID:180-1502310600-1502310600@dorsetvmcc.co.uk
SUMMARY:Club Night - Auto Jumble and Barbeque
DESCRIPTION:
URL:https://dorsetvmcc.co.uk/event/club-night-auto-jumble-and-barbeque/
LOCATION:Henstridge Golf and Leisure\, Henstridge Golf and Leisure\, Marsh Lane\, Henstridge\, BA8 0TG\, United Kingdom
CATEGORIES:Club Night
ORGANIZER;CN="Ray Dickinson":MAILTO:raylinda228@gmail.com
END:VEVENT
BEGIN:VEVENT
DTSTART;TZID=Europe/London:20170806T120000
DTEND;TZID=Europe/London:20170806T120000
DTSTAMP:20260421T000319
CREATED:20170416T050053Z
LAST-MODIFIED:20170621T061517Z
UID:176-1502020800-1502020800@dorsetvmcc.co.uk
SUMMARY:Border Run
DESCRIPTION:
URL:https://dorsetvmcc.co.uk/event/border-run/
LOCATION:Orchard Park Garden Centre\, Gillingham\, SP8 5JG\, United Kingdom
CATEGORIES:Run
ORGANIZER;CN="Gabby Hunt":MAILTO:gabby.hunt@outlook.com
END:VEVENT
BEGIN:VEVENT
DTSTART;TZID=Europe/London:20170802T130000
DTEND;TZID=Europe/London:20170802T130000
DTSTAMP:20260421T000319
CREATED:20170414T184832Z
LAST-MODIFIED:20170414T184832Z
UID:136-1501678800-1501678800@dorsetvmcc.co.uk
SUMMARY:Lunch Meet
DESCRIPTION:
URL:https://dorsetvmcc.co.uk/event/lunch-meet-4/
LOCATION:Riverside Cafe\, West Stour\, SP8 5RJ\, United Kingdom
ORGANIZER;CN="Rod Hann":MAILTO:rodhann@hotmail.co.uk
END:VEVENT
BEGIN:VEVENT
DTSTART;TZID=Europe/London:20170730T120000
DTEND;TZID=Europe/London:20170730T120000
DTSTAMP:20260421T000319
CREATED:20170415T185923Z
LAST-MODIFIED:20170621T061518Z
UID:173-1501416000-1501416000@dorsetvmcc.co.uk
SUMMARY:Jeff Clew Memorial Run
DESCRIPTION:
URL:https://dorsetvmcc.co.uk/event/jeff-clew-memorial-run/
LOCATION:Haynes Motor Museum\, Sparkford\, Yeovil\, BA22 7LH\, United Kingdom
CATEGORIES:Run
ORGANIZER;CN="Rod Hann":MAILTO:rodhann@hotmail.co.uk
END:VEVENT
BEGIN:VEVENT
DTSTART;TZID=Europe/London:20170729T110000
DTEND;TZID=Europe/London:20170729T110000
DTSTAMP:20260421T000319
CREATED:20170414T174507Z
LAST-MODIFIED:20170414T174507Z
UID:125-1501326000-1501326000@dorsetvmcc.co.uk
SUMMARY:Breakfast Meet
DESCRIPTION:
URL:https://dorsetvmcc.co.uk/event/breakfast-meet-4/
LOCATION:Riverside Cafe\, West Stour\, SP8 5RJ\, United Kingdom
ORGANIZER;CN="Rod Hann":MAILTO:rodhann@hotmail.co.uk
END:VEVENT
BEGIN:VEVENT
DTSTART;TZID=Europe/London:20170716T090000
DTEND;TZID=Europe/London:20170716T090000
DTSTAMP:20260421T000319
CREATED:20170708T105157Z
LAST-MODIFIED:20170708T105157Z
UID:440-1500195600-1500195600@dorsetvmcc.co.uk
SUMMARY:Haynes Bikers’ Breakfast Ride-in
DESCRIPTION:
URL:https://dorsetvmcc.co.uk/event/haynes-bikers-breakfast-ride-in/
LOCATION:Haynes Motor Museum\, Sparkford\, Yeovil\, BA22 7LH\, United Kingdom
END:VEVENT
BEGIN:VEVENT
DTSTART;TZID=Europe/London:20170715T100000
DTEND;TZID=Europe/London:20170715T100000
DTSTAMP:20260421T000319
CREATED:20170713T045822Z
LAST-MODIFIED:20170713T045822Z
UID:490-1500112800-1500112800@dorsetvmcc.co.uk
SUMMARY:Classic and Supercars at Sherborne Castle
DESCRIPTION:The VMCC Dorset Section has its gazebo stall at this event — come and support us:
URL:https://dorsetvmcc.co.uk/event/classic-and-supercars-at-sherborne-castle/
LOCATION:Sherborne Castle\, DT9 5NR\, United Kingdom
END:VEVENT
BEGIN:VEVENT
DTSTART;TZID=Europe/London:20170712T203000
DTEND;TZID=Europe/London:20170712T203000
DTSTAMP:20260421T000319
CREATED:20170415T185723Z
LAST-MODIFIED:20170705T134212Z
UID:170-1499891400-1499891400@dorsetvmcc.co.uk
SUMMARY:Club Night Car & Bike Meet
DESCRIPTION:
URL:https://dorsetvmcc.co.uk/event/club-night-car-bike-meet/
LOCATION:Henstridge Golf and Leisure\, Henstridge Golf and Leisure\, Marsh Lane\, Henstridge\, BA8 0TG\, United Kingdom
CATEGORIES:Club Night
ORGANIZER;CN="Tony Morpeth":MAILTO:morpeth1935@icloud.com
END:VEVENT
BEGIN:VEVENT
DTSTART;TZID=Europe/London:20170709T120000
DTEND;TZID=Europe/London:20170709T120000
DTSTAMP:20260421T000319
CREATED:20170415T185549Z
LAST-MODIFIED:20170621T061518Z
UID:167-1499601600-1499601600@dorsetvmcc.co.uk
SUMMARY:Veteran & Vintage Run
DESCRIPTION:
URL:https://dorsetvmcc.co.uk/event/veteran-vintage-run/
LOCATION:Leigh Village Hall\, Sherborne\, DT9 6HL\, United Kingdom
CATEGORIES:Run
ORGANIZER;CN="Rod Hann":MAILTO:rodhann@hotmail.co.uk
END:VEVENT
BEGIN:VEVENT
DTSTART;TZID=Europe/London:20170709T113000
DTEND;TZID=Europe/London:20170709T113000
DTSTAMP:20260421T000319
CREATED:20170619T114824Z
LAST-MODIFIED:20170621T061518Z
UID:373-1499599800-1499599800@dorsetvmcc.co.uk
SUMMARY:Lawrence of Arabia Run
DESCRIPTION:Please Note: This is a VMCC South Dorset Section Event. \nHello Vintage Bikers . Next month will be our annual Lawrence of Arabia Event with a new route for this year taking in some beautiful Dorset views and riding through some of the countryside which the legend himself often rode on his Brough. \nThe Run is on the 9th of July from the Spitfire Club at Crossways near Dorchester and will be setting off at 10-30am. Coffee on arrival will be provided and a cup of tea on completion so please arrive in good time to get booked in . \nEntries can be obtained from John Morey\, 20 Hillview\, Bradpole\, Bridport DT6 3EF at £8 per bike\, passengers go free. Booking on the day will be an extra £2
URL:https://dorsetvmcc.co.uk/event/lawrence-of-arabia-run/
LOCATION:Spitfire Club\, 80 Mount Skippet Way\, Crossways\, Dorset\, DT2 8TP\, United Kingdom
CATEGORIES:Run
ORGANIZER;CN="John Morey":MAILTO:johnmorey.bikes@googlemail.com
END:VEVENT
BEGIN:VEVENT
DTSTART;TZID=Europe/London:20170705T130000
DTEND;TZID=Europe/London:20170705T130000
DTSTAMP:20260421T000319
CREATED:20170414T184813Z
LAST-MODIFIED:20170414T184813Z
UID:138-1499259600-1499259600@dorsetvmcc.co.uk
SUMMARY:Lunch Meet
DESCRIPTION:
URL:https://dorsetvmcc.co.uk/event/lunch-meet-3/
LOCATION:Riverside Cafe\, West Stour\, SP8 5RJ\, United Kingdom
ORGANIZER;CN="Rod Hann":MAILTO:rodhann@hotmail.co.uk
END:VEVENT
BEGIN:VEVENT
DTSTART;TZID=Europe/London:20170625T113000
DTEND;TZID=Europe/London:20170625T113000
DTSTAMP:20260421T000319
CREATED:20170619T120013Z
LAST-MODIFIED:20170621T061623Z
UID:379-1498390200-1498390200@dorsetvmcc.co.uk
SUMMARY:Midsummer Madness
DESCRIPTION:Please Note: This is a VMCC South Dorset Section Event. \nOn the 25th June\, we are meeting at the Bridport By Pass Picnic Area for our Midsummer Madness run to the west. We will again be leaving at 10-30 am with a coffee stop and lunch at the Aviator cafe at Dunkerswell Airfield.
URL:https://dorsetvmcc.co.uk/event/midsummer-madness/
LOCATION:Bridport By Pass Picnic Area
CATEGORIES:Run
ORGANIZER;CN="John Morey":MAILTO:johnmorey.bikes@googlemail.com
END:VEVENT
BEGIN:VEVENT
DTSTART;TZID=Europe/London:20170624T110000
DTEND;TZID=Europe/London:20170624T110000
DTSTAMP:20260421T000319
CREATED:20170414T174449Z
LAST-MODIFIED:20170414T174449Z
UID:126-1498302000-1498302000@dorsetvmcc.co.uk
SUMMARY:Breakfast Meet
DESCRIPTION:
URL:https://dorsetvmcc.co.uk/event/breakfast-meet-3/
LOCATION:Riverside Cafe\, West Stour\, SP8 5RJ\, United Kingdom
ORGANIZER;CN="Rod Hann":MAILTO:rodhann@hotmail.co.uk
END:VEVENT
BEGIN:VEVENT
DTSTART;TZID=Europe/London:20170614T200000
DTEND;TZID=Europe/London:20170614T230000
DTSTAMP:20260421T000319
CREATED:20170414T185856Z
LAST-MODIFIED:20170621T061641Z
UID:153-1497470400-1497481200@dorsetvmcc.co.uk
SUMMARY:Pie & Pint Evening Run
DESCRIPTION:Start at Sherborne or Gillingham Details to follow
URL:https://dorsetvmcc.co.uk/event/pie-pint-evening-run/
CATEGORIES:Club Night
ORGANIZER;CN="Bob Hoare":MAILTO:bobandmarj@btinternet.com
END:VEVENT
BEGIN:VEVENT
DTSTART;TZID=Europe/London:20170611T113000
DTEND;TZID=Europe/London:20170611T160000
DTSTAMP:20260421T000319
CREATED:20170421T103252Z
LAST-MODIFIED:20170621T061623Z
UID:302-1497180600-1497196800@dorsetvmcc.co.uk
SUMMARY:Dorset Section 50th Anniversary Run
DESCRIPTION:50th Anniversary Run to meet in the car park at the  Cock & Bottle in East Morden\, Wareham\, Dorset\, BH20 7DL. 10am for an 11am start. Coffee is being supplied by the pub and is included in the run price of £3 the run will be approx. 60 to 70 miles into the glorious Purbecks\, a lunch stop will be at the Cock & Bottle. Numbers will be required on the morning so we can let the pub know. We are trying to arrange a stop half way (tbc). \nTony Morpeth has kindly offered to plan the route. \nWe have 3 members of the Brooklands Section joining us for the run. \nI am going to arrange a breakdown facility\, the number will be on the route sheet on the day. \nAll welcome. Any questions email : allenphill@hotmail.com
URL:https://dorsetvmcc.co.uk/event/dorset-section-50th-aniversary-run/
LOCATION:Cock & Bottle\, Morden\, East Morden\, Wareham\, BH20 7DL\, United Kingdom
CATEGORIES:Run
END:VEVENT
BEGIN:VEVENT
DTSTART;TZID=Europe/London:20170607T130000
DTEND;TZID=Europe/London:20170607T130000
DTSTAMP:20260421T000319
CREATED:20170414T184726Z
LAST-MODIFIED:20170414T184726Z
UID:132-1496840400-1496840400@dorsetvmcc.co.uk
SUMMARY:Lunch Meet
DESCRIPTION:
URL:https://dorsetvmcc.co.uk/event/lunch-meet-2/
LOCATION:Riverside Cafe\, West Stour\, SP8 5RJ\, United Kingdom
ORGANIZER;CN="Rod Hann":MAILTO:rodhann@hotmail.co.uk
END:VEVENT
BEGIN:VEVENT
DTSTART;TZID=Europe/London:20170528T120000
DTEND;TZID=Europe/London:20170528T153000
DTSTAMP:20260421T000319
CREATED:20170414T185735Z
LAST-MODIFIED:20170512T082524Z
UID:150-1495972800-1495985400@dorsetvmcc.co.uk
SUMMARY:Classics Around Dorset
DESCRIPTION:We have had to change the start point for this event it is now: \nMeet at the Stour Meadows car park behind Hall & Woodhouse Brewery (near Tesco’s) at 10.30 for an 11am start\, we will ride for an hour and arrive at the Classics Around Dorset charity event at Alecs Field in Hazelbury Bryan around 12pm and set up a static display of bikes for a few hours. After this the run will end here. \nThe run is being organised by Phil Allen so any questions please contact him 01258 453009 \nFood and drink is available at a reasonable cost. All proceeds to Dorset Air Ambulance & the Alzheimer’s  Society
URL:https://dorsetvmcc.co.uk/event/classics-around-dorset/
ORGANIZER;CN="Phil Allen":MAILTO:allenphill@hotmail.com
END:VEVENT
BEGIN:VEVENT
DTSTART;TZID=Europe/London:20170527T110000
DTEND;TZID=Europe/London:20170527T110000
DTSTAMP:20260421T000319
CREATED:20170414T174423Z
LAST-MODIFIED:20170414T174423Z
UID:124-1495882800-1495882800@dorsetvmcc.co.uk
SUMMARY:Breakfast Meet
DESCRIPTION:
URL:https://dorsetvmcc.co.uk/event/breakfast-meet-2/
LOCATION:Riverside Cafe\, West Stour\, SP8 5RJ\, United Kingdom
ORGANIZER;CN="Rod Hann":MAILTO:rodhann@hotmail.co.uk
END:VEVENT
BEGIN:VEVENT
DTSTART;TZID=Europe/London:20170521T120000
DTEND;TZID=Europe/London:20170521T120000
DTSTAMP:20260421T000319
CREATED:20170414T185356Z
LAST-MODIFIED:20170621T061623Z
UID:146-1495368000-1495368000@dorsetvmcc.co.uk
SUMMARY:50th Weymouth Run
DESCRIPTION:
URL:https://dorsetvmcc.co.uk/event/50th-weymouth-run/
LOCATION:Weymouth Pavillion\, The Esplanade\, Weymouth\, Dorset\, DT4 8ED\, United Kingdom
CATEGORIES:Run
ORGANIZER;CN="Bob Hoare":MAILTO:bobandmarj@btinternet.com
END:VEVENT
BEGIN:VEVENT
DTSTART;TZID=Europe/London:20170503T130000
DTEND;TZID=Europe/London:20170503T130000
DTSTAMP:20260421T000319
CREATED:20170414T183957Z
LAST-MODIFIED:20170414T183957Z
UID:130-1493816400-1493816400@dorsetvmcc.co.uk
SUMMARY:Lunch Meet
DESCRIPTION:
URL:https://dorsetvmcc.co.uk/event/lunch-meet/
LOCATION:Riverside Cafe\, West Stour\, SP8 5RJ\, United Kingdom
ORGANIZER;CN="Rod Hann":MAILTO:rodhann@hotmail.co.uk
END:VEVENT
BEGIN:VEVENT
DTSTART;TZID=Europe/London:20170429T110000
DTEND;TZID=Europe/London:20170429T110000
DTSTAMP:20260421T000319
CREATED:20170411T124511Z
LAST-MODIFIED:20170411T124511Z
UID:116-1493463600-1493463600@dorsetvmcc.co.uk
SUMMARY:Breakfast Meet
DESCRIPTION:
URL:https://dorsetvmcc.co.uk/event/breakfast-meet/
LOCATION:Riverside Cafe\, West Stour\, SP8 5RJ\, United Kingdom
ORGANIZER;CN="Rod Hann":MAILTO:rodhann@hotmail.co.uk
END:VEVENT
BEGIN:VEVENT
DTSTART;TZID=Europe/London:20170412T203000
DTEND;TZID=Europe/London:20170412T233000
DTSTAMP:20260421T000319
CREATED:20170411T121707Z
LAST-MODIFIED:20170621T061641Z
UID:101-1492029000-1492039800@dorsetvmcc.co.uk
SUMMARY:Club Night - The History of the Bicycle
DESCRIPTION:
URL:https://dorsetvmcc.co.uk/event/club-night-the-history-of-the-bicycle/
LOCATION:The White Hart\, The White Hart\, Bishops Caudle\, DT9 5ND\, United Kingdom
CATEGORIES:Club Night
ORGANIZER;CN="Peter Miller":MAILTO:corgiking@aol.com
END:VEVENT
BEGIN:VEVENT
DTSTART;TZID=Europe/London:20170402T120000
DTEND;TZID=Europe/London:20170402T180000
DTSTAMP:20260421T000319
CREATED:20170330T152921Z
LAST-MODIFIED:20170621T061623Z
UID:247-1491134400-1491156000@dorsetvmcc.co.uk
SUMMARY:The Blandford Run
DESCRIPTION:
URL:https://dorsetvmcc.co.uk/event/blandford-run/
LOCATION:Corn Exchange\, Blandford Forum\,  DT11 7AG\, United Kingdom
CATEGORIES:Run
ORGANIZER;CN="Peter Miller":MAILTO:corgiking@aol.com
END:VEVENT
END:VCALENDAR