BEGIN:VCALENDAR
VERSION:2.0
PRODID:-//VMCC Dorset Section - ECPv6.15.20//NONSGML v1.0//EN
CALSCALE:GREGORIAN
METHOD:PUBLISH
X-ORIGINAL-URL:https://dorsetvmcc.co.uk
X-WR-CALDESC:Events for VMCC Dorset Section
REFRESH-INTERVAL;VALUE=DURATION:PT1H
X-Robots-Tag:noindex
X-PUBLISHED-TTL:PT1H
BEGIN:VTIMEZONE
TZID:Europe/London
BEGIN:DAYLIGHT
TZOFFSETFROM:+0000
TZOFFSETTO:+0100
TZNAME:BST
DTSTART:20170326T010000
END:DAYLIGHT
BEGIN:STANDARD
TZOFFSETFROM:+0100
TZOFFSETTO:+0000
TZNAME:GMT
DTSTART:20171029T010000
END:STANDARD
BEGIN:DAYLIGHT
TZOFFSETFROM:+0000
TZOFFSETTO:+0100
TZNAME:BST
DTSTART:20180325T010000
END:DAYLIGHT
BEGIN:STANDARD
TZOFFSETFROM:+0100
TZOFFSETTO:+0000
TZNAME:GMT
DTSTART:20181028T010000
END:STANDARD
BEGIN:DAYLIGHT
TZOFFSETFROM:+0000
TZOFFSETTO:+0100
TZNAME:BST
DTSTART:20190331T010000
END:DAYLIGHT
BEGIN:STANDARD
TZOFFSETFROM:+0100
TZOFFSETTO:+0000
TZNAME:GMT
DTSTART:20191027T010000
END:STANDARD
END:VTIMEZONE
BEGIN:VEVENT
DTSTART;TZID=Europe/London:20180602T100000
DTEND;TZID=Europe/London:20180602T170000
DTSTAMP:20260424T002641
CREATED:20171129T195123Z
LAST-MODIFIED:20171129T195123Z
UID:1137-1527933600-1527958800@dorsetvmcc.co.uk
SUMMARY:Gillingham In Gear : Club Stand
DESCRIPTION:Volunteers needed to man the Club Stand.
URL:https://dorsetvmcc.co.uk/event/gillingham-in-gear-club-stand/
CATEGORIES:Show
ORGANIZER;CN="Chris Smith":MAILTO:classicchris62@gmail.com
END:VEVENT
BEGIN:VEVENT
DTSTART;TZID=Europe/London:20180603T080000
DTEND;TZID=Europe/London:20180603T170000
DTSTAMP:20260424T002641
CREATED:20180423T145140Z
LAST-MODIFIED:20180423T194350Z
UID:2140-1528012800-1528045200@dorsetvmcc.co.uk
SUMMARY:Cornwall Section : Lands End Run 2018
DESCRIPTION:Hi all\, \n\nPlease find attached the entry and regulations forms for the Cornwall Sections "Lands End Run"\, which is taking place on Sunday 3rd of June 2018.\n\nIf any of your members wish to attend they would be most welcome.\n\nThe run starts at the Borough Arms\, Dunmere\, Bodmin and finishes at the Lands End complex.\n\nRiders assemble at the Borough Arms car park from 8 am\, where there will be toilet facilities and a free tea or coffee.\n\nJudging takes place from 9 am and the run commences at 10 am.\n\nRiders travel along the north coast of Cornwall\, including the scenic element from St Ives to Lands End.\n\nThe lunch stop will be at Portreath\, with various lunch options for participants. The runs presentation will take place at 3.30pm at the Lands End complex.  Each member will receive a finishers award for taking part on the run.\n\nIf you would like any further information regarding this run please ring me on 01208 863061.\n\nBest wishes\n\nSally Pearce\nAssistant Secretary\nCornwall Section\n\nLANDS END RUN ENTRY FORM 2018\nLANDS END RUN REGULATIONS 2018
URL:https://dorsetvmcc.co.uk/event/cornwall-sections-lands-end-run-2018/
CATEGORIES:Run
END:VEVENT
BEGIN:VEVENT
DTSTART;TZID=Europe/London:20180606T120000
DTEND;TZID=Europe/London:20180606T130000
DTSTAMP:20260424T002641
CREATED:20171130T112835Z
LAST-MODIFIED:20171130T114945Z
UID:1165-1528286400-1528290000@dorsetvmcc.co.uk
SUMMARY:Lunch Meet
DESCRIPTION:
URL:https://dorsetvmcc.co.uk/event/lunch-meet-9-7/
LOCATION:Riverside Cafe\, West Stour\, SP8 5RJ\, United Kingdom
CATEGORIES:Meet
ORGANIZER;CN="Rod Hann":MAILTO:rodhann@hotmail.co.uk
END:VEVENT
BEGIN:VEVENT
DTSTART;VALUE=DATE:20180608
DTEND;VALUE=DATE:20180611
DTSTAMP:20260424T002641
CREATED:20170330T152921Z
LAST-MODIFIED:20180605T085304Z
UID:1057-1528416000-1528675199@dorsetvmcc.co.uk
SUMMARY:Camping Weekend
DESCRIPTION:Saturday Run : Starts at Henstridge Golf and Leisure at 10:30am.  Length being decided but the run might be in two parts\, depending if people want to visit the Dorset coast.\nSunday Run : Starts at Henstridge Golf and Leisure at 10:30am.  Length approximately 55 miles with an optional stop at the Haynes International Motor Museum.\nHenstridge Golf and Leisure does a very nice breakfast\, so get there well before 10:3oam if you part to partake in bacon and eggs + coffee / tea.\nNon-campers very welcome to take part in the runs.\n\nLocal members\, please come along on Friday afternoon/evening and Saturday evening for a pint and social chat with our visitors.
URL:https://dorsetvmcc.co.uk/event/camping-weekend/
LOCATION:Henstridge Golf and Leisure\, Henstridge Golf and Leisure\, Marsh Lane\, Henstridge\, BA8 0TG\, United Kingdom
CATEGORIES:Run
ORGANIZER;CN="Chris Smith":MAILTO:classicchris62@gmail.com
END:VEVENT
BEGIN:VEVENT
DTSTART;TZID=Europe/London:20180613T190000
DTEND;TZID=Europe/London:20180613T220000
DTSTAMP:20260424T002641
CREATED:20171018T180653Z
LAST-MODIFIED:20171129T195721Z
UID:1030-1528916400-1528927200@dorsetvmcc.co.uk
SUMMARY:Club Night - Pie and Pint Evening Run
DESCRIPTION:The run starts in three places and ends up at Henstridge Golf and Leisure: \n\nSherborne Start : Contact Chris Smith\nGillingham Start : Contact Gabby Hunt\nBlandford Start : Contact Phil Allen
URL:https://dorsetvmcc.co.uk/event/pie-and-pint-evening/
LOCATION:Henstridge Golf and Leisure\, Henstridge Golf and Leisure\, Marsh Lane\, Henstridge\, BA8 0TG\, United Kingdom
CATEGORIES:Club Night,Run
ORGANIZER;CN="Gabby Hunt":MAILTO:gabby.hunt@outlook.com
END:VEVENT
BEGIN:VEVENT
DTSTART;VALUE=DATE:20180617
DTEND;VALUE=DATE:20180618
DTSTAMP:20260424T002641
CREATED:20180520T074357Z
LAST-MODIFIED:20180520T074357Z
UID:2317-1529193600-1529279999@dorsetvmcc.co.uk
SUMMARY:VMCC Banbury Run 2018
DESCRIPTION:
URL:https://dorsetvmcc.co.uk/event/vmcc-banbury-run-2018/
LOCATION:The British Motor Museum \, Gaydon\, CV35 0BJ
END:VEVENT
BEGIN:VEVENT
DTSTART;TZID=Europe/London:20180630T100000
DTEND;TZID=Europe/London:20180630T110000
DTSTAMP:20260424T002641
CREATED:20170825T090448Z
LAST-MODIFIED:20171130T114945Z
UID:1184-1530352800-1530356400@dorsetvmcc.co.uk
SUMMARY:Breakfast Meet
DESCRIPTION:
URL:https://dorsetvmcc.co.uk/event/breakfast-meet-5-2-6/
LOCATION:Riverside Cafe\, West Stour\, SP8 5RJ\, United Kingdom
CATEGORIES:Meet
ORGANIZER;CN="Rod Hann":MAILTO:rodhann@hotmail.co.uk
END:VEVENT
END:VCALENDAR