BEGIN:VCALENDAR
VERSION:2.0
PRODID:-//VMCC Dorset Section - ECPv6.15.20//NONSGML v1.0//EN
CALSCALE:GREGORIAN
METHOD:PUBLISH
X-WR-CALNAME:VMCC Dorset Section
X-ORIGINAL-URL:https://dorsetvmcc.co.uk
X-WR-CALDESC:Events for VMCC Dorset Section
REFRESH-INTERVAL;VALUE=DURATION:PT1H
X-Robots-Tag:noindex
X-PUBLISHED-TTL:PT1H
BEGIN:VTIMEZONE
TZID:Europe/London
BEGIN:DAYLIGHT
TZOFFSETFROM:+0000
TZOFFSETTO:+0100
TZNAME:BST
DTSTART:20170326T010000
END:DAYLIGHT
BEGIN:STANDARD
TZOFFSETFROM:+0100
TZOFFSETTO:+0000
TZNAME:GMT
DTSTART:20171029T010000
END:STANDARD
BEGIN:DAYLIGHT
TZOFFSETFROM:+0000
TZOFFSETTO:+0100
TZNAME:BST
DTSTART:20180325T010000
END:DAYLIGHT
BEGIN:STANDARD
TZOFFSETFROM:+0100
TZOFFSETTO:+0000
TZNAME:GMT
DTSTART:20181028T010000
END:STANDARD
BEGIN:DAYLIGHT
TZOFFSETFROM:+0000
TZOFFSETTO:+0100
TZNAME:BST
DTSTART:20190331T010000
END:DAYLIGHT
BEGIN:STANDARD
TZOFFSETFROM:+0100
TZOFFSETTO:+0000
TZNAME:GMT
DTSTART:20191027T010000
END:STANDARD
END:VTIMEZONE
BEGIN:VEVENT
DTSTART;TZID=Europe/London:20180701T103000
DTEND;TZID=Europe/London:20180701T170000
DTSTAMP:20260423T225703
CREATED:20180428T180648Z
LAST-MODIFIED:20180428T180925Z
UID:2197-1530441000-1530464400@dorsetvmcc.co.uk
SUMMARY:South Dorset Section : The Local Lawrence Run
DESCRIPTION:Local run around the Dorset Countryside with coffee and lunch stops (revised format and start place)
URL:https://dorsetvmcc.co.uk/event/south-dorset-section-the-local-lawrence-run/
LOCATION:Top Of Town Car Park\, DT1 1XT
ORGANIZER;CN="John Morey":MAILTO:johnmorey.bikes@googlemail.com
END:VEVENT
BEGIN:VEVENT
DTSTART;TZID=Europe/London:20180704T120000
DTEND;TZID=Europe/London:20180704T130000
DTSTAMP:20260423T225703
CREATED:20171130T112835Z
LAST-MODIFIED:20171130T114945Z
UID:1164-1530705600-1530709200@dorsetvmcc.co.uk
SUMMARY:Lunch Meet
DESCRIPTION:
URL:https://dorsetvmcc.co.uk/event/lunch-meet-9-8/
LOCATION:Riverside Cafe\, West Stour\, SP8 5RJ\, United Kingdom
CATEGORIES:Meet
ORGANIZER;CN="Rod Hann":MAILTO:rodhann@hotmail.co.uk
END:VEVENT
BEGIN:VEVENT
DTSTART;TZID=Europe/London:20180704T130000
DTEND;TZID=Europe/London:20180704T163000
DTSTAMP:20260423T225703
CREATED:20180530T061546Z
LAST-MODIFIED:20180530T061546Z
UID:2417-1530709200-1530721800@dorsetvmcc.co.uk
SUMMARY:Wessex V&V Section : Midweek Sundae Run
DESCRIPTION:http://www.vmccwessexveteranandvintage.com/event/midweek-sundae-run/
URL:https://dorsetvmcc.co.uk/event/wessex-vv-section-midweek-sundae-run/
END:VEVENT
BEGIN:VEVENT
DTSTART;TZID=Europe/London:20180708T110000
DTEND;TZID=Europe/London:20180708T110000
DTSTAMP:20260423T225703
CREATED:20170415T185549Z
LAST-MODIFIED:20180327T081208Z
UID:1059-1531047600-1531047600@dorsetvmcc.co.uk
SUMMARY:Veteran & Vintage Run
DESCRIPTION:
URL:https://dorsetvmcc.co.uk/event/veteran-vintage-run-2/
LOCATION:Leigh Village Hall\, Sherborne\, DT9 6HL\, United Kingdom
CATEGORIES:Run
ORGANIZER;CN="Rod Hann":MAILTO:rodhann@hotmail.co.uk
END:VEVENT
BEGIN:VEVENT
DTSTART;TZID=Europe/London:20180711T193000
DTEND;TZID=Europe/London:20180711T220000
DTSTAMP:20260423T225703
CREATED:20171018T180653Z
LAST-MODIFIED:20171129T201758Z
UID:1032-1531337400-1531346400@dorsetvmcc.co.uk
SUMMARY:Club Night - Car and Bike Meet
DESCRIPTION:
URL:https://dorsetvmcc.co.uk/event/car-and-bike-meet/
LOCATION:Henstridge Golf and Leisure\, Henstridge Golf and Leisure\, Marsh Lane\, Henstridge\, BA8 0TG\, United Kingdom
CATEGORIES:Club Night
ORGANIZER;CN="Tony Morpeth":MAILTO:morpeth1935@icloud.com
END:VEVENT
BEGIN:VEVENT
DTSTART;TZID=Europe/London:20180715T103000
DTEND;TZID=Europe/London:20180715T103000
DTSTAMP:20260423T225703
CREATED:20180707T125306Z
LAST-MODIFIED:20180707T125306Z
UID:2744-1531650600-1531650600@dorsetvmcc.co.uk
SUMMARY:Bournemouth & New Forest Section : King's Valley Run 2018
DESCRIPTION:10:30 a.m. for an 11:00 a.m. start. Click the link below for the route instructions: \nBournemouth & New Forest King’s Valley Run 15th July 2018
URL:https://dorsetvmcc.co.uk/event/bournemouth-new-forest-section-kings-valley-run-2018/
LOCATION:Hurn Bridge Sports Club\, BH23 6DY
CATEGORIES:Run
ORGANIZER;CN="Dave King":MAILTO:davidking_309@hotmail.com
END:VEVENT
BEGIN:VEVENT
DTSTART;TZID=Europe/London:20180715T103000
DTEND;TZID=Europe/London:20180715T153000
DTSTAMP:20260423T225703
CREATED:20180530T063115Z
LAST-MODIFIED:20180530T063115Z
UID:2424-1531650600-1531668600@dorsetvmcc.co.uk
SUMMARY:Wessex V&V Section : On the Beaded Edge Run
DESCRIPTION:http://www.vmccwessexveteranandvintage.com/event/on-the-beaded-edge-run/
URL:https://dorsetvmcc.co.uk/event/wessex-vv-section-on-the-beaded-edge-run/
LOCATION:Old Ox Inn\, The Old Ox Inn\, Blandford Road\, Shillingstone\,\, DT11 0SF\, United Kingdom
CATEGORIES:Run
END:VEVENT
BEGIN:VEVENT
DTSTART;VALUE=DATE:20180722
DTEND;VALUE=DATE:20180723
DTSTAMP:20260423T225703
CREATED:20180428T173917Z
LAST-MODIFIED:20180428T173917Z
UID:2193-1532217600-1532303999@dorsetvmcc.co.uk
SUMMARY:Founder's Day\, Stanford Hall
DESCRIPTION:http://www.thetaverners.com/founders.html
URL:https://dorsetvmcc.co.uk/event/founders-day-stanford-hall/
LOCATION:Stanford Hall\, LE17 6DH
END:VEVENT
BEGIN:VEVENT
DTSTART;TZID=Europe/London:20180728T100000
DTEND;TZID=Europe/London:20180728T110000
DTSTAMP:20260423T225703
CREATED:20170825T090448Z
LAST-MODIFIED:20171130T114945Z
UID:1185-1532772000-1532775600@dorsetvmcc.co.uk
SUMMARY:Breakfast Meet
DESCRIPTION:
URL:https://dorsetvmcc.co.uk/event/breakfast-meet-5-2-7/
LOCATION:Riverside Cafe\, West Stour\, SP8 5RJ\, United Kingdom
CATEGORIES:Meet
ORGANIZER;CN="Rod Hann":MAILTO:rodhann@hotmail.co.uk
END:VEVENT
BEGIN:VEVENT
DTSTART;TZID=Europe/London:20180729T110000
DTEND;TZID=Europe/London:20180729T110000
DTSTAMP:20260423T225703
CREATED:20170415T185923Z
LAST-MODIFIED:20180721T070236Z
UID:1061-1532862000-1532862000@dorsetvmcc.co.uk
SUMMARY:Jeff Clew Memorial Run
DESCRIPTION:Two routes\, both starting and ending at the Haynes Motor Museum and both with a coffee stop. \nBoth start at 11am so get there earlier to sign-on and grab a coffee from the Haynes café. \n\nRoute 1 : 42 miles in length for Veteran and Early bikes\nRoute 2 : 70 miles in length…for everyone else.
URL:https://dorsetvmcc.co.uk/event/jeff-clew-memorial-run-2/
LOCATION:Haynes Motor Museum\, Sparkford\, Yeovil\, BA22 7LH\, United Kingdom
CATEGORIES:Run
ORGANIZER;CN="Rod Hann":MAILTO:rodhann@hotmail.co.uk
END:VEVENT
END:VCALENDAR