BEGIN:VCALENDAR
VERSION:2.0
PRODID:-//VMCC Dorset Section - ECPv6.15.20//NONSGML v1.0//EN
CALSCALE:GREGORIAN
METHOD:PUBLISH
X-WR-CALNAME:VMCC Dorset Section
X-ORIGINAL-URL:https://dorsetvmcc.co.uk
X-WR-CALDESC:Events for VMCC Dorset Section
REFRESH-INTERVAL;VALUE=DURATION:PT1H
X-Robots-Tag:noindex
X-PUBLISHED-TTL:PT1H
BEGIN:VTIMEZONE
TZID:Europe/London
BEGIN:DAYLIGHT
TZOFFSETFROM:+0000
TZOFFSETTO:+0100
TZNAME:BST
DTSTART:20170326T010000
END:DAYLIGHT
BEGIN:STANDARD
TZOFFSETFROM:+0100
TZOFFSETTO:+0000
TZNAME:GMT
DTSTART:20171029T010000
END:STANDARD
BEGIN:DAYLIGHT
TZOFFSETFROM:+0000
TZOFFSETTO:+0100
TZNAME:BST
DTSTART:20180325T010000
END:DAYLIGHT
BEGIN:STANDARD
TZOFFSETFROM:+0100
TZOFFSETTO:+0000
TZNAME:GMT
DTSTART:20181028T010000
END:STANDARD
BEGIN:DAYLIGHT
TZOFFSETFROM:+0000
TZOFFSETTO:+0100
TZNAME:BST
DTSTART:20190331T010000
END:DAYLIGHT
BEGIN:STANDARD
TZOFFSETFROM:+0100
TZOFFSETTO:+0000
TZNAME:GMT
DTSTART:20191027T010000
END:STANDARD
END:VTIMEZONE
BEGIN:VEVENT
DTSTART;TZID=Europe/London:20180801T120000
DTEND;TZID=Europe/London:20180801T130000
DTSTAMP:20260423T214432
CREATED:20171130T112835Z
LAST-MODIFIED:20171130T114945Z
UID:1163-1533124800-1533128400@dorsetvmcc.co.uk
SUMMARY:Lunch Meet
DESCRIPTION:
URL:https://dorsetvmcc.co.uk/event/lunch-meet-9-9/
LOCATION:Riverside Cafe\, West Stour\, SP8 5RJ\, United Kingdom
CATEGORIES:Meet
ORGANIZER;CN="Rod Hann":MAILTO:rodhann@hotmail.co.uk
END:VEVENT
BEGIN:VEVENT
DTSTART;TZID=Europe/London:20180808T193000
DTEND;TZID=Europe/London:20180808T220000
DTSTAMP:20260423T214432
CREATED:20171018T180653Z
LAST-MODIFIED:20171129T201828Z
UID:1034-1533756600-1533765600@dorsetvmcc.co.uk
SUMMARY:Club Night - Autojumble and BBQ
DESCRIPTION:
URL:https://dorsetvmcc.co.uk/event/autojumble-and-bbq/
LOCATION:Henstridge Golf and Leisure\, Henstridge Golf and Leisure\, Marsh Lane\, Henstridge\, BA8 0TG\, United Kingdom
CATEGORIES:Autojumble,Club Night
ORGANIZER;CN="Ray Dickinson":MAILTO:raylinda228@gmail.com
END:VEVENT
BEGIN:VEVENT
DTSTART;TZID=Europe/London:20180812T110000
DTEND;TZID=Europe/London:20180812T110000
DTSTAMP:20260423T214432
CREATED:20170416T050053Z
LAST-MODIFIED:20180721T072031Z
UID:1065-1534071600-1534071600@dorsetvmcc.co.uk
SUMMARY:Border Run
DESCRIPTION:After the run\, there is an optional Carvery lunch.  If you want this Carvery\, you must pre-book directly with Sandy at Henstridge Golf and Leisure. \nNote: This run no longer starts at Orchard Park Grn Centre.
URL:https://dorsetvmcc.co.uk/event/border-run-2/
LOCATION:Henstridge Golf and Leisure\, Henstridge Golf and Leisure\, Marsh Lane\, Henstridge\, BA8 0TG\, United Kingdom
CATEGORIES:Run
ORGANIZER;CN="Gabby Hunt":MAILTO:gabby.hunt@outlook.com
END:VEVENT
BEGIN:VEVENT
DTSTART;TZID=Europe/London:20180822T190000
DTEND;TZID=Europe/London:20180822T190000
DTSTAMP:20260423T214432
CREATED:20180529T101518Z
LAST-MODIFIED:20180813T105451Z
UID:2404-1534964400-1534964400@dorsetvmcc.co.uk
SUMMARY:Alastair Alexendar Visit to Members from the SW Sections
DESCRIPTION:Come and meet our new VMCC President. This is an informal visit; an opportunity for Alastair to meet members from the South West Sections and for us to meet him. \n“I am really looking forward to my visit to your area. In August I will be nearly six months into my term as your President and meetings like yours are a great chance for members to give me feedback on our efforts to improve the Club.” \nThe Dorset Section will be hosting the event as we probably have the most suitable venue at Henstridge Golf and Leisure and we hope to have many members attending from the surrounding Sections. \nFrom the Wessex V&V Section\, Bettie Barber will introduce Alastair and Ian Clarke will chair the meeting. \nAlastair Alexander\n\n			\n				\n			\n				\n				Alastair Alexander\n				\n			\n				\n			\n				\n				Alastair Alexander
URL:https://dorsetvmcc.co.uk/event/alastair-alexendar-visit-to-members-from-the-sw-sections/
LOCATION:Henstridge Golf and Leisure\, Henstridge Golf and Leisure\, Marsh Lane\, Henstridge\, BA8 0TG\, United Kingdom
CATEGORIES:Club Night
END:VEVENT
BEGIN:VEVENT
DTSTART;TZID=Europe/London:20180825T100000
DTEND;TZID=Europe/London:20180825T110000
DTSTAMP:20260423T214432
CREATED:20170825T090448Z
LAST-MODIFIED:20171130T114945Z
UID:1186-1535191200-1535194800@dorsetvmcc.co.uk
SUMMARY:Breakfast Meet
DESCRIPTION:
URL:https://dorsetvmcc.co.uk/event/breakfast-meet-5-2-8/
LOCATION:Riverside Cafe\, West Stour\, SP8 5RJ\, United Kingdom
CATEGORIES:Meet
ORGANIZER;CN="Rod Hann":MAILTO:rodhann@hotmail.co.uk
END:VEVENT
END:VCALENDAR