BEGIN:VCALENDAR
VERSION:2.0
PRODID:-//VMCC Dorset Section - ECPv6.15.20//NONSGML v1.0//EN
CALSCALE:GREGORIAN
METHOD:PUBLISH
X-WR-CALNAME:VMCC Dorset Section
X-ORIGINAL-URL:https://dorsetvmcc.co.uk
X-WR-CALDESC:Events for VMCC Dorset Section
REFRESH-INTERVAL;VALUE=DURATION:PT1H
X-Robots-Tag:noindex
X-PUBLISHED-TTL:PT1H
BEGIN:VTIMEZONE
TZID:Europe/London
BEGIN:DAYLIGHT
TZOFFSETFROM:+0000
TZOFFSETTO:+0100
TZNAME:BST
DTSTART:20170326T010000
END:DAYLIGHT
BEGIN:STANDARD
TZOFFSETFROM:+0100
TZOFFSETTO:+0000
TZNAME:GMT
DTSTART:20171029T010000
END:STANDARD
BEGIN:DAYLIGHT
TZOFFSETFROM:+0000
TZOFFSETTO:+0100
TZNAME:BST
DTSTART:20180325T010000
END:DAYLIGHT
BEGIN:STANDARD
TZOFFSETFROM:+0100
TZOFFSETTO:+0000
TZNAME:GMT
DTSTART:20181028T010000
END:STANDARD
BEGIN:DAYLIGHT
TZOFFSETFROM:+0000
TZOFFSETTO:+0100
TZNAME:BST
DTSTART:20190331T010000
END:DAYLIGHT
BEGIN:STANDARD
TZOFFSETFROM:+0100
TZOFFSETTO:+0000
TZNAME:GMT
DTSTART:20191027T010000
END:STANDARD
END:VTIMEZONE
BEGIN:VEVENT
DTSTART;TZID=Europe/London:20181205T120000
DTEND;TZID=Europe/London:20181205T130000
DTSTAMP:20260423T162554
CREATED:20171130T112835Z
LAST-MODIFIED:20181012T070259Z
UID:1159-1544011200-1544014800@dorsetvmcc.co.uk
SUMMARY:Lunch Meet
DESCRIPTION:
URL:https://dorsetvmcc.co.uk/event/lunch-meet-9/
LOCATION:Henstridge Golf and Leisure\, Henstridge Golf and Leisure\, Marsh Lane\, Henstridge\, BA8 0TG\, United Kingdom
CATEGORIES:Meet
ORGANIZER;CN="Rod Hann":MAILTO:rodhann@hotmail.co.uk
END:VEVENT
BEGIN:VEVENT
DTSTART;TZID=Europe/London:20181212T193000
DTEND;TZID=Europe/London:20181212T220000
DTSTAMP:20260423T162554
CREATED:20171018T180653Z
LAST-MODIFIED:20171129T201012Z
UID:1042-1544643000-1544652000@dorsetvmcc.co.uk
SUMMARY:Club Night - Social Evening and Buffet
DESCRIPTION:
URL:https://dorsetvmcc.co.uk/event/social-evening-and-buffet/
LOCATION:Henstridge Golf and Leisure\, Henstridge Golf and Leisure\, Marsh Lane\, Henstridge\, BA8 0TG\, United Kingdom
CATEGORIES:Club Night
ORGANIZER;CN="Phil Allen":MAILTO:allenphill@hotmail.com
END:VEVENT
BEGIN:VEVENT
DTSTART;TZID=Europe/London:20181216T123000
DTEND;TZID=Europe/London:20181216T123000
DTSTAMP:20260423T162554
CREATED:20171018T193823Z
LAST-MODIFIED:20181017T192236Z
UID:1071-1544963400-1544963400@dorsetvmcc.co.uk
SUMMARY:Christmas Lunch
DESCRIPTION:Our Christmas Lunch takes place at Henstridge Golf and Leisure on Sunday 16th December 2018 12:30 for 13:00. If you would like to come\, please note the following. \n1. There is a maximum of 40 places\, so please book as soon as possible to avoid disappointment. \n2. Click on the image to the left to see the full menu\, or download the PDF version here. Note\, there is a 2 course or 3 course option with different prices.  Choose from the menu! \n3. To reserve one or more places\, please contact our Treasurer\, John Adams\, on 01963 251890 or at  jjads44@gmail.com.  When contacting John\, please let him know your menu choices. \n4. You must pay John by Sunday 18th November at the latest; the Club Quiz Night on the 14th November would be the best time. Cash or cheque payable to “VMCC Dorset Section” please.
URL:https://dorsetvmcc.co.uk/event/christmas-lunch/
LOCATION:Henstridge Golf and Leisure\, Henstridge Golf and Leisure\, Marsh Lane\, Henstridge\, BA8 0TG\, United Kingdom
CATEGORIES:Club Night
END:VEVENT
BEGIN:VEVENT
DTSTART;TZID=Europe/London:20181229T100000
DTEND;TZID=Europe/London:20181229T110000
DTSTAMP:20260423T162554
CREATED:20170825T090448Z
LAST-MODIFIED:20181012T070431Z
UID:1202-1546077600-1546081200@dorsetvmcc.co.uk
SUMMARY:Breakfast Meet
DESCRIPTION:
URL:https://dorsetvmcc.co.uk/event/breakfast-meet-5-2-12/
LOCATION:Henstridge Golf and Leisure\, Henstridge Golf and Leisure\, Marsh Lane\, Henstridge\, BA8 0TG\, United Kingdom
CATEGORIES:Meet
ORGANIZER;CN="Rod Hann":MAILTO:rodhann@hotmail.co.uk
END:VEVENT
END:VCALENDAR