BEGIN:VCALENDAR
VERSION:2.0
PRODID:-//VMCC Dorset Section - ECPv6.15.20//NONSGML v1.0//EN
CALSCALE:GREGORIAN
METHOD:PUBLISH
X-WR-CALNAME:VMCC Dorset Section
X-ORIGINAL-URL:https://dorsetvmcc.co.uk
X-WR-CALDESC:Events for VMCC Dorset Section
REFRESH-INTERVAL;VALUE=DURATION:PT1H
X-Robots-Tag:noindex
X-PUBLISHED-TTL:PT1H
BEGIN:VTIMEZONE
TZID:Europe/London
BEGIN:DAYLIGHT
TZOFFSETFROM:+0000
TZOFFSETTO:+0100
TZNAME:BST
DTSTART:20180325T010000
END:DAYLIGHT
BEGIN:STANDARD
TZOFFSETFROM:+0100
TZOFFSETTO:+0000
TZNAME:GMT
DTSTART:20181028T010000
END:STANDARD
BEGIN:DAYLIGHT
TZOFFSETFROM:+0000
TZOFFSETTO:+0100
TZNAME:BST
DTSTART:20190331T010000
END:DAYLIGHT
BEGIN:STANDARD
TZOFFSETFROM:+0100
TZOFFSETTO:+0000
TZNAME:GMT
DTSTART:20191027T010000
END:STANDARD
BEGIN:DAYLIGHT
TZOFFSETFROM:+0000
TZOFFSETTO:+0100
TZNAME:BST
DTSTART:20200329T010000
END:DAYLIGHT
BEGIN:STANDARD
TZOFFSETFROM:+0100
TZOFFSETTO:+0000
TZNAME:GMT
DTSTART:20201025T010000
END:STANDARD
END:VTIMEZONE
BEGIN:VEVENT
DTSTART;TZID=Europe/London:20190101T104500
DTEND;TZID=Europe/London:20190101T130000
DTSTAMP:20260423T145621
CREATED:20171018T190329Z
LAST-MODIFIED:20181213T042006Z
UID:3297-1546339500-1546347600@dorsetvmcc.co.uk
SUMMARY:New Year's Day Run
DESCRIPTION:There is a carvery lunch after the ride costing about £8.  This can be booked at the next Club Night on 12th December.
URL:https://dorsetvmcc.co.uk/event/new-years-day-run-2/
LOCATION:Streeter’s Carpet Shop\, Station Road\, Sturminster Newton\, DT10 1BD\, United Kingdom
CATEGORIES:Run
ORGANIZER;CN="Gabby Hunt":MAILTO:gabby.hunt@outlook.com
END:VEVENT
BEGIN:VEVENT
DTSTART;TZID=Europe/London:20190102T120000
DTEND;TZID=Europe/London:20190102T130000
DTSTAMP:20260423T145621
CREATED:20171130T112835Z
LAST-MODIFIED:20181018T200310Z
UID:3211-1546430400-1546434000@dorsetvmcc.co.uk
SUMMARY:Lunch Meet
DESCRIPTION:
URL:https://dorsetvmcc.co.uk/event/lunch-meet-9-13/
LOCATION:Henstridge Golf and Leisure\, Henstridge Golf and Leisure\, Marsh Lane\, Henstridge\, BA8 0TG\, United Kingdom
CATEGORIES:Meet
ORGANIZER;CN="Paul Miles":MAILTO:pauledwinmiles@me.com
END:VEVENT
BEGIN:VEVENT
DTSTART;TZID=Europe/London:20190109T193000
DTEND;TZID=Europe/London:20190109T220000
DTSTAMP:20260423T145621
CREATED:20171018T180653Z
LAST-MODIFIED:20181019T083704Z
UID:3259-1547062200-1547071200@dorsetvmcc.co.uk
SUMMARY:Club Night - Bill Southcombe : Tales from a Vulcan
DESCRIPTION:
URL:https://dorsetvmcc.co.uk/event/club-night/
LOCATION:Henstridge Golf and Leisure\, Henstridge Golf and Leisure\, Marsh Lane\, Henstridge\, BA8 0TG\, United Kingdom
CATEGORIES:Club Night
END:VEVENT
BEGIN:VEVENT
DTSTART;TZID=Europe/London:20190120T110000
DTEND;TZID=Europe/London:20190120T110000
DTSTAMP:20260423T145621
CREATED:20171010T203202Z
LAST-MODIFIED:20181019T090002Z
UID:3299-1547982000-1547982000@dorsetvmcc.co.uk
SUMMARY:Winter Run
DESCRIPTION:
URL:https://dorsetvmcc.co.uk/event/winter-run-2-3/
LOCATION:Dikes Supermarket\, Ring St\,\, Stalbridge\, DT10 2NB\, United Kingdom
CATEGORIES:Run
ORGANIZER;CN="Bob Hoare":MAILTO:bobandmarj@btinternet.com
END:VEVENT
BEGIN:VEVENT
DTSTART;TZID=Europe/London:20190126T100000
DTEND;TZID=Europe/London:20190126T110000
DTSTAMP:20260423T145621
CREATED:20170825T090448Z
LAST-MODIFIED:20181019T040217Z
UID:3235-1548496800-1548500400@dorsetvmcc.co.uk
SUMMARY:Breakfast Meet
DESCRIPTION:
URL:https://dorsetvmcc.co.uk/event/breakfast-meet-5-2-12-2/
LOCATION:Henstridge Golf and Leisure\, Henstridge Golf and Leisure\, Marsh Lane\, Henstridge\, BA8 0TG\, United Kingdom
CATEGORIES:Meet
ORGANIZER;CN="Paul Miles":MAILTO:pauledwinmiles@me.com
END:VEVENT
END:VCALENDAR